BEGIN:VCALENDAR
VERSION:2.0
PRODID:-//Play Pittsburgh - ECPv6.15.20//NONSGML v1.0//EN
CALSCALE:GREGORIAN
METHOD:PUBLISH
X-WR-CALNAME:Play Pittsburgh
X-ORIGINAL-URL:https://playpittsburgh.com
X-WR-CALDESC:Events for Play Pittsburgh
REFRESH-INTERVAL;VALUE=DURATION:PT1H
X-Robots-Tag:noindex
X-PUBLISHED-TTL:PT1H
BEGIN:VTIMEZONE
TZID:America/New_York
BEGIN:DAYLIGHT
TZOFFSETFROM:-0500
TZOFFSETTO:-0400
TZNAME:EDT
DTSTART:20130310T070000
END:DAYLIGHT
BEGIN:STANDARD
TZOFFSETFROM:-0400
TZOFFSETTO:-0500
TZNAME:EST
DTSTART:20131103T060000
END:STANDARD
BEGIN:DAYLIGHT
TZOFFSETFROM:-0500
TZOFFSETTO:-0400
TZNAME:EDT
DTSTART:20140309T070000
END:DAYLIGHT
BEGIN:STANDARD
TZOFFSETFROM:-0400
TZOFFSETTO:-0500
TZNAME:EST
DTSTART:20141102T060000
END:STANDARD
BEGIN:DAYLIGHT
TZOFFSETFROM:-0500
TZOFFSETTO:-0400
TZNAME:EDT
DTSTART:20150308T070000
END:DAYLIGHT
BEGIN:STANDARD
TZOFFSETFROM:-0400
TZOFFSETTO:-0500
TZNAME:EST
DTSTART:20151101T060000
END:STANDARD
END:VTIMEZONE
BEGIN:VEVENT
DTSTART;TZID=America/New_York:20141129T110000
DTEND;TZID=America/New_York:20141129T130000
DTSTAMP:20260422T075514
CREATED:20141114T004358Z
LAST-MODIFIED:20141114T004358Z
UID:4438-1417258800-1417266000@playpittsburgh.com
SUMMARY:Zelienople Annual Christmas Parade
DESCRIPTION:November 29\, 2014- 11:00 AM\nZelienople Annual Christmas Parade on Main Street Zelienople
URL:https://playpittsburgh.com/event/zelienople-annual-christmas-parade/
LOCATION:Zelienople
ATTACH;FMTTYPE=image/jpeg:https://playpittsburgh.com/wp-content/uploads/2015/03/kids-castle-2.jpg
END:VEVENT
BEGIN:VEVENT
DTSTART;VALUE=DATE:20140717
DTEND;VALUE=DATE:20140720
DTSTAMP:20260422T075514
CREATED:20140626T042059Z
LAST-MODIFIED:20140626T042059Z
UID:2155-1405555200-1405814399@playpittsburgh.com
SUMMARY:Zelienople Horse Trading Days
DESCRIPTION:Don’t miss the horse parade on Friday\, July 18th at 7pm! \nThe event\, now celebrating its 51st year\, has grown to one of the largest in the area and welcomes as many as 40\,000 guests each year. Tour the historic sites\, enjoy the free concerts\, explore unique stores\, and dine at fine restaurants and cafes. \nHorse Trading Days is an annual event of the Zelienople-Harmony Business Association and is made possible through the support of local residents\, businesses\, police and fire police\, Zelienople Borough\, and many more.
URL:https://playpittsburgh.com/event/zelienople-horse-trading-days/
LOCATION:Zelienople
CATEGORIES:Festivals,Free,Outdoor
END:VEVENT
END:VCALENDAR