BEGIN:VCALENDAR
VERSION:2.0
PRODID:-//Play Pittsburgh - ECPv6.15.20//NONSGML v1.0//EN
CALSCALE:GREGORIAN
METHOD:PUBLISH
X-ORIGINAL-URL:https://playpittsburgh.com
X-WR-CALDESC:Events for Play Pittsburgh
REFRESH-INTERVAL;VALUE=DURATION:PT1H
X-Robots-Tag:noindex
X-PUBLISHED-TTL:PT1H
BEGIN:VTIMEZONE
TZID:America/New_York
BEGIN:DAYLIGHT
TZOFFSETFROM:-0500
TZOFFSETTO:-0400
TZNAME:EDT
DTSTART:20130310T070000
END:DAYLIGHT
BEGIN:STANDARD
TZOFFSETFROM:-0400
TZOFFSETTO:-0500
TZNAME:EST
DTSTART:20131103T060000
END:STANDARD
BEGIN:DAYLIGHT
TZOFFSETFROM:-0500
TZOFFSETTO:-0400
TZNAME:EDT
DTSTART:20140309T070000
END:DAYLIGHT
BEGIN:STANDARD
TZOFFSETFROM:-0400
TZOFFSETTO:-0500
TZNAME:EST
DTSTART:20141102T060000
END:STANDARD
BEGIN:DAYLIGHT
TZOFFSETFROM:-0500
TZOFFSETTO:-0400
TZNAME:EDT
DTSTART:20150308T070000
END:DAYLIGHT
BEGIN:STANDARD
TZOFFSETFROM:-0400
TZOFFSETTO:-0500
TZNAME:EST
DTSTART:20151101T060000
END:STANDARD
END:VTIMEZONE
BEGIN:VEVENT
DTSTART;TZID=America/New_York:20141112T150000
DTEND;TZID=America/New_York:20141112T160000
DTSTAMP:20260422T071142
CREATED:20141031T034039Z
LAST-MODIFIED:20141031T034039Z
UID:6903-1415804400-1415808000@playpittsburgh.com
SUMMARY:DinoPalooza Wilkinsburg Public Library
DESCRIPTION:Dinosaurs! Dinosaurs! Dinosaurs! The Wilkinsburg Public Library will have dinosaur fun for everyone! Cool specimens and artifacts from the Carnegie Museum of Natural History will be here to interact with. For all ages.
URL:https://playpittsburgh.com/event/dinopalooza-wilkinsburg-public-library-2/
LOCATION:Wilkinsburg Public Library\, 605 Ross Ave\, Wilkinsburg\, PA\, 15221\, United States
ATTACH;FMTTYPE=:
GEO:40.4432388;-79.8860426
X-APPLE-STRUCTURED-LOCATION;VALUE=URI;X-ADDRESS=Wilkinsburg Public Library 605 Ross Ave Wilkinsburg PA 15221 United States;X-APPLE-RADIUS=500;X-TITLE=605 Ross Ave:geo:-79.8860426,40.4432388
END:VEVENT
BEGIN:VEVENT
DTSTART;TZID=America/New_York:20141104T160000
DTEND;TZID=America/New_York:20141104T173000
DTSTAMP:20260422T071142
CREATED:20141030T211732Z
LAST-MODIFIED:20141030T211732Z
UID:4170-1415116800-1415122200@playpittsburgh.com
SUMMARY:DinoPalooza Wilkinsburg Public Library
DESCRIPTION:Dinosaurs! Dinosaurs! Dinosaurs! Wilkinsburg Public Library will have dinosaur fun for everyone! Cool specimens and artifacts from the Carnegie Museum of Natural History will be here to interact with. For all ages.
URL:https://playpittsburgh.com/event/dinopalooza-wilkinsburg-public-library/
LOCATION:Wilkinsburg Public Library\, 605 Ross Ave\, Wilkinsburg\, PA\, 15221\, United States
ATTACH;FMTTYPE=:
GEO:40.4432388;-79.8860426
X-APPLE-STRUCTURED-LOCATION;VALUE=URI;X-ADDRESS=Wilkinsburg Public Library 605 Ross Ave Wilkinsburg PA 15221 United States;X-APPLE-RADIUS=500;X-TITLE=605 Ross Ave:geo:-79.8860426,40.4432388
END:VEVENT
END:VCALENDAR