BEGIN:VCALENDAR
VERSION:2.0
PRODID:-//Play Pittsburgh - ECPv6.15.20//NONSGML v1.0//EN
CALSCALE:GREGORIAN
METHOD:PUBLISH
X-WR-CALNAME:Play Pittsburgh
X-ORIGINAL-URL:https://playpittsburgh.com
X-WR-CALDESC:Events for Play Pittsburgh
REFRESH-INTERVAL;VALUE=DURATION:PT1H
X-Robots-Tag:noindex
X-PUBLISHED-TTL:PT1H
BEGIN:VTIMEZONE
TZID:America/New_York
BEGIN:DAYLIGHT
TZOFFSETFROM:-0500
TZOFFSETTO:-0400
TZNAME:EDT
DTSTART:20140309T070000
END:DAYLIGHT
BEGIN:STANDARD
TZOFFSETFROM:-0400
TZOFFSETTO:-0500
TZNAME:EST
DTSTART:20141102T060000
END:STANDARD
BEGIN:DAYLIGHT
TZOFFSETFROM:-0500
TZOFFSETTO:-0400
TZNAME:EDT
DTSTART:20150308T070000
END:DAYLIGHT
BEGIN:STANDARD
TZOFFSETFROM:-0400
TZOFFSETTO:-0500
TZNAME:EST
DTSTART:20151101T060000
END:STANDARD
BEGIN:DAYLIGHT
TZOFFSETFROM:-0500
TZOFFSETTO:-0400
TZNAME:EDT
DTSTART:20160313T070000
END:DAYLIGHT
BEGIN:STANDARD
TZOFFSETFROM:-0400
TZOFFSETTO:-0500
TZNAME:EST
DTSTART:20161106T060000
END:STANDARD
END:VTIMEZONE
BEGIN:VEVENT
DTSTART;TZID=America/New_York:20150404T103000
DTEND;TZID=America/New_York:20150404T120000
DTSTAMP:20260423T031735
CREATED:20150329T004000Z
LAST-MODIFIED:20150329T004000Z
UID:5954-1428143400-1428148800@playpittsburgh.com
SUMMARY:West Mifflin Kids Easter Egg Hunt
DESCRIPTION:Children ages 12 yrs and younger are invited to West Mifflin High School on April 4th from 10:30am-12pm to participate in an Easter egg hunt. Each child will receive an Easter treat bag!
URL:https://playpittsburgh.com/event/west-mifflin-kids-easter-egg-hunt/
LOCATION:West Mifflin Area High School\, 91 Commonwealth Ave\, West Mifflin\, PA\, 15122\, United States
GEO:40.3824495;-79.8747199
X-APPLE-STRUCTURED-LOCATION;VALUE=URI;X-ADDRESS=West Mifflin Area High School 91 Commonwealth Ave West Mifflin PA 15122 United States;X-APPLE-RADIUS=500;X-TITLE=91 Commonwealth Ave:geo:-79.8747199,40.3824495
END:VEVENT
END:VCALENDAR