BEGIN:VCALENDAR
VERSION:2.0
PRODID:-//Play Pittsburgh - ECPv6.15.20//NONSGML v1.0//EN
CALSCALE:GREGORIAN
METHOD:PUBLISH
X-WR-CALNAME:Play Pittsburgh
X-ORIGINAL-URL:https://playpittsburgh.com
X-WR-CALDESC:Events for Play Pittsburgh
REFRESH-INTERVAL;VALUE=DURATION:PT1H
X-Robots-Tag:noindex
X-PUBLISHED-TTL:PT1H
BEGIN:VTIMEZONE
TZID:America/New_York
BEGIN:DAYLIGHT
TZOFFSETFROM:-0500
TZOFFSETTO:-0400
TZNAME:EDT
DTSTART:20130310T070000
END:DAYLIGHT
BEGIN:STANDARD
TZOFFSETFROM:-0400
TZOFFSETTO:-0500
TZNAME:EST
DTSTART:20131103T060000
END:STANDARD
BEGIN:DAYLIGHT
TZOFFSETFROM:-0500
TZOFFSETTO:-0400
TZNAME:EDT
DTSTART:20140309T070000
END:DAYLIGHT
BEGIN:STANDARD
TZOFFSETFROM:-0400
TZOFFSETTO:-0500
TZNAME:EST
DTSTART:20141102T060000
END:STANDARD
BEGIN:DAYLIGHT
TZOFFSETFROM:-0500
TZOFFSETTO:-0400
TZNAME:EDT
DTSTART:20150308T070000
END:DAYLIGHT
BEGIN:STANDARD
TZOFFSETFROM:-0400
TZOFFSETTO:-0500
TZNAME:EST
DTSTART:20151101T060000
END:STANDARD
BEGIN:DAYLIGHT
TZOFFSETFROM:-0500
TZOFFSETTO:-0400
TZNAME:EDT
DTSTART:20160313T070000
END:DAYLIGHT
BEGIN:STANDARD
TZOFFSETFROM:-0400
TZOFFSETTO:-0500
TZNAME:EST
DTSTART:20161106T060000
END:STANDARD
END:VTIMEZONE
BEGIN:VEVENT
DTSTART;TZID=America/New_York:20150818T210000
DTEND;TZID=America/New_York:20150818T230000
DTSTAMP:20260421T215017
CREATED:20150529T225905Z
LAST-MODIFIED:20150529T225905Z
UID:8721-1439931600-1439938800@playpittsburgh.com
SUMMARY:Cinema in the Park - West End/Elliott Overlook
DESCRIPTION:Watch movies in the park with a scenic view of the city in the background! Movies begin at dusk (around 9pm) every Tuesday through August 25th. \n\nJune 9 The Sandlot (PG)\nJune 16 Maleficent (PG)\nJune 23 The Hundred-Foot Journey (PG)\nJune 30 The Boxtrolls (PG)\nJuly 7 Cantinflas(PG)\nJuly 14 The Lego Movie (PG)\nJuly 21 The Wizard f Oz (NR)\nJuly 28 Big Hero 6 (PG)\nAugust 4 Earth to Echo (PG)\nAugust 11 When the Game Stands Tall (G)\nAugust 18 The Princess and the Frog (G)\nAugust 25 McFarland\, USA (PG)
URL:https://playpittsburgh.com/event/cinema-in-the-park-west-endelliott-overlook/2015-08-18/
LOCATION:West End/Elliot Overlook\, Rue Grand View Street\, Pittsburgh\, PA\, 15220\, United States
GEO:40.4319296;-80.0073467
X-APPLE-STRUCTURED-LOCATION;VALUE=URI;X-ADDRESS=West End/Elliot Overlook Rue Grand View Street Pittsburgh PA 15220 United States;X-APPLE-RADIUS=500;X-TITLE=Rue Grand View Street:geo:-80.0073467,40.4319296
END:VEVENT
BEGIN:VEVENT
DTSTART;TZID=America/New_York:20150811T210000
DTEND;TZID=America/New_York:20150811T230000
DTSTAMP:20260421T215017
CREATED:20150529T225905Z
LAST-MODIFIED:20150529T225905Z
UID:8720-1439326800-1439334000@playpittsburgh.com
SUMMARY:Cinema in the Park - West End/Elliott Overlook
DESCRIPTION:Watch movies in the park with a scenic view of the city in the background! Movies begin at dusk (around 9pm) every Tuesday through August 25th. \n\nJune 9 The Sandlot (PG)\nJune 16 Maleficent (PG)\nJune 23 The Hundred-Foot Journey (PG)\nJune 30 The Boxtrolls (PG)\nJuly 7 Cantinflas(PG)\nJuly 14 The Lego Movie (PG)\nJuly 21 The Wizard f Oz (NR)\nJuly 28 Big Hero 6 (PG)\nAugust 4 Earth to Echo (PG)\nAugust 11 When the Game Stands Tall (G)\nAugust 18 The Princess and the Frog (G)\nAugust 25 McFarland\, USA (PG)
URL:https://playpittsburgh.com/event/cinema-in-the-park-west-endelliott-overlook/2015-08-11/
LOCATION:West End/Elliot Overlook\, Rue Grand View Street\, Pittsburgh\, PA\, 15220\, United States
GEO:40.4319296;-80.0073467
X-APPLE-STRUCTURED-LOCATION;VALUE=URI;X-ADDRESS=West End/Elliot Overlook Rue Grand View Street Pittsburgh PA 15220 United States;X-APPLE-RADIUS=500;X-TITLE=Rue Grand View Street:geo:-80.0073467,40.4319296
END:VEVENT
BEGIN:VEVENT
DTSTART;TZID=America/New_York:20150804T210000
DTEND;TZID=America/New_York:20150804T230000
DTSTAMP:20260421T215017
CREATED:20150529T225905Z
LAST-MODIFIED:20150529T225905Z
UID:8719-1438722000-1438729200@playpittsburgh.com
SUMMARY:Cinema in the Park - West End/Elliott Overlook
DESCRIPTION:Watch movies in the park with a scenic view of the city in the background! Movies begin at dusk (around 9pm) every Tuesday through August 25th. \n\nJune 9 The Sandlot (PG)\nJune 16 Maleficent (PG)\nJune 23 The Hundred-Foot Journey (PG)\nJune 30 The Boxtrolls (PG)\nJuly 7 Cantinflas(PG)\nJuly 14 The Lego Movie (PG)\nJuly 21 The Wizard f Oz (NR)\nJuly 28 Big Hero 6 (PG)\nAugust 4 Earth to Echo (PG)\nAugust 11 When the Game Stands Tall (G)\nAugust 18 The Princess and the Frog (G)\nAugust 25 McFarland\, USA (PG)
URL:https://playpittsburgh.com/event/cinema-in-the-park-west-endelliott-overlook/2015-08-04/
LOCATION:West End/Elliot Overlook\, Rue Grand View Street\, Pittsburgh\, PA\, 15220\, United States
GEO:40.4319296;-80.0073467
X-APPLE-STRUCTURED-LOCATION;VALUE=URI;X-ADDRESS=West End/Elliot Overlook Rue Grand View Street Pittsburgh PA 15220 United States;X-APPLE-RADIUS=500;X-TITLE=Rue Grand View Street:geo:-80.0073467,40.4319296
END:VEVENT
BEGIN:VEVENT
DTSTART;TZID=America/New_York:20150728T210000
DTEND;TZID=America/New_York:20150728T230000
DTSTAMP:20260421T215017
CREATED:20150529T225905Z
LAST-MODIFIED:20150529T225905Z
UID:8718-1438117200-1438124400@playpittsburgh.com
SUMMARY:Cinema in the Park - West End/Elliott Overlook
DESCRIPTION:Watch movies in the park with a scenic view of the city in the background! Movies begin at dusk (around 9pm) every Tuesday through August 25th. \n\nJune 9 The Sandlot (PG)\nJune 16 Maleficent (PG)\nJune 23 The Hundred-Foot Journey (PG)\nJune 30 The Boxtrolls (PG)\nJuly 7 Cantinflas(PG)\nJuly 14 The Lego Movie (PG)\nJuly 21 The Wizard f Oz (NR)\nJuly 28 Big Hero 6 (PG)\nAugust 4 Earth to Echo (PG)\nAugust 11 When the Game Stands Tall (G)\nAugust 18 The Princess and the Frog (G)\nAugust 25 McFarland\, USA (PG)
URL:https://playpittsburgh.com/event/cinema-in-the-park-west-endelliott-overlook/2015-07-28/
LOCATION:West End/Elliot Overlook\, Rue Grand View Street\, Pittsburgh\, PA\, 15220\, United States
GEO:40.4319296;-80.0073467
X-APPLE-STRUCTURED-LOCATION;VALUE=URI;X-ADDRESS=West End/Elliot Overlook Rue Grand View Street Pittsburgh PA 15220 United States;X-APPLE-RADIUS=500;X-TITLE=Rue Grand View Street:geo:-80.0073467,40.4319296
END:VEVENT
BEGIN:VEVENT
DTSTART;TZID=America/New_York:20150721T210000
DTEND;TZID=America/New_York:20150721T230000
DTSTAMP:20260421T215017
CREATED:20150529T225905Z
LAST-MODIFIED:20150529T225905Z
UID:8717-1437512400-1437519600@playpittsburgh.com
SUMMARY:Cinema in the Park - West End/Elliott Overlook
DESCRIPTION:Watch movies in the park with a scenic view of the city in the background! Movies begin at dusk (around 9pm) every Tuesday through August 25th. \n\nJune 9 The Sandlot (PG)\nJune 16 Maleficent (PG)\nJune 23 The Hundred-Foot Journey (PG)\nJune 30 The Boxtrolls (PG)\nJuly 7 Cantinflas(PG)\nJuly 14 The Lego Movie (PG)\nJuly 21 The Wizard f Oz (NR)\nJuly 28 Big Hero 6 (PG)\nAugust 4 Earth to Echo (PG)\nAugust 11 When the Game Stands Tall (G)\nAugust 18 The Princess and the Frog (G)\nAugust 25 McFarland\, USA (PG)
URL:https://playpittsburgh.com/event/cinema-in-the-park-west-endelliott-overlook/2015-07-21/
LOCATION:West End/Elliot Overlook\, Rue Grand View Street\, Pittsburgh\, PA\, 15220\, United States
GEO:40.4319296;-80.0073467
X-APPLE-STRUCTURED-LOCATION;VALUE=URI;X-ADDRESS=West End/Elliot Overlook Rue Grand View Street Pittsburgh PA 15220 United States;X-APPLE-RADIUS=500;X-TITLE=Rue Grand View Street:geo:-80.0073467,40.4319296
END:VEVENT
BEGIN:VEVENT
DTSTART;TZID=America/New_York:20150714T210000
DTEND;TZID=America/New_York:20150714T230000
DTSTAMP:20260421T215017
CREATED:20150529T225905Z
LAST-MODIFIED:20150529T225905Z
UID:8716-1436907600-1436914800@playpittsburgh.com
SUMMARY:Cinema in the Park - West End/Elliott Overlook
DESCRIPTION:Watch movies in the park with a scenic view of the city in the background! Movies begin at dusk (around 9pm) every Tuesday through August 25th. \n\nJune 9 The Sandlot (PG)\nJune 16 Maleficent (PG)\nJune 23 The Hundred-Foot Journey (PG)\nJune 30 The Boxtrolls (PG)\nJuly 7 Cantinflas(PG)\nJuly 14 The Lego Movie (PG)\nJuly 21 The Wizard f Oz (NR)\nJuly 28 Big Hero 6 (PG)\nAugust 4 Earth to Echo (PG)\nAugust 11 When the Game Stands Tall (G)\nAugust 18 The Princess and the Frog (G)\nAugust 25 McFarland\, USA (PG)
URL:https://playpittsburgh.com/event/cinema-in-the-park-west-endelliott-overlook/2015-07-14/
LOCATION:West End/Elliot Overlook\, Rue Grand View Street\, Pittsburgh\, PA\, 15220\, United States
GEO:40.4319296;-80.0073467
X-APPLE-STRUCTURED-LOCATION;VALUE=URI;X-ADDRESS=West End/Elliot Overlook Rue Grand View Street Pittsburgh PA 15220 United States;X-APPLE-RADIUS=500;X-TITLE=Rue Grand View Street:geo:-80.0073467,40.4319296
END:VEVENT
BEGIN:VEVENT
DTSTART;TZID=America/New_York:20150707T210000
DTEND;TZID=America/New_York:20150707T230000
DTSTAMP:20260421T215017
CREATED:20150529T225905Z
LAST-MODIFIED:20150529T225905Z
UID:8715-1436302800-1436310000@playpittsburgh.com
SUMMARY:Cinema in the Park - West End/Elliott Overlook
DESCRIPTION:Watch movies in the park with a scenic view of the city in the background! Movies begin at dusk (around 9pm) every Tuesday through August 25th. \n\nJune 9 The Sandlot (PG)\nJune 16 Maleficent (PG)\nJune 23 The Hundred-Foot Journey (PG)\nJune 30 The Boxtrolls (PG)\nJuly 7 Cantinflas(PG)\nJuly 14 The Lego Movie (PG)\nJuly 21 The Wizard f Oz (NR)\nJuly 28 Big Hero 6 (PG)\nAugust 4 Earth to Echo (PG)\nAugust 11 When the Game Stands Tall (G)\nAugust 18 The Princess and the Frog (G)\nAugust 25 McFarland\, USA (PG)
URL:https://playpittsburgh.com/event/cinema-in-the-park-west-endelliott-overlook/2015-07-07/
LOCATION:West End/Elliot Overlook\, Rue Grand View Street\, Pittsburgh\, PA\, 15220\, United States
GEO:40.4319296;-80.0073467
X-APPLE-STRUCTURED-LOCATION;VALUE=URI;X-ADDRESS=West End/Elliot Overlook Rue Grand View Street Pittsburgh PA 15220 United States;X-APPLE-RADIUS=500;X-TITLE=Rue Grand View Street:geo:-80.0073467,40.4319296
END:VEVENT
BEGIN:VEVENT
DTSTART;TZID=America/New_York:20150630T210000
DTEND;TZID=America/New_York:20150630T230000
DTSTAMP:20260421T215017
CREATED:20150529T225905Z
LAST-MODIFIED:20150529T225905Z
UID:8714-1435698000-1435705200@playpittsburgh.com
SUMMARY:Cinema in the Park - West End/Elliott Overlook
DESCRIPTION:Watch movies in the park with a scenic view of the city in the background! Movies begin at dusk (around 9pm) every Tuesday through August 25th. \n\nJune 9 The Sandlot (PG)\nJune 16 Maleficent (PG)\nJune 23 The Hundred-Foot Journey (PG)\nJune 30 The Boxtrolls (PG)\nJuly 7 Cantinflas(PG)\nJuly 14 The Lego Movie (PG)\nJuly 21 The Wizard f Oz (NR)\nJuly 28 Big Hero 6 (PG)\nAugust 4 Earth to Echo (PG)\nAugust 11 When the Game Stands Tall (G)\nAugust 18 The Princess and the Frog (G)\nAugust 25 McFarland\, USA (PG)
URL:https://playpittsburgh.com/event/cinema-in-the-park-west-endelliott-overlook/2015-06-30/
LOCATION:West End/Elliot Overlook\, Rue Grand View Street\, Pittsburgh\, PA\, 15220\, United States
GEO:40.4319296;-80.0073467
X-APPLE-STRUCTURED-LOCATION;VALUE=URI;X-ADDRESS=West End/Elliot Overlook Rue Grand View Street Pittsburgh PA 15220 United States;X-APPLE-RADIUS=500;X-TITLE=Rue Grand View Street:geo:-80.0073467,40.4319296
END:VEVENT
BEGIN:VEVENT
DTSTART;TZID=America/New_York:20150623T210000
DTEND;TZID=America/New_York:20150623T230000
DTSTAMP:20260421T215017
CREATED:20150529T225905Z
LAST-MODIFIED:20150529T225905Z
UID:8713-1435093200-1435100400@playpittsburgh.com
SUMMARY:Cinema in the Park - West End/Elliott Overlook
DESCRIPTION:Watch movies in the park with a scenic view of the city in the background! Movies begin at dusk (around 9pm) every Tuesday through August 25th. \n\nJune 9 The Sandlot (PG)\nJune 16 Maleficent (PG)\nJune 23 The Hundred-Foot Journey (PG)\nJune 30 The Boxtrolls (PG)\nJuly 7 Cantinflas(PG)\nJuly 14 The Lego Movie (PG)\nJuly 21 The Wizard f Oz (NR)\nJuly 28 Big Hero 6 (PG)\nAugust 4 Earth to Echo (PG)\nAugust 11 When the Game Stands Tall (G)\nAugust 18 The Princess and the Frog (G)\nAugust 25 McFarland\, USA (PG)
URL:https://playpittsburgh.com/event/cinema-in-the-park-west-endelliott-overlook/2015-06-23/
LOCATION:West End/Elliot Overlook\, Rue Grand View Street\, Pittsburgh\, PA\, 15220\, United States
GEO:40.4319296;-80.0073467
X-APPLE-STRUCTURED-LOCATION;VALUE=URI;X-ADDRESS=West End/Elliot Overlook Rue Grand View Street Pittsburgh PA 15220 United States;X-APPLE-RADIUS=500;X-TITLE=Rue Grand View Street:geo:-80.0073467,40.4319296
END:VEVENT
BEGIN:VEVENT
DTSTART;TZID=America/New_York:20150616T210000
DTEND;TZID=America/New_York:20150616T230000
DTSTAMP:20260421T215017
CREATED:20150529T225905Z
LAST-MODIFIED:20150529T225905Z
UID:8712-1434488400-1434495600@playpittsburgh.com
SUMMARY:Cinema in the Park - West End/Elliott Overlook
DESCRIPTION:Watch movies in the park with a scenic view of the city in the background! Movies begin at dusk (around 9pm) every Tuesday through August 25th. \n\nJune 9 The Sandlot (PG)\nJune 16 Maleficent (PG)\nJune 23 The Hundred-Foot Journey (PG)\nJune 30 The Boxtrolls (PG)\nJuly 7 Cantinflas(PG)\nJuly 14 The Lego Movie (PG)\nJuly 21 The Wizard f Oz (NR)\nJuly 28 Big Hero 6 (PG)\nAugust 4 Earth to Echo (PG)\nAugust 11 When the Game Stands Tall (G)\nAugust 18 The Princess and the Frog (G)\nAugust 25 McFarland\, USA (PG)
URL:https://playpittsburgh.com/event/cinema-in-the-park-west-endelliott-overlook/2015-06-16/
LOCATION:West End/Elliot Overlook\, Rue Grand View Street\, Pittsburgh\, PA\, 15220\, United States
GEO:40.4319296;-80.0073467
X-APPLE-STRUCTURED-LOCATION;VALUE=URI;X-ADDRESS=West End/Elliot Overlook Rue Grand View Street Pittsburgh PA 15220 United States;X-APPLE-RADIUS=500;X-TITLE=Rue Grand View Street:geo:-80.0073467,40.4319296
END:VEVENT
BEGIN:VEVENT
DTSTART;TZID=America/New_York:20150609T210000
DTEND;TZID=America/New_York:20150609T230000
DTSTAMP:20260421T215017
CREATED:20150529T225905Z
LAST-MODIFIED:20150529T225905Z
UID:8711-1433883600-1433890800@playpittsburgh.com
SUMMARY:Cinema in the Park - West End/Elliott Overlook
DESCRIPTION:Watch movies in the park with a scenic view of the city in the background! Movies begin at dusk (around 9pm) every Tuesday through August 25th. \n\nJune 9 The Sandlot (PG)\nJune 16 Maleficent (PG)\nJune 23 The Hundred-Foot Journey (PG)\nJune 30 The Boxtrolls (PG)\nJuly 7 Cantinflas(PG)\nJuly 14 The Lego Movie (PG)\nJuly 21 The Wizard f Oz (NR)\nJuly 28 Big Hero 6 (PG)\nAugust 4 Earth to Echo (PG)\nAugust 11 When the Game Stands Tall (G)\nAugust 18 The Princess and the Frog (G)\nAugust 25 McFarland\, USA (PG)
URL:https://playpittsburgh.com/event/cinema-in-the-park-west-endelliott-overlook/2015-06-09/
LOCATION:West End/Elliot Overlook\, Rue Grand View Street\, Pittsburgh\, PA\, 15220\, United States
GEO:40.4319296;-80.0073467
X-APPLE-STRUCTURED-LOCATION;VALUE=URI;X-ADDRESS=West End/Elliot Overlook Rue Grand View Street Pittsburgh PA 15220 United States;X-APPLE-RADIUS=500;X-TITLE=Rue Grand View Street:geo:-80.0073467,40.4319296
END:VEVENT
BEGIN:VEVENT
DTSTART;TZID=America/New_York:20140704T160000
DTEND;TZID=America/New_York:20140704T220000
DTSTAMP:20260421T215017
CREATED:20140626T021218Z
LAST-MODIFIED:20140626T021218Z
UID:2139-1404489600-1404511200@playpittsburgh.com
SUMMARY:Elliott Extravaganza
DESCRIPTION:Live entertainment\, games\, crafts\, vendors\, fireworks\, more!
URL:https://playpittsburgh.com/event/elliott-extravaganza/
LOCATION:West End/Elliot Overlook\, Rue Grand View Street\, Pittsburgh\, PA\, 15220\, United States
CATEGORIES:Festivals,Free,Outdoor
GEO:40.4319296;-80.0073467
X-APPLE-STRUCTURED-LOCATION;VALUE=URI;X-ADDRESS=West End/Elliot Overlook Rue Grand View Street Pittsburgh PA 15220 United States;X-APPLE-RADIUS=500;X-TITLE=Rue Grand View Street:geo:-80.0073467,40.4319296
END:VEVENT
BEGIN:VEVENT
DTSTART;TZID=America/New_York:20140610T210000
DTEND;TZID=America/New_York:20140610T223000
DTSTAMP:20260421T215017
CREATED:20140525T002134Z
LAST-MODIFIED:20140525T002412Z
UID:1694-1402434000-1402439400@playpittsburgh.com
SUMMARY:Movies in the Park: West End/Elliott Overlook
DESCRIPTION:Grab a blanket or lawn chair and head out for an unforgettable evening of free cinema under the stars! \nSummer Schedule: \nJune 10 ……………………………………………….The Little Mermaid (G) \nJune 17 ……………………………………………….. Monsters University (G) \nJune 24 ………………………………………………. E.T. the Extra-Terrestrial (PG) \nJuly 1 …………………………………………………. Space Jam (PG) \nJuly 8 …………………………………………………. Despicable Me 2 (PG) \nJuly 15 ……………………………………………….. Mary Poppins (not rated) \nJuly 22 ……………………………………………….. Big Miracle (PG) \nJuly 29 ……………………………………………….. Frozen (PG) \nAugust 5………………………………………………. Willy Wonka and the Chocolate Factory (G) \nAugust 12 …………………………………………….. The Smurfs 2 (PG) \nAugust 19 …………………………………………….. Cloudy with a Chance of Meatballs 2 (PG) \nAugust 26 …………………………………………….. Planes (PG)
URL:https://playpittsburgh.com/event/movies-in-the-park-west-endelliott-overlook/2014-06-10/
LOCATION:West End/Elliot Overlook\, Rue Grand View Street\, Pittsburgh\, PA\, 15220\, United States
CATEGORIES:Free,Outdoor
GEO:40.4319296;-80.0073467
X-APPLE-STRUCTURED-LOCATION;VALUE=URI;X-ADDRESS=West End/Elliot Overlook Rue Grand View Street Pittsburgh PA 15220 United States;X-APPLE-RADIUS=500;X-TITLE=Rue Grand View Street:geo:-80.0073467,40.4319296
END:VEVENT
END:VCALENDAR