BEGIN:VCALENDAR
VERSION:2.0
PRODID:-//Play Pittsburgh - ECPv6.15.20//NONSGML v1.0//EN
CALSCALE:GREGORIAN
METHOD:PUBLISH
X-ORIGINAL-URL:https://playpittsburgh.com
X-WR-CALDESC:Events for Play Pittsburgh
REFRESH-INTERVAL;VALUE=DURATION:PT1H
X-Robots-Tag:noindex
X-PUBLISHED-TTL:PT1H
BEGIN:VTIMEZONE
TZID:America/New_York
BEGIN:DAYLIGHT
TZOFFSETFROM:-0500
TZOFFSETTO:-0400
TZNAME:EDT
DTSTART:20130310T070000
END:DAYLIGHT
BEGIN:STANDARD
TZOFFSETFROM:-0400
TZOFFSETTO:-0500
TZNAME:EST
DTSTART:20131103T060000
END:STANDARD
BEGIN:DAYLIGHT
TZOFFSETFROM:-0500
TZOFFSETTO:-0400
TZNAME:EDT
DTSTART:20140309T070000
END:DAYLIGHT
BEGIN:STANDARD
TZOFFSETFROM:-0400
TZOFFSETTO:-0500
TZNAME:EST
DTSTART:20141102T060000
END:STANDARD
BEGIN:DAYLIGHT
TZOFFSETFROM:-0500
TZOFFSETTO:-0400
TZNAME:EDT
DTSTART:20150308T070000
END:DAYLIGHT
BEGIN:STANDARD
TZOFFSETFROM:-0400
TZOFFSETTO:-0500
TZNAME:EST
DTSTART:20151101T060000
END:STANDARD
END:VTIMEZONE
BEGIN:VEVENT
DTSTART;TZID=America/New_York:20140531T100000
DTEND;TZID=America/New_York:20140531T140000
DTSTAMP:20260422T090115
CREATED:20140422T060015Z
LAST-MODIFIED:20140422T060015Z
UID:740-1401530400-1401544800@playpittsburgh.com
SUMMARY:WMC Cares for Kids! Health Fair
DESCRIPTION:Free health fair in front of new Weirton Medical Center office location. Screening\, giveaways\, refreshment and activities from the Children’s Museum.
URL:https://playpittsburgh.com/event/wmc-cares-for-kids-health-fair/
LOCATION:Weirton Medical Center\,  600 Market Place Drive\, Oakdale\, PA\, 15071\, United States
CATEGORIES:Festivals
GEO:40.440192;-80.2412136
X-APPLE-STRUCTURED-LOCATION;VALUE=URI;X-ADDRESS=Weirton Medical Center  600 Market Place Drive Oakdale PA 15071 United States;X-APPLE-RADIUS=500;X-TITLE= 600 Market Place Drive:geo:-80.2412136,40.440192
END:VEVENT
END:VCALENDAR