BEGIN:VCALENDAR
VERSION:2.0
PRODID:-//Play Pittsburgh - ECPv6.15.20//NONSGML v1.0//EN
CALSCALE:GREGORIAN
METHOD:PUBLISH
X-WR-CALNAME:Play Pittsburgh
X-ORIGINAL-URL:https://playpittsburgh.com
X-WR-CALDESC:Events for Play Pittsburgh
REFRESH-INTERVAL;VALUE=DURATION:PT1H
X-Robots-Tag:noindex
X-PUBLISHED-TTL:PT1H
BEGIN:VTIMEZONE
TZID:America/New_York
BEGIN:DAYLIGHT
TZOFFSETFROM:-0500
TZOFFSETTO:-0400
TZNAME:EDT
DTSTART:20130310T070000
END:DAYLIGHT
BEGIN:STANDARD
TZOFFSETFROM:-0400
TZOFFSETTO:-0500
TZNAME:EST
DTSTART:20131103T060000
END:STANDARD
BEGIN:DAYLIGHT
TZOFFSETFROM:-0500
TZOFFSETTO:-0400
TZNAME:EDT
DTSTART:20140309T070000
END:DAYLIGHT
BEGIN:STANDARD
TZOFFSETFROM:-0400
TZOFFSETTO:-0500
TZNAME:EST
DTSTART:20141102T060000
END:STANDARD
BEGIN:DAYLIGHT
TZOFFSETFROM:-0500
TZOFFSETTO:-0400
TZNAME:EDT
DTSTART:20150308T070000
END:DAYLIGHT
BEGIN:STANDARD
TZOFFSETFROM:-0400
TZOFFSETTO:-0500
TZNAME:EST
DTSTART:20151101T060000
END:STANDARD
BEGIN:DAYLIGHT
TZOFFSETFROM:-0500
TZOFFSETTO:-0400
TZNAME:EDT
DTSTART:20160313T070000
END:DAYLIGHT
BEGIN:STANDARD
TZOFFSETFROM:-0400
TZOFFSETTO:-0500
TZNAME:EST
DTSTART:20161106T060000
END:STANDARD
END:VTIMEZONE
BEGIN:VEVENT
DTSTART;TZID=America/New_York:20150627T170000
DTEND;TZID=America/New_York:20150627T210000
DTSTAMP:20260423T082735
CREATED:20150531T195944Z
LAST-MODIFIED:20150531T195944Z
UID:8943-1435424400-1435438800@playpittsburgh.com
SUMMARY:Summer Block Party at the Waterfront
DESCRIPTION:Join The Waterfront in the Rock Bottom Summer Pop-Up Biergarten for a night of live music by the Boilermaker Jazz Band\, games\, prizes\, activities\, an under-the-bridge cookout\, and special offers & giveaways from The Waterfront merchants. Entry to the Summer Block Parties is free. This event is all ages. \nMUSIC + BREWS + FOOD + FUN! \nSave the Date for Block Party fun\, the last Saturday of each month\, June-August.\nComing up…\nJuly 25th: Tres Lads\nAugust 29th: Bon Journey \nThe Rock Bottom Summer Pop-Up Biergarten is located in the lower lot of Rock Bottom\, behind Yokoso.
URL:https://playpittsburgh.com/event/summer-block-party-at-the-waterfront/
LOCATION:Waterfront Town Center\, 149 West Bridge St.\, Homestead\, PA\, 15120\, United States
GEO:40.4112367;-79.9115307
X-APPLE-STRUCTURED-LOCATION;VALUE=URI;X-ADDRESS=Waterfront Town Center 149 West Bridge St. Homestead PA 15120 United States;X-APPLE-RADIUS=500;X-TITLE=149 West Bridge St.:geo:-79.9115307,40.4112367
END:VEVENT
BEGIN:VEVENT
DTSTART;VALUE=DATE:20141212
DTEND;VALUE=DATE:20141213
DTSTAMP:20260423T082735
CREATED:20141205T005606Z
LAST-MODIFIED:20141205T005606Z
UID:5150-1418342400-1418428799@playpittsburgh.com
SUMMARY:Holiday Spectacular at the Waterfront
DESCRIPTION:Live Holiday Performances\, FREE Charity Gift Wrap\, FREE Photos With Santa\, Appearances by Your Favorite Winter Characters\, Treats & Giveaways\, Kids Crafts and More! \nFREE Photos With Santa\nFriday December 12th: 5-8pm\nSunday December 14th: Noon- 4pm \nHoliday Headquarters Hours:\nThursday\, December 11th: 4-8pm\nFriday\, December 12th: 4-8pm\nSaturday\, December 13th: Noon-7pm\nSunday\, December 14th: Noon-5pmv
URL:https://playpittsburgh.com/event/holiday-spectacular-at-the-waterfront/2014-12-12/
LOCATION:Waterfront Town Center\, 149 West Bridge St.\, Homestead\, PA\, 15120\, United States
GEO:40.4112367;-79.9115307
X-APPLE-STRUCTURED-LOCATION;VALUE=URI;X-ADDRESS=Waterfront Town Center 149 West Bridge St. Homestead PA 15120 United States;X-APPLE-RADIUS=500;X-TITLE=149 West Bridge St.:geo:-79.9115307,40.4112367
END:VEVENT
BEGIN:VEVENT
DTSTART;TZID=America/New_York:20141206T073000
DTEND;TZID=America/New_York:20141206T090000
DTSTAMP:20260423T082735
CREATED:20141204T011741Z
LAST-MODIFIED:20141204T011741Z
UID:5077-1417851000-1417856400@playpittsburgh.com
SUMMARY:Snowflake Shuffle 5K at the Waterfront
DESCRIPTION:A frosty 5K race to benefit the animals at the Western PA Humane Society! The race through The Waterfront shopping center ends with a cup of hot cocoa and cookies waiting for you at the finish line. \nRegistration Begins: 7:30am\nRace Begins: 8:30am\nThe Waterfront- starting line will be at Town Center area.\nPre-Registration Fee: $20 (race shirt guaranteed)\nDay of Registration Fee: $30 (race shirt provided as supplies last)
URL:https://playpittsburgh.com/event/snowflake-shuffle-5k-at-the-waterfront/
LOCATION:Waterfront Town Center\, 149 West Bridge St.\, Homestead\, PA\, 15120\, United States
GEO:40.4112367;-79.9115307
X-APPLE-STRUCTURED-LOCATION;VALUE=URI;X-ADDRESS=Waterfront Town Center 149 West Bridge St. Homestead PA 15120 United States;X-APPLE-RADIUS=500;X-TITLE=149 West Bridge St.:geo:-79.9115307,40.4112367
END:VEVENT
END:VCALENDAR