BEGIN:VCALENDAR
VERSION:2.0
PRODID:-//Play Pittsburgh - ECPv6.15.20//NONSGML v1.0//EN
CALSCALE:GREGORIAN
METHOD:PUBLISH
X-ORIGINAL-URL:https://playpittsburgh.com
X-WR-CALDESC:Events for Play Pittsburgh
REFRESH-INTERVAL;VALUE=DURATION:PT1H
X-Robots-Tag:noindex
X-PUBLISHED-TTL:PT1H
BEGIN:VTIMEZONE
TZID:America/New_York
BEGIN:DAYLIGHT
TZOFFSETFROM:-0500
TZOFFSETTO:-0400
TZNAME:EDT
DTSTART:20140309T070000
END:DAYLIGHT
BEGIN:STANDARD
TZOFFSETFROM:-0400
TZOFFSETTO:-0500
TZNAME:EST
DTSTART:20141102T060000
END:STANDARD
BEGIN:DAYLIGHT
TZOFFSETFROM:-0500
TZOFFSETTO:-0400
TZNAME:EDT
DTSTART:20150308T070000
END:DAYLIGHT
BEGIN:STANDARD
TZOFFSETFROM:-0400
TZOFFSETTO:-0500
TZNAME:EST
DTSTART:20151101T060000
END:STANDARD
BEGIN:DAYLIGHT
TZOFFSETFROM:-0500
TZOFFSETTO:-0400
TZNAME:EDT
DTSTART:20160313T070000
END:DAYLIGHT
BEGIN:STANDARD
TZOFFSETFROM:-0400
TZOFFSETTO:-0500
TZNAME:EST
DTSTART:20161106T060000
END:STANDARD
END:VTIMEZONE
BEGIN:VEVENT
DTSTART;TZID=America/New_York:20150425T193000
DTEND;TZID=America/New_York:20150425T220000
DTSTAMP:20260422T082954
CREATED:20150324T201435Z
LAST-MODIFIED:20150324T201435Z
UID:5553-1429990200-1429999200@playpittsburgh.com
SUMMARY:Star Party at Wagman Observatory
DESCRIPTION:A star party is an invitation to anyone wishing to enjoy and learn more about the splendors of the sky. At a star party\, AAAP [Amateur Astronomer Association of Pittsburgh] members set up a wide variety of telescopes (basic and advanced models) and offer visitors stunning close-ups of celestial objects. Many visitors bring their own telescopes to take advantage of viewing conditions at the site. Others use the occasion simply to view the stars and planets with their own eyes. \nBefore departing for an AAAP star party\, check the sky conditions. If the sky is overcast or the forecast suggests rain\, consider postponing your visit until the next event. If there are just a few scattered clouds (with the Moon and stars visible in between)\, the star party will be “go.” Observing conditions at the Wagman Observatory can be confirmed on star party nights by calling 724- 224-2510. \nAll AAAP star parties are free to the public.
URL:https://playpittsburgh.com/event/star-party-at-wagman-observatory-4/
LOCATION:Wagman Observatory\, 225 Kurn Road\,  Tarentum\, PA\, 15084\, United States
GEO:40.6238536;-79.8185398
X-APPLE-STRUCTURED-LOCATION;VALUE=URI;X-ADDRESS=Wagman Observatory 225 Kurn Road  Tarentum PA 15084 United States;X-APPLE-RADIUS=500;X-TITLE=225 Kurn Road:geo:-79.8185398,40.6238536
END:VEVENT
BEGIN:VEVENT
DTSTART;TZID=America/New_York:20150424T193000
DTEND;TZID=America/New_York:20150424T220000
DTSTAMP:20260422T082954
CREATED:20150324T201231Z
LAST-MODIFIED:20150324T201231Z
UID:5552-1429903800-1429912800@playpittsburgh.com
SUMMARY:Star Party at Wagman Observatory
DESCRIPTION:A star party is an invitation to anyone wishing to enjoy and learn more about the splendors of the sky. At a star party\, AAAP [Amateur Astronomer Association of Pittsburgh] members set up a wide variety of telescopes (basic and advanced models) and offer visitors stunning close-ups of celestial objects. Many visitors bring their own telescopes to take advantage of viewing conditions at the site. Others use the occasion simply to view the stars and planets with their own eyes. \nBefore departing for an AAAP star party\, check the sky conditions. If the sky is overcast or the forecast suggests rain\, consider postponing your visit until the next event. If there are just a few scattered clouds (with the Moon and stars visible in between)\, the star party will be “go.” Observing conditions at the Wagman Observatory can be confirmed on star party nights by calling 724- 224-2510. \nAll AAAP star parties are free to the public.
URL:https://playpittsburgh.com/event/star-party-at-wagman-observatory-3/
LOCATION:Wagman Observatory\, 225 Kurn Road\,  Tarentum\, PA\, 15084\, United States
GEO:40.6238536;-79.8185398
X-APPLE-STRUCTURED-LOCATION;VALUE=URI;X-ADDRESS=Wagman Observatory 225 Kurn Road  Tarentum PA 15084 United States;X-APPLE-RADIUS=500;X-TITLE=225 Kurn Road:geo:-79.8185398,40.6238536
END:VEVENT
BEGIN:VEVENT
DTSTART;TZID=America/New_York:20150328T193000
DTEND;TZID=America/New_York:20150328T220000
DTSTAMP:20260422T082954
CREATED:20150324T201139Z
LAST-MODIFIED:20150324T201139Z
UID:5551-1427571000-1427580000@playpittsburgh.com
SUMMARY:Star Party at Wagman Observatory
DESCRIPTION:A star party is an invitation to anyone wishing to enjoy and learn more about the splendors of the sky. At a star party\, AAAP [Amateur Astronomer Association of Pittsburgh] members set up a wide variety of telescopes (basic and advanced models) and offer visitors stunning close-ups of celestial objects. Many visitors bring their own telescopes to take advantage of viewing conditions at the site. Others use the occasion simply to view the stars and planets with their own eyes. \nBefore departing for an AAAP star party\, check the sky conditions. If the sky is overcast or the forecast suggests rain\, consider postponing your visit until the next event. If there are just a few scattered clouds (with the Moon and stars visible in between)\, the star party will be “go.” Observing conditions at the Wagman Observatory can be confirmed on star party nights by calling 724- 224-2510. \nAll AAAP star parties are free to the public.
URL:https://playpittsburgh.com/event/star-party-at-wagman-observatory-2/
LOCATION:Wagman Observatory\, 225 Kurn Road\,  Tarentum\, PA\, 15084\, United States
GEO:40.6238536;-79.8185398
X-APPLE-STRUCTURED-LOCATION;VALUE=URI;X-ADDRESS=Wagman Observatory 225 Kurn Road  Tarentum PA 15084 United States;X-APPLE-RADIUS=500;X-TITLE=225 Kurn Road:geo:-79.8185398,40.6238536
END:VEVENT
BEGIN:VEVENT
DTSTART;TZID=America/New_York:20150327T193000
DTEND;TZID=America/New_York:20150327T220000
DTSTAMP:20260422T082954
CREATED:20150324T201051Z
LAST-MODIFIED:20150324T201051Z
UID:5549-1427484600-1427493600@playpittsburgh.com
SUMMARY:Star Party at Wagman Observatory
DESCRIPTION:A star party is an invitation to anyone wishing to enjoy and learn more about the splendors of the sky. At a star party\, AAAP [Amateur Astronomer Association of Pittsburgh] members set up a wide variety of telescopes (basic and advanced models) and offer visitors stunning close-ups of celestial objects. Many visitors bring their own telescopes to take advantage of viewing conditions at the site. Others use the occasion simply to view the stars and planets with their own eyes. \nBefore departing for an AAAP star party\, check the sky conditions. If the sky is overcast or the forecast suggests rain\, consider postponing your visit until the next event. If there are just a few scattered clouds (with the Moon and stars visible in between)\, the star party will be “go.” Observing conditions at the Wagman Observatory can be confirmed on star party nights by calling 724- 224-2510. \nAll AAAP star parties are free to the public.
URL:https://playpittsburgh.com/event/star-party-at-wagman-observatory/
LOCATION:Wagman Observatory\, 225 Kurn Road\,  Tarentum\, PA\, 15084\, United States
GEO:40.6238536;-79.8185398
X-APPLE-STRUCTURED-LOCATION;VALUE=URI;X-ADDRESS=Wagman Observatory 225 Kurn Road  Tarentum PA 15084 United States;X-APPLE-RADIUS=500;X-TITLE=225 Kurn Road:geo:-79.8185398,40.6238536
END:VEVENT
END:VCALENDAR