BEGIN:VCALENDAR
VERSION:2.0
PRODID:-//Play Pittsburgh - ECPv6.15.20//NONSGML v1.0//EN
CALSCALE:GREGORIAN
METHOD:PUBLISH
X-WR-CALNAME:Play Pittsburgh
X-ORIGINAL-URL:https://playpittsburgh.com
X-WR-CALDESC:Events for Play Pittsburgh
REFRESH-INTERVAL;VALUE=DURATION:PT1H
X-Robots-Tag:noindex
X-PUBLISHED-TTL:PT1H
BEGIN:VTIMEZONE
TZID:America/New_York
BEGIN:DAYLIGHT
TZOFFSETFROM:-0500
TZOFFSETTO:-0400
TZNAME:EDT
DTSTART:20130310T070000
END:DAYLIGHT
BEGIN:STANDARD
TZOFFSETFROM:-0400
TZOFFSETTO:-0500
TZNAME:EST
DTSTART:20131103T060000
END:STANDARD
BEGIN:DAYLIGHT
TZOFFSETFROM:-0500
TZOFFSETTO:-0400
TZNAME:EDT
DTSTART:20140309T070000
END:DAYLIGHT
BEGIN:STANDARD
TZOFFSETFROM:-0400
TZOFFSETTO:-0500
TZNAME:EST
DTSTART:20141102T060000
END:STANDARD
BEGIN:DAYLIGHT
TZOFFSETFROM:-0500
TZOFFSETTO:-0400
TZNAME:EDT
DTSTART:20150308T070000
END:DAYLIGHT
BEGIN:STANDARD
TZOFFSETFROM:-0400
TZOFFSETTO:-0500
TZNAME:EST
DTSTART:20151101T060000
END:STANDARD
END:VTIMEZONE
BEGIN:VEVENT
DTSTART;TZID=America/New_York:20141109T100000
DTEND;TZID=America/New_York:20141109T190000
DTSTAMP:20260423T064235
CREATED:20141031T011110Z
LAST-MODIFIED:20141031T011110Z
UID:4215-1415527200-1415559600@playpittsburgh.com
SUMMARY:Christmas on Main Street in Volant
DESCRIPTION:Celebrate Christmas on Main Street! Twinkling decorations\, strolling musicians\, carolers and SANTA! Check out the line up of events. \n  \nSaturday\, November 9th STORE HOURS: 10AM – 7PM \n\n9am Breakfast w Santa at Neshannock Creek Inn (reservations required) 724-533-2233\n11am-1pm Venango Brigade tin whistle playing at Volant Mills\n1pm SANTA arrives on a horse drawn carriage!\n12:30pm – 2:30pm Lawrence County Brass\n2pm – 5pm Bob Bellamy on dulcimer inside Volant Mills\n1:45pm – 5pm Horse drawn carriage rides thru the village ($5per person or $15 per family)\n1:30pm – 3:30pm Butler Notables strolling barbershop singers\n5:30pm Join us for tree lighting and caroling at Volant Mills.\n\nALL DAY SATURDAY: \n\nAmish donuts\, baked goods\, and textiles\nFace painting($)\nHoney Sweet Apiaries – local honey and gifts.\nFree gift for children – K.C.’s Collectibles\n\nSunday\, November 10th STORE HOURS: 10AM – 5PM \n\nAlthough Santa will not be here the festivities continue!\nFace painting ($)\nFree gift for children – K.C.’s Collectibles\n1pm – 5pm Rick Bruening – folksinger inside Volant Mills\n2pm – 4pm Four Friends Strolling Quartet from Bogmeister Chorus.
URL:https://playpittsburgh.com/event/christmas-on-main-street-in-volant/2014-11-09/
LOCATION:Volant Village Shops\, 550 Main St\, Volant\, PA\, 16156\, United States
ATTACH;FMTTYPE=image/jpeg:https://playpittsburgh.com/wp-content/uploads/2015/03/kids-castle-2.jpg
GEO:41.1129795;-80.2574597
X-APPLE-STRUCTURED-LOCATION;VALUE=URI;X-ADDRESS=Volant Village Shops 550 Main St Volant PA 16156 United States;X-APPLE-RADIUS=500;X-TITLE=550 Main St:geo:-80.2574597,41.1129795
END:VEVENT
END:VCALENDAR