BEGIN:VCALENDAR
VERSION:2.0
PRODID:-//Play Pittsburgh - ECPv6.15.20//NONSGML v1.0//EN
CALSCALE:GREGORIAN
METHOD:PUBLISH
X-WR-CALNAME:Play Pittsburgh
X-ORIGINAL-URL:https://playpittsburgh.com
X-WR-CALDESC:Events for Play Pittsburgh
REFRESH-INTERVAL;VALUE=DURATION:PT1H
X-Robots-Tag:noindex
X-PUBLISHED-TTL:PT1H
BEGIN:VTIMEZONE
TZID:America/New_York
BEGIN:DAYLIGHT
TZOFFSETFROM:-0500
TZOFFSETTO:-0400
TZNAME:EDT
DTSTART:20140309T070000
END:DAYLIGHT
BEGIN:STANDARD
TZOFFSETFROM:-0400
TZOFFSETTO:-0500
TZNAME:EST
DTSTART:20141102T060000
END:STANDARD
BEGIN:DAYLIGHT
TZOFFSETFROM:-0500
TZOFFSETTO:-0400
TZNAME:EDT
DTSTART:20150308T070000
END:DAYLIGHT
BEGIN:STANDARD
TZOFFSETFROM:-0400
TZOFFSETTO:-0500
TZNAME:EST
DTSTART:20151101T060000
END:STANDARD
BEGIN:DAYLIGHT
TZOFFSETFROM:-0500
TZOFFSETTO:-0400
TZNAME:EDT
DTSTART:20160313T070000
END:DAYLIGHT
BEGIN:STANDARD
TZOFFSETFROM:-0400
TZOFFSETTO:-0500
TZNAME:EST
DTSTART:20161106T060000
END:STANDARD
END:VTIMEZONE
BEGIN:VEVENT
DTSTART;TZID=America/New_York:20150418T110000
DTEND;TZID=America/New_York:20150418T160000
DTSTAMP:20260423T102325
CREATED:20150410T154718Z
LAST-MODIFIED:20150410T154718Z
UID:6021-1429354800-1429372800@playpittsburgh.com
SUMMARY:Arts & Chocolate Spectacular
DESCRIPTION:The C&RC will be celebrating the Arts & Chocolate Spectacular on Saturday\, April 18th from 11am- 4pm. Participants are invited to sample and purchase a variety of sweet treats from local vendors. Multiple amateur performing artists will showcase their talent on the main stage int the lobby. Event attendees will also have the opportunity to walk through a student art gallery\, get their face painted\, and create their very own art pieces. Event admission is FREE!
URL:https://playpittsburgh.com/event/arts-chocolate-spectacular/
LOCATION:USC Community & Recreation Center\, 1543 Mayview Rd\, Upper St Clair\, PA\, 15241\, United States
GEO:40.3356502;-80.1116572
X-APPLE-STRUCTURED-LOCATION;VALUE=URI;X-ADDRESS=USC Community & Recreation Center 1543 Mayview Rd Upper St Clair PA 15241 United States;X-APPLE-RADIUS=500;X-TITLE=1543 Mayview Rd:geo:-80.1116572,40.3356502
END:VEVENT
END:VCALENDAR