BEGIN:VCALENDAR
VERSION:2.0
PRODID:-//Play Pittsburgh - ECPv6.15.20//NONSGML v1.0//EN
CALSCALE:GREGORIAN
METHOD:PUBLISH
X-WR-CALNAME:Play Pittsburgh
X-ORIGINAL-URL:https://playpittsburgh.com
X-WR-CALDESC:Events for Play Pittsburgh
REFRESH-INTERVAL;VALUE=DURATION:PT1H
X-Robots-Tag:noindex
X-PUBLISHED-TTL:PT1H
BEGIN:VTIMEZONE
TZID:America/New_York
BEGIN:DAYLIGHT
TZOFFSETFROM:-0500
TZOFFSETTO:-0400
TZNAME:EDT
DTSTART:20130310T070000
END:DAYLIGHT
BEGIN:STANDARD
TZOFFSETFROM:-0400
TZOFFSETTO:-0500
TZNAME:EST
DTSTART:20131103T060000
END:STANDARD
BEGIN:DAYLIGHT
TZOFFSETFROM:-0500
TZOFFSETTO:-0400
TZNAME:EDT
DTSTART:20140309T070000
END:DAYLIGHT
BEGIN:STANDARD
TZOFFSETFROM:-0400
TZOFFSETTO:-0500
TZNAME:EST
DTSTART:20141102T060000
END:STANDARD
BEGIN:DAYLIGHT
TZOFFSETFROM:-0500
TZOFFSETTO:-0400
TZNAME:EDT
DTSTART:20150308T070000
END:DAYLIGHT
BEGIN:STANDARD
TZOFFSETFROM:-0400
TZOFFSETTO:-0500
TZNAME:EST
DTSTART:20151101T060000
END:STANDARD
END:VTIMEZONE
BEGIN:VEVENT
DTSTART;TZID=America/New_York:20140517T180000
DTEND;TZID=America/New_York:20140517T220000
DTSTAMP:20260422T121920
CREATED:20140516T150049Z
LAST-MODIFIED:20140516T150049Z
UID:1445-1400349600-1400364000@playpittsburgh.com
SUMMARY:Bright Night Festival
DESCRIPTION:FREE community-focused event designed to highlight the vibrant Pittsburgh neighborhood of Larimer Saturday\, May17th! Presented by the class of LDI XXI & the community of Larimer. \nThis one night event will utilize the transformative symbolism of light to recognize the current changes occurring in one of the area’s most up and coming neighborhoods. \nLocated at the entrance of Larimer Avenue & beginning at 6pm\, Bright Night’s street festival will encompass 4 blocks of family friendly entertainment. Festival features will consist of: \n\nPittsburgh Car Club’s top line up of cars\nInteractive STEM exhibits from Carnegie Library\nGourmet Taco’s from Pittsburgh Taco Truck\nFREE Food Samples from Pittsburgh Food Revolution\nLive Local Musical Entertainment\nA Laser Light Show Finale
URL:https://playpittsburgh.com/event/bright-night-festival/
LOCATION:Unnamed Venue\, Larimer Avenue\, Pittsburgh\, PA\, 15206\, United States
CATEGORIES:Festivals,Free,Outdoor
ORGANIZER;CN="Leadership Pittsburgh Inc.":MAILTO:info@lpinc.org
GEO:40.465722;-79.9133816
X-APPLE-STRUCTURED-LOCATION;VALUE=URI;X-ADDRESS=Unnamed Venue Larimer Avenue Pittsburgh PA 15206 United States;X-APPLE-RADIUS=500;X-TITLE=Larimer Avenue:geo:-79.9133816,40.465722
END:VEVENT
END:VCALENDAR