BEGIN:VCALENDAR
VERSION:2.0
PRODID:-//Play Pittsburgh - ECPv6.15.20//NONSGML v1.0//EN
CALSCALE:GREGORIAN
METHOD:PUBLISH
X-WR-CALNAME:Play Pittsburgh
X-ORIGINAL-URL:https://playpittsburgh.com
X-WR-CALDESC:Events for Play Pittsburgh
REFRESH-INTERVAL;VALUE=DURATION:PT1H
X-Robots-Tag:noindex
X-PUBLISHED-TTL:PT1H
BEGIN:VTIMEZONE
TZID:America/New_York
BEGIN:DAYLIGHT
TZOFFSETFROM:-0500
TZOFFSETTO:-0400
TZNAME:EDT
DTSTART:20130310T070000
END:DAYLIGHT
BEGIN:STANDARD
TZOFFSETFROM:-0400
TZOFFSETTO:-0500
TZNAME:EST
DTSTART:20131103T060000
END:STANDARD
BEGIN:DAYLIGHT
TZOFFSETFROM:-0500
TZOFFSETTO:-0400
TZNAME:EDT
DTSTART:20140309T070000
END:DAYLIGHT
BEGIN:STANDARD
TZOFFSETFROM:-0400
TZOFFSETTO:-0500
TZNAME:EST
DTSTART:20141102T060000
END:STANDARD
BEGIN:DAYLIGHT
TZOFFSETFROM:-0500
TZOFFSETTO:-0400
TZNAME:EDT
DTSTART:20150308T070000
END:DAYLIGHT
BEGIN:STANDARD
TZOFFSETFROM:-0400
TZOFFSETTO:-0500
TZNAME:EST
DTSTART:20151101T060000
END:STANDARD
END:VTIMEZONE
BEGIN:VEVENT
DTSTART;VALUE=DATE:20140919
DTEND;VALUE=DATE:20140922
DTSTAMP:20260424T101220
CREATED:20140901T034445Z
LAST-MODIFIED:20140901T034445Z
UID:3368-1411084800-1411343999@playpittsburgh.com
SUMMARY:Pennsylvania Bavarian Oktoberfest
DESCRIPTION:This 16th annual Pennsylvania Bavarian Oktoberfest in Downtown Canonsburg will have German food\, beer\, live music\, Name the Brew contest and Carnival with games and amusement rides. The festival has been ranked in the Nation’s Top 10 Oktoberfest celebrations. \nHeld on the streets of downtown Canonsburg\, the festival features two stages of continuous music showcasing top German entertainment and local talent performing country\, rock and oldies. \nDevoted to German cuisine and beer\, our festival also features a variety of American and ethnic foods\, the Vendor Concourse\, and continues the tradition of the Oktoberfest Carnival with many amusement rides and games. \nFriday\, 4-11PM\, Saturday 11AM-11PM\, Sunday\, 12-6PM
URL:https://playpittsburgh.com/event/pennsylvania-bavarian-oktoberfest/
LOCATION:Unnamed Venue\, Pike St\,  Canonsburg\, PA\, 15317\, United States
CATEGORIES:Festivals,Outdoor
GEO:40.2618503;-80.1736476
X-APPLE-STRUCTURED-LOCATION;VALUE=URI;X-ADDRESS=Unnamed Venue Pike St  Canonsburg PA 15317 United States;X-APPLE-RADIUS=500;X-TITLE=Pike St:geo:-80.1736476,40.2618503
END:VEVENT
END:VCALENDAR