BEGIN:VCALENDAR
VERSION:2.0
PRODID:-//Play Pittsburgh - ECPv6.15.20//NONSGML v1.0//EN
CALSCALE:GREGORIAN
METHOD:PUBLISH
X-WR-CALNAME:Play Pittsburgh
X-ORIGINAL-URL:https://playpittsburgh.com
X-WR-CALDESC:Events for Play Pittsburgh
REFRESH-INTERVAL;VALUE=DURATION:PT1H
X-Robots-Tag:noindex
X-PUBLISHED-TTL:PT1H
BEGIN:VTIMEZONE
TZID:America/New_York
BEGIN:DAYLIGHT
TZOFFSETFROM:-0500
TZOFFSETTO:-0400
TZNAME:EDT
DTSTART:20130310T070000
END:DAYLIGHT
BEGIN:STANDARD
TZOFFSETFROM:-0400
TZOFFSETTO:-0500
TZNAME:EST
DTSTART:20131103T060000
END:STANDARD
BEGIN:DAYLIGHT
TZOFFSETFROM:-0500
TZOFFSETTO:-0400
TZNAME:EDT
DTSTART:20140309T070000
END:DAYLIGHT
BEGIN:STANDARD
TZOFFSETFROM:-0400
TZOFFSETTO:-0500
TZNAME:EST
DTSTART:20141102T060000
END:STANDARD
BEGIN:DAYLIGHT
TZOFFSETFROM:-0500
TZOFFSETTO:-0400
TZNAME:EDT
DTSTART:20150308T070000
END:DAYLIGHT
BEGIN:STANDARD
TZOFFSETFROM:-0400
TZOFFSETTO:-0500
TZNAME:EST
DTSTART:20151101T060000
END:STANDARD
END:VTIMEZONE
BEGIN:VEVENT
DTSTART;TZID=America/New_York:20140920T110000
DTEND;TZID=America/New_York:20140920T150000
DTSTAMP:20260422T113046
CREATED:20140901T033207Z
LAST-MODIFIED:20140920T153652Z
UID:3366-1411210800-1411225200@playpittsburgh.com
SUMMARY:Castle Shannon Fall Festival
DESCRIPTION:Castle Shannon Fall Festival is a community celebration that is intended to showcase the downtown area of Castle Shannon. The activities scheduled are for everyone of every age. Music\, local food vendors\, local artisans\, crafts\, pumpkins\, flowers\, fall decorations entertainment\, and lots more. \nThe Castle Shannon Revitalization Corporation is a nonprofit group dedicated to the promotion and development of the downtown area of Castle Shannon. The Fall Festival is a project of the Corporation with the sole purpose to draw people to the downtown district to shop\, eat\, promote new businesses\, etc.\nWHERE: Between Pine and Poplar Streets\, Off Castle Shannon Boulevard (Route 88)\, Castle Shannon PA
URL:https://playpittsburgh.com/event/castle-shannon-fall-festival/
LOCATION:Unnamed Venue\, Poplar Street\, Castle Shannon\, PA\, 15234\, United States
CATEGORIES:Festivals,Outdoor
GEO:40.3671481;-80.0199353
X-APPLE-STRUCTURED-LOCATION;VALUE=URI;X-ADDRESS=Unnamed Venue Poplar Street Castle Shannon PA 15234 United States;X-APPLE-RADIUS=500;X-TITLE=Poplar Street:geo:-80.0199353,40.3671481
END:VEVENT
END:VCALENDAR