BEGIN:VCALENDAR
VERSION:2.0
PRODID:-//Play Pittsburgh - ECPv6.15.20//NONSGML v1.0//EN
CALSCALE:GREGORIAN
METHOD:PUBLISH
X-ORIGINAL-URL:https://playpittsburgh.com
X-WR-CALDESC:Events for Play Pittsburgh
REFRESH-INTERVAL;VALUE=DURATION:PT1H
X-Robots-Tag:noindex
X-PUBLISHED-TTL:PT1H
BEGIN:VTIMEZONE
TZID:America/New_York
BEGIN:DAYLIGHT
TZOFFSETFROM:-0500
TZOFFSETTO:-0400
TZNAME:EDT
DTSTART:20130310T070000
END:DAYLIGHT
BEGIN:STANDARD
TZOFFSETFROM:-0400
TZOFFSETTO:-0500
TZNAME:EST
DTSTART:20131103T060000
END:STANDARD
BEGIN:DAYLIGHT
TZOFFSETFROM:-0500
TZOFFSETTO:-0400
TZNAME:EDT
DTSTART:20140309T070000
END:DAYLIGHT
BEGIN:STANDARD
TZOFFSETFROM:-0400
TZOFFSETTO:-0500
TZNAME:EST
DTSTART:20141102T060000
END:STANDARD
BEGIN:DAYLIGHT
TZOFFSETFROM:-0500
TZOFFSETTO:-0400
TZNAME:EDT
DTSTART:20150308T070000
END:DAYLIGHT
BEGIN:STANDARD
TZOFFSETFROM:-0400
TZOFFSETTO:-0500
TZNAME:EST
DTSTART:20151101T060000
END:STANDARD
END:VTIMEZONE
BEGIN:VEVENT
DTSTART;TZID=America/New_York:20141108T110000
DTEND;TZID=America/New_York:20141108T140000
DTSTAMP:20260422T033353
CREATED:20141031T005244Z
LAST-MODIFIED:20141031T005244Z
UID:6885-1415444400-1415455200@playpittsburgh.com
SUMMARY:Magic Dot Paintings Workshop at Trust Arts Education Center
DESCRIPTION:For ages 15+\nFee: $40\nTime: 11-2pm \nCreate a mystical painting without picking up a brush. Students will learn about the American painter Vance Kirkland and produce a painting emulating his techniques.
URL:https://playpittsburgh.com/event/magic-dot-paintings-workshop-at-trust-arts-education-center/
LOCATION:Trust Arts Education Center\, 805-807 Liberty Avenue\, Pittsburgh\, PA\, 15222\, United States
ATTACH;FMTTYPE=:
GEO:40.4429876;-79.9987806
X-APPLE-STRUCTURED-LOCATION;VALUE=URI;X-ADDRESS=Trust Arts Education Center 805-807 Liberty Avenue Pittsburgh PA 15222 United States;X-APPLE-RADIUS=500;X-TITLE=805-807 Liberty Avenue:geo:-79.9987806,40.4429876
END:VEVENT
BEGIN:VEVENT
DTSTART;TZID=America/New_York:20141011T120000
DTEND;TZID=America/New_York:20141011T130000
DTSTAMP:20260422T033353
CREATED:20140904T173958Z
LAST-MODIFIED:20140904T173958Z
UID:3692-1413028800-1413032400@playpittsburgh.com
SUMMARY:Pittsburgh Cultural Trust Ghost Stories
DESCRIPTION:Gather the whole family in the Trust Arts Education Center to hear storyteller Alison K. Babusci share her most popular program featuring spine-tingling tales as well as hauntingly funny ones.  This program will delight all ages.  Bring your PJs and a pillow if you’d like.  Recommended for ages five and older; children must be accompanied by an adult.
URL:https://playpittsburgh.com/event/pittsburgh-cultural-trust-ghost-stories/
LOCATION:Trust Arts Education Center\, 805-807 Liberty Avenue\, Pittsburgh\, PA\, 15222\, United States
CATEGORIES:Free,RADical Days
GEO:40.4429876;-79.9987806
X-APPLE-STRUCTURED-LOCATION;VALUE=URI;X-ADDRESS=Trust Arts Education Center 805-807 Liberty Avenue Pittsburgh PA 15222 United States;X-APPLE-RADIUS=500;X-TITLE=805-807 Liberty Avenue:geo:-79.9987806,40.4429876
END:VEVENT
BEGIN:VEVENT
DTSTART;TZID=America/New_York:20141011T100000
DTEND;TZID=America/New_York:20141011T140000
DTSTAMP:20260422T033353
CREATED:20140904T172801Z
LAST-MODIFIED:20140904T172801Z
UID:3687-1413021600-1413036000@playpittsburgh.com
SUMMARY:Pittsburgh Cultural Trust Sketch Crawl
DESCRIPTION:A four-hour drawing marathon!  Join in any time.  Bring a sketch book\, drawing instruments\, lunch and a chair. Draw what you see on a journey through some of Downtown’s scenic plazas. Rick Antolic\, accomplished artist and illustrator\, will be on-hand at each scheduled location to assist with sketches as needed. For all ages; children 16 and under must be accompanied by an adult. Free admission: 10am – 2pm
URL:https://playpittsburgh.com/event/pittsburgh-cultural-trust-sketch-crawl/
LOCATION:Trust Arts Education Center\, 805-807 Liberty Avenue\, Pittsburgh\, PA\, 15222\, United States
CATEGORIES:Free,RADical Days
GEO:40.4429876;-79.9987806
X-APPLE-STRUCTURED-LOCATION;VALUE=URI;X-ADDRESS=Trust Arts Education Center 805-807 Liberty Avenue Pittsburgh PA 15222 United States;X-APPLE-RADIUS=500;X-TITLE=805-807 Liberty Avenue:geo:-79.9987806,40.4429876
END:VEVENT
END:VCALENDAR