BEGIN:VCALENDAR
VERSION:2.0
PRODID:-//Play Pittsburgh - ECPv6.15.20//NONSGML v1.0//EN
CALSCALE:GREGORIAN
METHOD:PUBLISH
X-WR-CALNAME:Play Pittsburgh
X-ORIGINAL-URL:https://playpittsburgh.com
X-WR-CALDESC:Events for Play Pittsburgh
REFRESH-INTERVAL;VALUE=DURATION:PT1H
X-Robots-Tag:noindex
X-PUBLISHED-TTL:PT1H
BEGIN:VTIMEZONE
TZID:America/New_York
BEGIN:DAYLIGHT
TZOFFSETFROM:-0500
TZOFFSETTO:-0400
TZNAME:EDT
DTSTART:20130310T070000
END:DAYLIGHT
BEGIN:STANDARD
TZOFFSETFROM:-0400
TZOFFSETTO:-0500
TZNAME:EST
DTSTART:20131103T060000
END:STANDARD
BEGIN:DAYLIGHT
TZOFFSETFROM:-0500
TZOFFSETTO:-0400
TZNAME:EDT
DTSTART:20140309T070000
END:DAYLIGHT
BEGIN:STANDARD
TZOFFSETFROM:-0400
TZOFFSETTO:-0500
TZNAME:EST
DTSTART:20141102T060000
END:STANDARD
BEGIN:DAYLIGHT
TZOFFSETFROM:-0500
TZOFFSETTO:-0400
TZNAME:EDT
DTSTART:20150308T070000
END:DAYLIGHT
BEGIN:STANDARD
TZOFFSETFROM:-0400
TZOFFSETTO:-0500
TZNAME:EST
DTSTART:20151101T060000
END:STANDARD
END:VTIMEZONE
BEGIN:VEVENT
DTSTART;TZID=America/New_York:20140628T110000
DTEND;TZID=America/New_York:20140628T160000
DTSTAMP:20260422T050024
CREATED:20140626T171145Z
LAST-MODIFIED:20140626T171145Z
UID:2188-1403953200-1403971200@playpittsburgh.com
SUMMARY:Pop's Farm Yard @ Triple B Farms
DESCRIPTION:It’s a festival atmosphere every weekend at Triple B starting June 28! \nFrom 11 a.m. to 4 p.m. Saturdays and Sundays\, you can buy a $5 all-inclusive Pasture Play Wristband that gives you admission to all of these fun activities: \nA Farm Full of Family Fun featuring: \n\nSquirrel Hill Tunnel Slide: Sit on a burlap sack and zoom down a tube slide through a hill.\nRompin’ Rope Maze: Work your way through the maze to the curvy slide in the center!\nDucky Derby Races: See how fast you can crank the pump to make the rubber duckies shoot across a pipe.\nHay Bale Jump: Climb and jump all over small square bales and huge round bales of hay.\nEducation Acres: The basement of the big blue barn is now a hands-on learning station\, all about farming!\nGoatfield Street Bridge and other farm animals: Visit and feed our pygmy goats (and watch them climb the bridge)\, chickens\, potbellied pig\, rabbits and other farm animals.\nObservation Beehive: Watch the bees at work through a glass-fronted hive.\nFarm Playground: Enjoy the playbarn\, loft house\, tractors for climbing\, and other farm structures.\nHayrides: Available on festival dates only; call for specific dates.
URL:https://playpittsburgh.com/event/pops-farm-yard-triple-b-farms/2014-06-28/
LOCATION:Triple B Farms\, 823 Berry Ln\, Monongahela\, PA\, 15063\, United States
CATEGORIES:Animal Attractions,Festivals,Outdoor
GEO:40.227675;-79.946589
X-APPLE-STRUCTURED-LOCATION;VALUE=URI;X-ADDRESS=Triple B Farms 823 Berry Ln Monongahela PA 15063 United States;X-APPLE-RADIUS=500;X-TITLE=823 Berry Ln:geo:-79.946589,40.227675
END:VEVENT
BEGIN:VEVENT
DTSTART;TZID=America/New_York:20140628T110000
DTEND;TZID=America/New_York:20140628T160000
DTSTAMP:20260422T050024
CREATED:20140626T171145Z
LAST-MODIFIED:20140626T171145Z
UID:6330-1403953200-1403971200@playpittsburgh.com
SUMMARY:Pop's Farm Yard @ Triple B Farms
DESCRIPTION:It’s a festival atmosphere every weekend at Triple B starting June 28! \nFrom 11 a.m. to 4 p.m. Saturdays and Sundays\, you can buy a $5 all-inclusive Pasture Play Wristband that gives you admission to all of these fun activities: \nA Farm Full of Family Fun featuring: \n\nSquirrel Hill Tunnel Slide: Sit on a burlap sack and zoom down a tube slide through a hill.\nRompin’ Rope Maze: Work your way through the maze to the curvy slide in the center!\nDucky Derby Races: See how fast you can crank the pump to make the rubber duckies shoot across a pipe.\nHay Bale Jump: Climb and jump all over small square bales and huge round bales of hay.\nEducation Acres: The basement of the big blue barn is now a hands-on learning station\, all about farming!\nGoatfield Street Bridge and other farm animals: Visit and feed our pygmy goats (and watch them climb the bridge)\, chickens\, potbellied pig\, rabbits and other farm animals.\nObservation Beehive: Watch the bees at work through a glass-fronted hive.\nFarm Playground: Enjoy the playbarn\, loft house\, tractors for climbing\, and other farm structures.\nHayrides: Available on festival dates only; call for specific dates.
URL:https://playpittsburgh.com/event/pops-farm-yard-triple-b-farms-3/2014-06-28/
LOCATION:Triple B Farms\, 823 Berry Ln\, Monongahela\, PA\, 15063\, United States
CATEGORIES:Animal Attractions,Festivals,Outdoor
GEO:40.227675;-79.946589
X-APPLE-STRUCTURED-LOCATION;VALUE=URI;X-ADDRESS=Triple B Farms 823 Berry Ln Monongahela PA 15063 United States;X-APPLE-RADIUS=500;X-TITLE=823 Berry Ln:geo:-79.946589,40.227675
END:VEVENT
END:VCALENDAR