BEGIN:VCALENDAR
VERSION:2.0
PRODID:-//Play Pittsburgh - ECPv6.15.20//NONSGML v1.0//EN
CALSCALE:GREGORIAN
METHOD:PUBLISH
X-ORIGINAL-URL:https://playpittsburgh.com
X-WR-CALDESC:Events for Play Pittsburgh
REFRESH-INTERVAL;VALUE=DURATION:PT1H
X-Robots-Tag:noindex
X-PUBLISHED-TTL:PT1H
BEGIN:VTIMEZONE
TZID:America/New_York
BEGIN:DAYLIGHT
TZOFFSETFROM:-0500
TZOFFSETTO:-0400
TZNAME:EDT
DTSTART:20130310T070000
END:DAYLIGHT
BEGIN:STANDARD
TZOFFSETFROM:-0400
TZOFFSETTO:-0500
TZNAME:EST
DTSTART:20131103T060000
END:STANDARD
BEGIN:DAYLIGHT
TZOFFSETFROM:-0500
TZOFFSETTO:-0400
TZNAME:EDT
DTSTART:20140309T070000
END:DAYLIGHT
BEGIN:STANDARD
TZOFFSETFROM:-0400
TZOFFSETTO:-0500
TZNAME:EST
DTSTART:20141102T060000
END:STANDARD
BEGIN:DAYLIGHT
TZOFFSETFROM:-0500
TZOFFSETTO:-0400
TZNAME:EDT
DTSTART:20150308T070000
END:DAYLIGHT
BEGIN:STANDARD
TZOFFSETFROM:-0400
TZOFFSETTO:-0500
TZNAME:EST
DTSTART:20151101T060000
END:STANDARD
BEGIN:DAYLIGHT
TZOFFSETFROM:-0500
TZOFFSETTO:-0400
TZNAME:EDT
DTSTART:20160313T070000
END:DAYLIGHT
BEGIN:STANDARD
TZOFFSETFROM:-0400
TZOFFSETTO:-0500
TZNAME:EST
DTSTART:20161106T060000
END:STANDARD
END:VTIMEZONE
BEGIN:VEVENT
DTSTART;TZID=America/New_York:20150614T100000
DTEND;TZID=America/New_York:20150614T160000
DTSTAMP:20260422T012143
CREATED:20150530T005433Z
LAST-MODIFIED:20150530T005433Z
UID:8786-1434276000-1434297600@playpittsburgh.com
SUMMARY:Trax Farms Strawberry Festival
DESCRIPTION:2015 Trax Farm Strawberry Festival is on Saturday\, June 13th & Sunday\, June 14th. Both days are filled with delicious strawberry treats\, children’s activities and more. Event hours are 10:00 am – 4:00 pm. \nStrawberry Festival Activities \n\nGarden Craft\nBounce House\nRainbow Express Train Rides\nStrawberry Festival Live Entertainment\nSaturday – The Right Turn Clyde Band\nSunday – See the Summer\n\nStrawberry Festival Menu \n\nHam BBQ\nHot Dog\nSoft Pretzel\nBelgium Waffle\nStrawberry Shortcake\nStrawberry Sundae\nBowl of Strawberries\nHand Dipped Ice Cream\nStrawberry Slushie\nMilkshakes – Strawberry\, Chocolate & Vanilla\nChocolate Covered Strawberries\nPop\nWater\nCapri Sun\nCoffee
URL:https://playpittsburgh.com/event/trax-farms-strawberry-festival/2015-06-14/
LOCATION:Trax Farm\, 528 Trax Rd\, Finleyville \, PA\, 15332\, United States
GEO:40.2765472;-80.0307832
X-APPLE-STRUCTURED-LOCATION;VALUE=URI;X-ADDRESS=Trax Farm 528 Trax Rd Finleyville  PA 15332 United States;X-APPLE-RADIUS=500;X-TITLE=528 Trax Rd:geo:-80.0307832,40.2765472
END:VEVENT
BEGIN:VEVENT
DTSTART;TZID=America/New_York:20150613T100000
DTEND;TZID=America/New_York:20150613T160000
DTSTAMP:20260422T012143
CREATED:20150530T005433Z
LAST-MODIFIED:20150530T005433Z
UID:8785-1434189600-1434211200@playpittsburgh.com
SUMMARY:Trax Farms Strawberry Festival
DESCRIPTION:2015 Trax Farm Strawberry Festival is on Saturday\, June 13th & Sunday\, June 14th. Both days are filled with delicious strawberry treats\, children’s activities and more. Event hours are 10:00 am – 4:00 pm. \nStrawberry Festival Activities \n\nGarden Craft\nBounce House\nRainbow Express Train Rides\nStrawberry Festival Live Entertainment\nSaturday – The Right Turn Clyde Band\nSunday – See the Summer\n\nStrawberry Festival Menu \n\nHam BBQ\nHot Dog\nSoft Pretzel\nBelgium Waffle\nStrawberry Shortcake\nStrawberry Sundae\nBowl of Strawberries\nHand Dipped Ice Cream\nStrawberry Slushie\nMilkshakes – Strawberry\, Chocolate & Vanilla\nChocolate Covered Strawberries\nPop\nWater\nCapri Sun\nCoffee
URL:https://playpittsburgh.com/event/trax-farms-strawberry-festival/2015-06-13/
LOCATION:Trax Farm\, 528 Trax Rd\, Finleyville \, PA\, 15332\, United States
GEO:40.2765472;-80.0307832
X-APPLE-STRUCTURED-LOCATION;VALUE=URI;X-ADDRESS=Trax Farm 528 Trax Rd Finleyville  PA 15332 United States;X-APPLE-RADIUS=500;X-TITLE=528 Trax Rd:geo:-80.0307832,40.2765472
END:VEVENT
BEGIN:VEVENT
DTSTART;TZID=America/New_York:20150404T103000
DTEND;TZID=America/New_York:20150404T133000
DTSTAMP:20260422T012143
CREATED:20150325T132915Z
LAST-MODIFIED:20150325T132915Z
UID:8313-1428143400-1428154200@playpittsburgh.com
SUMMARY:Egg Hunts at Trax Farm
DESCRIPTION:Egg Hunts / Outdoors Weather Permitting \nHunt for Easter eggs hidden in the Egg Patch! Three age appropriate patches. Hunts start every 30 minutes beginning at 10:30am. \nDates: March 28-29 & April 3-4\nStart Time: 10:30am\nLast Hunt: 1:30pm \nReservation: Not required; advance ticket purchase recommended. \nOther Easter Activities Include: \n\nBounce House\nPetting Zoo\nEgg Toss\nPony Rides
URL:https://playpittsburgh.com/event/egg-hunts-at-trax-farm/2015-04-04/
LOCATION:Trax Farm\, 528 Trax Rd\, Finleyville \, PA\, 15332\, United States
GEO:40.2765472;-80.0307832
X-APPLE-STRUCTURED-LOCATION;VALUE=URI;X-ADDRESS=Trax Farm 528 Trax Rd Finleyville  PA 15332 United States;X-APPLE-RADIUS=500;X-TITLE=528 Trax Rd:geo:-80.0307832,40.2765472
END:VEVENT
BEGIN:VEVENT
DTSTART;TZID=America/New_York:20150404T093000
DTEND;TZID=America/New_York:20150404T103000
DTSTAMP:20260422T012143
CREATED:20150325T131921Z
LAST-MODIFIED:20150325T131921Z
UID:8312-1428139800-1428143400@playpittsburgh.com
SUMMARY:Trax Farm Breakfast with the Bunny
DESCRIPTION:Enjoy breakfast with the Easter Bunny! There will also be an opportunity to make a fun springtime craft and have the chance to enter a coloring contest. Reservations required. \nDates: March 28-29 & April 3-4
URL:https://playpittsburgh.com/event/trax-farm-breakfast-with-the-bunny/2015-04-04/
LOCATION:Trax Farm\, 528 Trax Rd\, Finleyville \, PA\, 15332\, United States
GEO:40.2765472;-80.0307832
X-APPLE-STRUCTURED-LOCATION;VALUE=URI;X-ADDRESS=Trax Farm 528 Trax Rd Finleyville  PA 15332 United States;X-APPLE-RADIUS=500;X-TITLE=528 Trax Rd:geo:-80.0307832,40.2765472
END:VEVENT
BEGIN:VEVENT
DTSTART;TZID=America/New_York:20150403T103000
DTEND;TZID=America/New_York:20150403T130000
DTSTAMP:20260422T012143
CREATED:20150325T133159Z
LAST-MODIFIED:20150325T133159Z
UID:5643-1428057000-1428066000@playpittsburgh.com
SUMMARY:Egg Hunts at Trax Farm
DESCRIPTION:Egg Hunts / Outdoors Weather Permitting \nHunt for Easter eggs hidden in the Egg Patch! Three age appropriate patches. Hunts start every 30 minutes beginning at 10:30am. \nDates: March 28-29 & April 3-4\nStart Time: 10:30am\nLast Hunt: 1:30pm \nReservation: Not required; advance ticket purchase recommended. \nOther Easter Activities Include: \n\nBounce House\nPetting Zoo\nEgg Toss\nPony Rides
URL:https://playpittsburgh.com/event/egg-hunts-at-trax-farm-3/
LOCATION:Trax Farm\, 528 Trax Rd\, Finleyville \, PA\, 15332\, United States
GEO:40.2765472;-80.0307832
X-APPLE-STRUCTURED-LOCATION;VALUE=URI;X-ADDRESS=Trax Farm 528 Trax Rd Finleyville  PA 15332 United States;X-APPLE-RADIUS=500;X-TITLE=528 Trax Rd:geo:-80.0307832,40.2765472
END:VEVENT
BEGIN:VEVENT
DTSTART;TZID=America/New_York:20150403T093000
DTEND;TZID=America/New_York:20150403T103000
DTSTAMP:20260422T012143
CREATED:20150325T132153Z
LAST-MODIFIED:20150325T132153Z
UID:5637-1428053400-1428057000@playpittsburgh.com
SUMMARY:Trax Farm Breakfast with the Bunny
DESCRIPTION:Enjoy breakfast with the Easter Bunny! There will also be an opportunity to make a fun springtime craft and have the chance to enter a coloring contest. Reservations required. \nDates: March 28-29 & April 3-4
URL:https://playpittsburgh.com/event/trax-farm-breakfast-with-the-bunny-2/
LOCATION:Trax Farm\, 528 Trax Rd\, Finleyville \, PA\, 15332\, United States
GEO:40.2765472;-80.0307832
X-APPLE-STRUCTURED-LOCATION;VALUE=URI;X-ADDRESS=Trax Farm 528 Trax Rd Finleyville  PA 15332 United States;X-APPLE-RADIUS=500;X-TITLE=528 Trax Rd:geo:-80.0307832,40.2765472
END:VEVENT
BEGIN:VEVENT
DTSTART;TZID=America/New_York:20150329T103000
DTEND;TZID=America/New_York:20150329T130000
DTSTAMP:20260422T012143
CREATED:20150325T133048Z
LAST-MODIFIED:20150325T133048Z
UID:5642-1427625000-1427634000@playpittsburgh.com
SUMMARY:Egg Hunts at Trax Farm
DESCRIPTION:Egg Hunts / Outdoors Weather Permitting \nHunt for Easter eggs hidden in the Egg Patch! Three age appropriate patches. Hunts start every 30 minutes beginning at 10:30am. \nDates: March 28-29 & April 3-4\nStart Time: 10:30am\nLast Hunt: 1:30pm \nReservation: Not required; advance ticket purchase recommended. \nOther Easter Activities Include: \n\nBounce House\nPetting Zoo\nEgg Toss\nPony Rides
URL:https://playpittsburgh.com/event/egg-hunts-at-trax-farm-2/
LOCATION:Trax Farm\, 528 Trax Rd\, Finleyville \, PA\, 15332\, United States
GEO:40.2765472;-80.0307832
X-APPLE-STRUCTURED-LOCATION;VALUE=URI;X-ADDRESS=Trax Farm 528 Trax Rd Finleyville  PA 15332 United States;X-APPLE-RADIUS=500;X-TITLE=528 Trax Rd:geo:-80.0307832,40.2765472
END:VEVENT
BEGIN:VEVENT
DTSTART;TZID=America/New_York:20150329T093000
DTEND;TZID=America/New_York:20150329T103000
DTSTAMP:20260422T012143
CREATED:20150325T132326Z
LAST-MODIFIED:20150325T132326Z
UID:5638-1427621400-1427625000@playpittsburgh.com
SUMMARY:Trax Farm Breakfast with the Bunny
DESCRIPTION:Enjoy breakfast with the Easter Bunny! There will also be an opportunity to make a fun springtime craft and have the chance to enter a coloring contest. Reservations required. \nDates: March 28-29 & April 3-4
URL:https://playpittsburgh.com/event/trax-farm-breakfast-with-the-bunny-3/
LOCATION:Trax Farm\, 528 Trax Rd\, Finleyville \, PA\, 15332\, United States
GEO:40.2765472;-80.0307832
X-APPLE-STRUCTURED-LOCATION;VALUE=URI;X-ADDRESS=Trax Farm 528 Trax Rd Finleyville  PA 15332 United States;X-APPLE-RADIUS=500;X-TITLE=528 Trax Rd:geo:-80.0307832,40.2765472
END:VEVENT
BEGIN:VEVENT
DTSTART;TZID=America/New_York:20150328T103000
DTEND;TZID=America/New_York:20150328T133000
DTSTAMP:20260422T012143
CREATED:20150325T132915Z
LAST-MODIFIED:20150325T132915Z
UID:5639-1427538600-1427549400@playpittsburgh.com
SUMMARY:Egg Hunts at Trax Farm
DESCRIPTION:Egg Hunts / Outdoors Weather Permitting \nHunt for Easter eggs hidden in the Egg Patch! Three age appropriate patches. Hunts start every 30 minutes beginning at 10:30am. \nDates: March 28-29 & April 3-4\nStart Time: 10:30am\nLast Hunt: 1:30pm \nReservation: Not required; advance ticket purchase recommended. \nOther Easter Activities Include: \n\nBounce House\nPetting Zoo\nEgg Toss\nPony Rides
URL:https://playpittsburgh.com/event/egg-hunts-at-trax-farm/2015-03-28/
LOCATION:Trax Farm\, 528 Trax Rd\, Finleyville \, PA\, 15332\, United States
GEO:40.2765472;-80.0307832
X-APPLE-STRUCTURED-LOCATION;VALUE=URI;X-ADDRESS=Trax Farm 528 Trax Rd Finleyville  PA 15332 United States;X-APPLE-RADIUS=500;X-TITLE=528 Trax Rd:geo:-80.0307832,40.2765472
END:VEVENT
BEGIN:VEVENT
DTSTART;TZID=America/New_York:20150328T093000
DTEND;TZID=America/New_York:20150328T103000
DTSTAMP:20260422T012143
CREATED:20150325T131921Z
LAST-MODIFIED:20150325T131921Z
UID:5635-1427535000-1427538600@playpittsburgh.com
SUMMARY:Trax Farm Breakfast with the Bunny
DESCRIPTION:Enjoy breakfast with the Easter Bunny! There will also be an opportunity to make a fun springtime craft and have the chance to enter a coloring contest. Reservations required. \nDates: March 28-29 & April 3-4
URL:https://playpittsburgh.com/event/trax-farm-breakfast-with-the-bunny/2015-03-28/
LOCATION:Trax Farm\, 528 Trax Rd\, Finleyville \, PA\, 15332\, United States
GEO:40.2765472;-80.0307832
X-APPLE-STRUCTURED-LOCATION;VALUE=URI;X-ADDRESS=Trax Farm 528 Trax Rd Finleyville  PA 15332 United States;X-APPLE-RADIUS=500;X-TITLE=528 Trax Rd:geo:-80.0307832,40.2765472
END:VEVENT
BEGIN:VEVENT
DTSTART;TZID=America/New_York:20141221T093000
DTEND;TZID=America/New_York:20141221T123000
DTSTAMP:20260422T012143
CREATED:20141204T060454Z
LAST-MODIFIED:20141204T060454Z
UID:8195-1419154200-1419165000@playpittsburgh.com
SUMMARY:Breakfast with Santa at Trax Farms
DESCRIPTION:Santa Claus is coming to Trax Farms! Every year Santa takes a break from his busy schedule on the last few weekends leading up to Christmas to visit his favorite farm. This year he’ll be visiting Trax on Saturdays and Sundays\, December 6 through 21. Make plans to join Trax Farms for holiday fun for the entire family.\nVisit with Santa\, bring your wish list\, make a Christmas craft\, and enjoy a nutritious breakfast or lunch along with a special Christmas treat. Additional food items for the “older kids” in your group are always available for purchase so no one has to go home hungry! Make your reservations at Customer Service or call 412.835.3246. Please have your credit card ready. Seating is limited; make reservations early for this memorable holiday activity for the family. \nBreakfast with Santa Claus\nStart Time: 9:30am\nTickets: $8 \nLunch with Santa\nStart Time: 12:30pm\nTickets: $8
URL:https://playpittsburgh.com/event/breakfast-with-santa-at-trax-farms-2/2014-12-21/
LOCATION:Trax Farm\, 528 Trax Rd\, Finleyville \, PA\, 15332\, United States
GEO:40.2765472;-80.0307832
X-APPLE-STRUCTURED-LOCATION;VALUE=URI;X-ADDRESS=Trax Farm 528 Trax Rd Finleyville  PA 15332 United States;X-APPLE-RADIUS=500;X-TITLE=528 Trax Rd:geo:-80.0307832,40.2765472
END:VEVENT
BEGIN:VEVENT
DTSTART;TZID=America/New_York:20141220T093000
DTEND;TZID=America/New_York:20141220T123000
DTSTAMP:20260422T012143
CREATED:20141204T060037Z
LAST-MODIFIED:20141204T060037Z
UID:8193-1419067800-1419078600@playpittsburgh.com
SUMMARY:Breakfast with Santa at Trax Farms
DESCRIPTION:Santa Claus is coming to Trax Farms! Every year Santa takes a break from his busy schedule on the last few weekends leading up to Christmas to visit his favorite farm. This year he’ll be visiting Trax on Saturdays and Sundays\, December 6 through 21. Make plans to join Trax Farms for holiday fun for the entire family.\nVisit with Santa\, bring your wish list\, make a Christmas craft\, and enjoy a nutritious breakfast or lunch along with a special Christmas treat. Additional food items for the “older kids” in your group are always available for purchase so no one has to go home hungry! Make your reservations at Customer Service or call 412.835.3246. Please have your credit card ready. Seating is limited; make reservations early for this memorable holiday activity for the family. \nBreakfast with Santa Claus\nStart Time: 9:30am\nTickets: $8 \nLunch with Santa\nStart Time: 12:30pm\nTickets: $8
URL:https://playpittsburgh.com/event/breakfast-with-santa-at-trax-farms/2014-12-20/
LOCATION:Trax Farm\, 528 Trax Rd\, Finleyville \, PA\, 15332\, United States
GEO:40.2765472;-80.0307832
X-APPLE-STRUCTURED-LOCATION;VALUE=URI;X-ADDRESS=Trax Farm 528 Trax Rd Finleyville  PA 15332 United States;X-APPLE-RADIUS=500;X-TITLE=528 Trax Rd:geo:-80.0307832,40.2765472
END:VEVENT
BEGIN:VEVENT
DTSTART;TZID=America/New_York:20141214T093000
DTEND;TZID=America/New_York:20141214T123000
DTSTAMP:20260422T012143
CREATED:20141204T060454Z
LAST-MODIFIED:20141204T060454Z
UID:8194-1418549400-1418560200@playpittsburgh.com
SUMMARY:Breakfast with Santa at Trax Farms
DESCRIPTION:Santa Claus is coming to Trax Farms! Every year Santa takes a break from his busy schedule on the last few weekends leading up to Christmas to visit his favorite farm. This year he’ll be visiting Trax on Saturdays and Sundays\, December 6 through 21. Make plans to join Trax Farms for holiday fun for the entire family.\nVisit with Santa\, bring your wish list\, make a Christmas craft\, and enjoy a nutritious breakfast or lunch along with a special Christmas treat. Additional food items for the “older kids” in your group are always available for purchase so no one has to go home hungry! Make your reservations at Customer Service or call 412.835.3246. Please have your credit card ready. Seating is limited; make reservations early for this memorable holiday activity for the family. \nBreakfast with Santa Claus\nStart Time: 9:30am\nTickets: $8 \nLunch with Santa\nStart Time: 12:30pm\nTickets: $8
URL:https://playpittsburgh.com/event/breakfast-with-santa-at-trax-farms-2/2014-12-14/
LOCATION:Trax Farm\, 528 Trax Rd\, Finleyville \, PA\, 15332\, United States
GEO:40.2765472;-80.0307832
X-APPLE-STRUCTURED-LOCATION;VALUE=URI;X-ADDRESS=Trax Farm 528 Trax Rd Finleyville  PA 15332 United States;X-APPLE-RADIUS=500;X-TITLE=528 Trax Rd:geo:-80.0307832,40.2765472
END:VEVENT
BEGIN:VEVENT
DTSTART;TZID=America/New_York:20141213T093000
DTEND;TZID=America/New_York:20141213T123000
DTSTAMP:20260422T012143
CREATED:20141204T060037Z
LAST-MODIFIED:20141204T060037Z
UID:8192-1418463000-1418473800@playpittsburgh.com
SUMMARY:Breakfast with Santa at Trax Farms
DESCRIPTION:Santa Claus is coming to Trax Farms! Every year Santa takes a break from his busy schedule on the last few weekends leading up to Christmas to visit his favorite farm. This year he’ll be visiting Trax on Saturdays and Sundays\, December 6 through 21. Make plans to join Trax Farms for holiday fun for the entire family.\nVisit with Santa\, bring your wish list\, make a Christmas craft\, and enjoy a nutritious breakfast or lunch along with a special Christmas treat. Additional food items for the “older kids” in your group are always available for purchase so no one has to go home hungry! Make your reservations at Customer Service or call 412.835.3246. Please have your credit card ready. Seating is limited; make reservations early for this memorable holiday activity for the family. \nBreakfast with Santa Claus\nStart Time: 9:30am\nTickets: $8 \nLunch with Santa\nStart Time: 12:30pm\nTickets: $8
URL:https://playpittsburgh.com/event/breakfast-with-santa-at-trax-farms/2014-12-13/
LOCATION:Trax Farm\, 528 Trax Rd\, Finleyville \, PA\, 15332\, United States
GEO:40.2765472;-80.0307832
X-APPLE-STRUCTURED-LOCATION;VALUE=URI;X-ADDRESS=Trax Farm 528 Trax Rd Finleyville  PA 15332 United States;X-APPLE-RADIUS=500;X-TITLE=528 Trax Rd:geo:-80.0307832,40.2765472
END:VEVENT
BEGIN:VEVENT
DTSTART;TZID=America/New_York:20141207T093000
DTEND;TZID=America/New_York:20141207T123000
DTSTAMP:20260422T012143
CREATED:20141204T060454Z
LAST-MODIFIED:20141204T060454Z
UID:5119-1417944600-1417955400@playpittsburgh.com
SUMMARY:Breakfast with Santa at Trax Farms
DESCRIPTION:Santa Claus is coming to Trax Farms! Every year Santa takes a break from his busy schedule on the last few weekends leading up to Christmas to visit his favorite farm. This year he’ll be visiting Trax on Saturdays and Sundays\, December 6 through 21. Make plans to join Trax Farms for holiday fun for the entire family.\nVisit with Santa\, bring your wish list\, make a Christmas craft\, and enjoy a nutritious breakfast or lunch along with a special Christmas treat. Additional food items for the “older kids” in your group are always available for purchase so no one has to go home hungry! Make your reservations at Customer Service or call 412.835.3246. Please have your credit card ready. Seating is limited; make reservations early for this memorable holiday activity for the family. \nBreakfast with Santa Claus\nStart Time: 9:30am\nTickets: $8 \nLunch with Santa\nStart Time: 12:30pm\nTickets: $8
URL:https://playpittsburgh.com/event/breakfast-with-santa-at-trax-farms-2/2014-12-07/
LOCATION:Trax Farm\, 528 Trax Rd\, Finleyville \, PA\, 15332\, United States
GEO:40.2765472;-80.0307832
X-APPLE-STRUCTURED-LOCATION;VALUE=URI;X-ADDRESS=Trax Farm 528 Trax Rd Finleyville  PA 15332 United States;X-APPLE-RADIUS=500;X-TITLE=528 Trax Rd:geo:-80.0307832,40.2765472
END:VEVENT
BEGIN:VEVENT
DTSTART;TZID=America/New_York:20141206T093000
DTEND;TZID=America/New_York:20141206T123000
DTSTAMP:20260422T012143
CREATED:20141204T060037Z
LAST-MODIFIED:20141204T060037Z
UID:5116-1417858200-1417869000@playpittsburgh.com
SUMMARY:Breakfast with Santa at Trax Farms
DESCRIPTION:Santa Claus is coming to Trax Farms! Every year Santa takes a break from his busy schedule on the last few weekends leading up to Christmas to visit his favorite farm. This year he’ll be visiting Trax on Saturdays and Sundays\, December 6 through 21. Make plans to join Trax Farms for holiday fun for the entire family.\nVisit with Santa\, bring your wish list\, make a Christmas craft\, and enjoy a nutritious breakfast or lunch along with a special Christmas treat. Additional food items for the “older kids” in your group are always available for purchase so no one has to go home hungry! Make your reservations at Customer Service or call 412.835.3246. Please have your credit card ready. Seating is limited; make reservations early for this memorable holiday activity for the family. \nBreakfast with Santa Claus\nStart Time: 9:30am\nTickets: $8 \nLunch with Santa\nStart Time: 12:30pm\nTickets: $8
URL:https://playpittsburgh.com/event/breakfast-with-santa-at-trax-farms/2014-12-06/
LOCATION:Trax Farm\, 528 Trax Rd\, Finleyville \, PA\, 15332\, United States
GEO:40.2765472;-80.0307832
X-APPLE-STRUCTURED-LOCATION;VALUE=URI;X-ADDRESS=Trax Farm 528 Trax Rd Finleyville  PA 15332 United States;X-APPLE-RADIUS=500;X-TITLE=528 Trax Rd:geo:-80.0307832,40.2765472
END:VEVENT
BEGIN:VEVENT
DTSTART;TZID=America/New_York:20140921T100000
DTEND;TZID=America/New_York:20140921T170000
DTSTAMP:20260422T012143
CREATED:20140901T191445Z
LAST-MODIFIED:20140901T191445Z
UID:3482-1411293600-1411318800@playpittsburgh.com
SUMMARY:Trax Farm Fall Festival
DESCRIPTION:There’s something for everyone from grandparents to grandkids. Enjoy a hayride to our pumpkin patch to pick-your-own pumpkin or see if you can find your way through our giant\, 4-acre corn maze! \nDates: Sat & Sun\, Sept 20 – Oct 26\nOpens: 10am Closes: 5pm \nActivities that Require Tickets \n\nRainbow Express Train / Fun House $3\nBounce House $2\nBalloon Chase $2\nSpin Art / Giant Slide $2\nBungee Jumper $6\nRock Wall $6\nLand Balls $6\nHayrides – includes 4 acre Corn Maze & PYO Pumpkins!\n\nPetting Zoo – Free. Need to pay for feeding animals. \nPurchase tickets prior to getting in line for the activity! \nTickets can be purchased at ticket booths. \nNo ATM- cash back up to $50 with purchase at registers \nAll Steeler games will be on in the events room. \nAdmission \n\nAdult $8\nChildren (3-12) $6\nChildren 2 & under FREE\n\nLive Music \n\nOct 26: Dynamic Martial Arts\, Matt Tichon\nOct 27: California University Singers\, Pioneer Cloggers\n\nMenu \n\nPulled Pork Sandwich\nKielbasa\nPulled Pork Nachos\nCorn Dog or Hot Dog\nNachos & Cheese\nColeslaw\nCorn Bread\nApple Dumping with Ice Cream\nHand-Dipped Caramel or Candy Apple\nHomemade Apple Dumpling\nGobs\nFresh Apple Cider Slush\nFresh Hot or Cold Apple Cider
URL:https://playpittsburgh.com/event/trax-farm-fall-festival-2/2014-09-21/
LOCATION:Trax Farm\, 528 Trax Rd\, Finleyville \, PA\, 15332\, United States
CATEGORIES:Festivals,Outdoor
GEO:40.2765472;-80.0307832
X-APPLE-STRUCTURED-LOCATION;VALUE=URI;X-ADDRESS=Trax Farm 528 Trax Rd Finleyville  PA 15332 United States;X-APPLE-RADIUS=500;X-TITLE=528 Trax Rd:geo:-80.0307832,40.2765472
END:VEVENT
BEGIN:VEVENT
DTSTART;TZID=America/New_York:20140920T100000
DTEND;TZID=America/New_York:20140920T170000
DTSTAMP:20260422T012143
CREATED:20140901T191320Z
LAST-MODIFIED:20140901T191320Z
UID:3476-1411207200-1411232400@playpittsburgh.com
SUMMARY:Trax Farm Fall Festival
DESCRIPTION:There’s something for everyone from grandparents to grandkids. Enjoy a hayride to our pumpkin patch to pick-your-own pumpkin or see if you can find your way through our giant\, 4-acre corn maze! \nDates: Sat & Sun\, Sept 20 – Oct 26\nOpens: 10am Closes: 5pm \nActivities that Require Tickets \n\nRainbow Express Train / Fun House $3\nBounce House $2\nBalloon Chase $2\nSpin Art / Giant Slide $2\nBungee Jumper $6\nRock Wall $6\nLand Balls $6\nHayrides – includes 4 acre Corn Maze & PYO Pumpkins!\n\nPetting Zoo – Free. Need to pay for feeding animals. \nPurchase tickets prior to getting in line for the activity! \nTickets can be purchased at ticket booths. \nNo ATM- cash back up to $50 with purchase at registers \nAll Steeler games will be on in the events room. \nAdmission \n\nAdult $8\nChildren (3-12) $6\nChildren 2 & under FREE\n\nLive Music \n\nOct 26: Dynamic Martial Arts\, Matt Tichon\nOct 27: California University Singers\, Pioneer Cloggers\n\nMenu \n\nPulled Pork Sandwich\nKielbasa\nPulled Pork Nachos\nCorn Dog or Hot Dog\nNachos & Cheese\nColeslaw\nCorn Bread\nApple Dumping with Ice Cream\nHand-Dipped Caramel or Candy Apple\nHomemade Apple Dumpling\nGobs\nFresh Apple Cider Slush\nFresh Hot or Cold Apple Cider
URL:https://playpittsburgh.com/event/trax-farm-fall-festival/2014-09-20/
LOCATION:Trax Farm\, 528 Trax Rd\, Finleyville \, PA\, 15332\, United States
CATEGORIES:Festivals,Outdoor
GEO:40.2765472;-80.0307832
X-APPLE-STRUCTURED-LOCATION;VALUE=URI;X-ADDRESS=Trax Farm 528 Trax Rd Finleyville  PA 15332 United States;X-APPLE-RADIUS=500;X-TITLE=528 Trax Rd:geo:-80.0307832,40.2765472
END:VEVENT
BEGIN:VEVENT
DTSTART;TZID=America/New_York:20140613T100000
DTEND;TZID=America/New_York:20140613T160000
DTSTAMP:20260422T012143
CREATED:20140527T231557Z
LAST-MODIFIED:20140527T231557Z
UID:1790-1402653600-1402675200@playpittsburgh.com
SUMMARY:Trax Farm Strawberry Festival
DESCRIPTION:Trax Farms 23rd Annual Strawberry Festival starts on Friday\, June 14 to Sunday\, June 16th. All three days are filled with delicious strawberry treats\, children’s activities and more.  Pick-Your-Own Strawberries will be available until Noon\, while supplies last and weather permitting. \nStrawberry Festival Activites \n\nGlitter Tattoos\nBounce House\nPetting Zoo\nLive Entertainment\nRainbow Express Train Rides\nVariety of Food Items
URL:https://playpittsburgh.com/event/trax-farm-strawberry-festival/2014-06-13/
LOCATION:Trax Farm\, 528 Trax Rd\, Finleyville \, PA\, 15332\, United States
CATEGORIES:Animal Attractions,Festivals,Outdoor
GEO:40.2765472;-80.0307832
X-APPLE-STRUCTURED-LOCATION;VALUE=URI;X-ADDRESS=Trax Farm 528 Trax Rd Finleyville  PA 15332 United States;X-APPLE-RADIUS=500;X-TITLE=528 Trax Rd:geo:-80.0307832,40.2765472
END:VEVENT
END:VCALENDAR