BEGIN:VCALENDAR
VERSION:2.0
PRODID:-//Play Pittsburgh - ECPv6.15.20//NONSGML v1.0//EN
CALSCALE:GREGORIAN
METHOD:PUBLISH
X-WR-CALNAME:Play Pittsburgh
X-ORIGINAL-URL:https://playpittsburgh.com
X-WR-CALDESC:Events for Play Pittsburgh
REFRESH-INTERVAL;VALUE=DURATION:PT1H
X-Robots-Tag:noindex
X-PUBLISHED-TTL:PT1H
BEGIN:VTIMEZONE
TZID:America/New_York
BEGIN:DAYLIGHT
TZOFFSETFROM:-0500
TZOFFSETTO:-0400
TZNAME:EDT
DTSTART:20130310T070000
END:DAYLIGHT
BEGIN:STANDARD
TZOFFSETFROM:-0400
TZOFFSETTO:-0500
TZNAME:EST
DTSTART:20131103T060000
END:STANDARD
BEGIN:DAYLIGHT
TZOFFSETFROM:-0500
TZOFFSETTO:-0400
TZNAME:EDT
DTSTART:20140309T070000
END:DAYLIGHT
BEGIN:STANDARD
TZOFFSETFROM:-0400
TZOFFSETTO:-0500
TZNAME:EST
DTSTART:20141102T060000
END:STANDARD
BEGIN:DAYLIGHT
TZOFFSETFROM:-0500
TZOFFSETTO:-0400
TZNAME:EDT
DTSTART:20150308T070000
END:DAYLIGHT
BEGIN:STANDARD
TZOFFSETFROM:-0400
TZOFFSETTO:-0500
TZNAME:EST
DTSTART:20151101T060000
END:STANDARD
BEGIN:DAYLIGHT
TZOFFSETFROM:-0500
TZOFFSETTO:-0400
TZNAME:EDT
DTSTART:20160313T070000
END:DAYLIGHT
BEGIN:STANDARD
TZOFFSETFROM:-0400
TZOFFSETTO:-0500
TZNAME:EST
DTSTART:20161106T060000
END:STANDARD
END:VTIMEZONE
BEGIN:VEVENT
DTSTART;TZID=America/New_York:20150411T090000
DTEND;TZID=America/New_York:20150411T150000
DTSTAMP:20260422T102942
CREATED:20150410T054708Z
LAST-MODIFIED:20150410T054708Z
UID:5999-1428742800-1428764400@playpittsburgh.com
SUMMARY:Ninja Turtle Birthday Party at TOONseum
DESCRIPTION:The ToonSeum is throwing a birthday party for the Ninja Turtles and you’re invited! Come meet the Turtles and join the fun. Help us sing Happy Birthday to our Heroes in a Half Shell. We will have birthday cake\, pizza (of course)\, and refreshments. We’ll play games\, root for our favorite (real) turtle to win the turtle race\, sing songs and have great fun. Every child will leave with a grab bag of Turtle surprises. \nThe cost is $20 per child. Parents or guardians will be provided free museum admission. Get tickets here:turtlebirthday.eventbrite.com \nTwo session times available: \n\n9 – 11am\n1 – 3pm
URL:https://playpittsburgh.com/event/ninja-turtle-birthday-party-at-toonseum/
LOCATION:ToonSeum\, 945 Liberty Ave\, Pittsburgh \, PA\, 15222\, United States
GEO:40.4436032;-79.9964711
X-APPLE-STRUCTURED-LOCATION;VALUE=URI;X-ADDRESS=ToonSeum 945 Liberty Ave Pittsburgh  PA 15222 United States;X-APPLE-RADIUS=500;X-TITLE=945 Liberty Ave:geo:-79.9964711,40.4436032
END:VEVENT
BEGIN:VEVENT
DTSTART;TZID=America/New_York:20140517T160000
DTEND;TZID=America/New_York:20140517T190000
DTSTAMP:20260422T102942
CREATED:20140506T175252Z
LAST-MODIFIED:20140506T175252Z
UID:1168-1400342400-1400353200@playpittsburgh.com
SUMMARY:Little Golden Books Celebration
DESCRIPTION:The ToonSeum\, Pittsburgh’s Museum of Comic and Cartoon Art\, invites you to a Little Golden Books Celebration! \nJoin The ToonSeum on Saturday May 17th from 4pm-7pm as we celebrate a seven-decade long legacy of childhood memories through the iconic Little Golden Books. \nYou’ll have the opportunity to gain a rare glimpse of original art from many of your childhood favorites\, including Pokey Little Puppy\,The Tawny Lion\,  Tootle\, The Little Red Hen and many more. \nThere will be special story times with local celebrities including WTAE TV’s Sally Wiggin and everyone’s favorite neighbor\, Mr. McFeely!  The event also features hands-on crafts\, live performances\, artist demonstrations\, treats and more.  Each family will receive a very special Golden Book along with other surprises! \nThe Little Golden Books exhibition is chaired by Gregg and Yu-Ling Behr and made possible through the generous support of the Grable Foundation.  \n“We are thrilled to be a part of this special event which brings back wonderful childhood memories.  We can’t wait to bring our daughters and read our favorite books.” – Yu-Ling & Gregg Behr \nThe cost for the Little Golden Books Celebration is $25 per family (up to 2 adults and up to 3 children). Additional children/adults are just $5 each.  Tickets can be purchased online at www.eventbrite.com/events/goldenbooks \nThe Little Golden Books exhibit will be at the ToonSeum until July 5th 2014. \n 
URL:https://playpittsburgh.com/event/little-golden-books-celebration/
LOCATION:ToonSeum\, 945 Liberty Ave\, Pittsburgh \, PA\, 15222\, United States
CATEGORIES:Museums
GEO:40.4436032;-79.9964711
X-APPLE-STRUCTURED-LOCATION;VALUE=URI;X-ADDRESS=ToonSeum 945 Liberty Ave Pittsburgh  PA 15222 United States;X-APPLE-RADIUS=500;X-TITLE=945 Liberty Ave:geo:-79.9964711,40.4436032
END:VEVENT
END:VCALENDAR