BEGIN:VCALENDAR
VERSION:2.0
PRODID:-//Play Pittsburgh - ECPv6.15.20//NONSGML v1.0//EN
CALSCALE:GREGORIAN
METHOD:PUBLISH
X-ORIGINAL-URL:https://playpittsburgh.com
X-WR-CALDESC:Events for Play Pittsburgh
REFRESH-INTERVAL;VALUE=DURATION:PT1H
X-Robots-Tag:noindex
X-PUBLISHED-TTL:PT1H
BEGIN:VTIMEZONE
TZID:America/New_York
BEGIN:DAYLIGHT
TZOFFSETFROM:-0500
TZOFFSETTO:-0400
TZNAME:EDT
DTSTART:20130310T070000
END:DAYLIGHT
BEGIN:STANDARD
TZOFFSETFROM:-0400
TZOFFSETTO:-0500
TZNAME:EST
DTSTART:20131103T060000
END:STANDARD
BEGIN:DAYLIGHT
TZOFFSETFROM:-0500
TZOFFSETTO:-0400
TZNAME:EDT
DTSTART:20140309T070000
END:DAYLIGHT
BEGIN:STANDARD
TZOFFSETFROM:-0400
TZOFFSETTO:-0500
TZNAME:EST
DTSTART:20141102T060000
END:STANDARD
BEGIN:DAYLIGHT
TZOFFSETFROM:-0500
TZOFFSETTO:-0400
TZNAME:EDT
DTSTART:20150308T070000
END:DAYLIGHT
BEGIN:STANDARD
TZOFFSETFROM:-0400
TZOFFSETTO:-0500
TZNAME:EST
DTSTART:20151101T060000
END:STANDARD
END:VTIMEZONE
BEGIN:VEVENT
DTSTART;TZID=America/New_York:20141004T110000
DTEND;TZID=America/New_York:20141004T150000
DTSTAMP:20260422T023724
CREATED:20140930T184226Z
LAST-MODIFIED:20140930T184226Z
UID:3960-1412420400-1412434800@playpittsburgh.com
SUMMARY:Fair Oaks Volunteer Fire Department Touch-A-Truck
DESCRIPTION:Annual Touch-A-Truck event with over 30 vehicles! Games\, face painting\, bouncy houses and more!
URL:https://playpittsburgh.com/event/fair-oaks-volunteer-fire-department-touch-a-truck/
LOCATION:The Watson Institute\, 301 Camp Meeting Rd.\, Sewickley\, PA\, 15143\, United States
CATEGORIES:Outdoor
GEO:40.5736018;-80.2050296
X-APPLE-STRUCTURED-LOCATION;VALUE=URI;X-ADDRESS=The Watson Institute 301 Camp Meeting Rd. Sewickley PA 15143 United States;X-APPLE-RADIUS=500;X-TITLE=301 Camp Meeting Rd.:geo:-80.2050296,40.5736018
END:VEVENT
END:VCALENDAR