BEGIN:VCALENDAR
VERSION:2.0
PRODID:-//Play Pittsburgh - ECPv6.15.20//NONSGML v1.0//EN
CALSCALE:GREGORIAN
METHOD:PUBLISH
X-ORIGINAL-URL:https://playpittsburgh.com
X-WR-CALDESC:Events for Play Pittsburgh
REFRESH-INTERVAL;VALUE=DURATION:PT1H
X-Robots-Tag:noindex
X-PUBLISHED-TTL:PT1H
BEGIN:VTIMEZONE
TZID:America/New_York
BEGIN:DAYLIGHT
TZOFFSETFROM:-0500
TZOFFSETTO:-0400
TZNAME:EDT
DTSTART:20130310T070000
END:DAYLIGHT
BEGIN:STANDARD
TZOFFSETFROM:-0400
TZOFFSETTO:-0500
TZNAME:EST
DTSTART:20131103T060000
END:STANDARD
BEGIN:DAYLIGHT
TZOFFSETFROM:-0500
TZOFFSETTO:-0400
TZNAME:EDT
DTSTART:20140309T070000
END:DAYLIGHT
BEGIN:STANDARD
TZOFFSETFROM:-0400
TZOFFSETTO:-0500
TZNAME:EST
DTSTART:20141102T060000
END:STANDARD
BEGIN:DAYLIGHT
TZOFFSETFROM:-0500
TZOFFSETTO:-0400
TZNAME:EDT
DTSTART:20150308T070000
END:DAYLIGHT
BEGIN:STANDARD
TZOFFSETFROM:-0400
TZOFFSETTO:-0500
TZNAME:EST
DTSTART:20151101T060000
END:STANDARD
END:VTIMEZONE
BEGIN:VEVENT
DTSTART;TZID=America/New_York:20140702T170000
DTEND;TZID=America/New_York:20140702T190000
DTSTAMP:20260424T093310
CREATED:20140625T033123Z
LAST-MODIFIED:20140625T033123Z
UID:2046-1404320400-1404327600@playpittsburgh.com
SUMMARY:Rock the Block Summer Bash
DESCRIPTION:Fun live event for high school students (14-18) hosted by the Student Ministries program at Cornerstone Ministries. Rock the Block features a live DJ\, outdoor movie and tons of food and games. In addition\, there will be 3 on 3 basketball and 4 on 4 dek hockey and volleyball tournaments. The event is free to attend\, there is a team fee to compete.
URL:https://playpittsburgh.com/event/rock-the-block-summer-bash/
LOCATION:The Warehouse\, 2228 Boyd Rd.\, Export\, PA\, 15632\, United States
CATEGORIES:Free
GEO:40.4033351;-79.6065025
X-APPLE-STRUCTURED-LOCATION;VALUE=URI;X-ADDRESS=The Warehouse 2228 Boyd Rd. Export PA 15632 United States;X-APPLE-RADIUS=500;X-TITLE=2228 Boyd Rd.:geo:-79.6065025,40.4033351
END:VEVENT
END:VCALENDAR