BEGIN:VCALENDAR
VERSION:2.0
PRODID:-//Play Pittsburgh - ECPv6.15.20//NONSGML v1.0//EN
CALSCALE:GREGORIAN
METHOD:PUBLISH
X-ORIGINAL-URL:https://playpittsburgh.com
X-WR-CALDESC:Events for Play Pittsburgh
REFRESH-INTERVAL;VALUE=DURATION:PT1H
X-Robots-Tag:noindex
X-PUBLISHED-TTL:PT1H
BEGIN:VTIMEZONE
TZID:America/New_York
BEGIN:DAYLIGHT
TZOFFSETFROM:-0500
TZOFFSETTO:-0400
TZNAME:EDT
DTSTART:20130310T070000
END:DAYLIGHT
BEGIN:STANDARD
TZOFFSETFROM:-0400
TZOFFSETTO:-0500
TZNAME:EST
DTSTART:20131103T060000
END:STANDARD
BEGIN:DAYLIGHT
TZOFFSETFROM:-0500
TZOFFSETTO:-0400
TZNAME:EDT
DTSTART:20140309T070000
END:DAYLIGHT
BEGIN:STANDARD
TZOFFSETFROM:-0400
TZOFFSETTO:-0500
TZNAME:EST
DTSTART:20141102T060000
END:STANDARD
BEGIN:DAYLIGHT
TZOFFSETFROM:-0500
TZOFFSETTO:-0400
TZNAME:EDT
DTSTART:20150308T070000
END:DAYLIGHT
BEGIN:STANDARD
TZOFFSETFROM:-0400
TZOFFSETTO:-0500
TZNAME:EST
DTSTART:20151101T060000
END:STANDARD
BEGIN:DAYLIGHT
TZOFFSETFROM:-0500
TZOFFSETTO:-0400
TZNAME:EDT
DTSTART:20160313T070000
END:DAYLIGHT
BEGIN:STANDARD
TZOFFSETFROM:-0400
TZOFFSETTO:-0500
TZNAME:EST
DTSTART:20161106T060000
END:STANDARD
END:VTIMEZONE
BEGIN:VEVENT
DTSTART;TZID=America/New_York:20150516T110000
DTEND;TZID=America/New_York:20150516T140000
DTSTAMP:20260422T083026
CREATED:20150515T173153Z
LAST-MODIFIED:20150515T173153Z
UID:6974-1431774000-1431784800@playpittsburgh.com
SUMMARY:Fresh Fest 2015
DESCRIPTION:Fresh Fest will be a fun-filled afternoon of exciting entertainment and family-friendly activities in Pittsburgh’s lively Northside neighborhood\, California-Kirkbride\, May 16\, 2015.  Based on the farm-to-table concept\, Fresh Fest will be full of exciting opportunities to entertain the entire family. \nSpend some family time in Farm n’ Fun\, a kids zone full of hands-on activities. Participating collaborators will be Farm Truck Foods\, The Children’s Museum of Pittsburgh\, PSU Extension Nutrition\, Pittsburgh Food Policy Council\, and the Phipps Conservatory and Botanical Gardens\, the Carnegie Science Center\, the 4H Club and more. Kids will enjoy creative activities based on fresh foods.  And\, they’ll even have a make and take area where kids can create their own dish to take home or to eat right there.
URL:https://playpittsburgh.com/event/fresh-fest-2015/
LOCATION:The Strip District\, Smallman St\, Pittsburgh\, PA\, 15222\, United States
GEO:40.4555852;-79.9792305
X-APPLE-STRUCTURED-LOCATION;VALUE=URI;X-ADDRESS=The Strip District Smallman St Pittsburgh PA 15222 United States;X-APPLE-RADIUS=500;X-TITLE=Smallman St:geo:-79.9792305,40.4555852
END:VEVENT
BEGIN:VEVENT
DTSTART;TZID=America/New_York:20150516T100000
DTEND;TZID=America/New_York:20150516T140000
DTSTAMP:20260422T083026
CREATED:20150515T170136Z
LAST-MODIFIED:20150515T170136Z
UID:6969-1431770400-1431784800@playpittsburgh.com
SUMMARY:Touch-A-Truck in the Strip District
DESCRIPTION:The Junior League of Pittsburgh will host its eight annual Touch-a-Truck fundraiser on May 16th\, 2015 from 10am-2pm at 11th and Smallman St. lot in the Strip District. \nJoin in the fun rain or shine for the event where big trucks and kids become friends. Tickets for all attendees 12 months and older can be purchased in advance online for $4 or at the event for $5. \nLet your kids get behind the wheel\, honk the horns\, and meet the men and women who drive the trucks. Past event vehicles have included fire trucks\, ambulances\, police cars\, backhoe loaders\, and excavators among many others. And let’s not forget the food trucks!
URL:https://playpittsburgh.com/event/touch-a-truck-in-the-strip-district/
LOCATION:The Strip District\, Smallman St\, Pittsburgh\, PA\, 15222\, United States
GEO:40.4555852;-79.9792305
X-APPLE-STRUCTURED-LOCATION;VALUE=URI;X-ADDRESS=The Strip District Smallman St Pittsburgh PA 15222 United States;X-APPLE-RADIUS=500;X-TITLE=Smallman St:geo:-79.9792305,40.4555852
END:VEVENT
BEGIN:VEVENT
DTSTART;VALUE=DATE:20141116
DTEND;VALUE=DATE:20141117
DTSTAMP:20260422T083026
CREATED:20141103T014734Z
LAST-MODIFIED:20141103T014734Z
UID:6917-1416096000-1416182399@playpittsburgh.com
SUMMARY:Farm to Table Harvest Tasting
DESCRIPTION:The 3rd Annual Farm to Table Harvest Tasting is a casual gathering that allows consumers to experience first-hand the quality and diversity of locally grown\, produced and prepared food. \nExperience the Flavors of Fall…in the heart of it all! \nThe Farm to Table Pittsburgh Harvest Tasting moved to the Strip District to become the ultimate destination to sample the bounty of the Harvest. Swing through the Pittsburgh Public Market\, weave through the delicious vendors lining 24th Street\, sip and stroll through Wigle Whiskey and back again as you explore the best our local food purveyors\, chefs and farmers have to offer! \nOver 60 vendors will be carrying and sampling everything from artisinal cheeses and breads\, locally raised meats\, locally harvested fruits and vegetables\, sauces\, jams\, baked goods\, craft beers\, ciders\, cocktails\, wines and more! \nSee you in The Strip on Sunday November 16th!
URL:https://playpittsburgh.com/event/farm-to-table-harvest-tasting/
LOCATION:The Strip District\, Smallman St\, Pittsburgh\, PA\, 15222\, United States
ATTACH;FMTTYPE=:
GEO:40.4555852;-79.9792305
X-APPLE-STRUCTURED-LOCATION;VALUE=URI;X-ADDRESS=The Strip District Smallman St Pittsburgh PA 15222 United States;X-APPLE-RADIUS=500;X-TITLE=Smallman St:geo:-79.9792305,40.4555852
END:VEVENT
BEGIN:VEVENT
DTSTART;VALUE=DATE:20140912
DTEND;VALUE=DATE:20140915
DTSTAMP:20260422T083026
CREATED:20140902T024612Z
LAST-MODIFIED:20140902T024612Z
UID:3596-1410480000-1410739199@playpittsburgh.com
SUMMARY:Strip District World Festival
DESCRIPTION:Great music & entertainment\, ethnic food booths\, games & activities for kids\, sponsor booths and giveaways\, sidewalk sales and much more! \nEntertainment Schedule\nFriday\, September 12\, 2014 \n\n6:00 pm Christian Beck Band – Country\n7:30 pm The Hobb Sisters – Country\n\nSaturday\, September 13\, 2014 \n\n12:00 pm Liz Vitalbo – Italian Hits & Opera\n1:30 pm Billy Price\n4:00 pm Freedom Band – Reggae\n7:00 pm The Jaggerz\n\nSunday\, September 14\, 2014 \n\n1:00 pm Kenny Blake – Jazz/Latin Saxophonist\n2:30 pm The Granati Brothers\n4:30 pm Molly Hatchet
URL:https://playpittsburgh.com/event/strip-district-world-festival/
LOCATION:The Strip District\, Smallman St\, Pittsburgh\, PA\, 15222\, United States
CATEGORIES:Festivals,Outdoor,Performing Arts
GEO:40.4555852;-79.9792305
X-APPLE-STRUCTURED-LOCATION;VALUE=URI;X-ADDRESS=The Strip District Smallman St Pittsburgh PA 15222 United States;X-APPLE-RADIUS=500;X-TITLE=Smallman St:geo:-79.9792305,40.4555852
END:VEVENT
BEGIN:VEVENT
DTSTART;TZID=America/New_York:20140517T100000
DTEND;TZID=America/New_York:20140517T140000
DTSTAMP:20260422T083026
CREATED:20140422T054222Z
LAST-MODIFIED:20140422T054222Z
UID:736-1400320800-1400335200@playpittsburgh.com
SUMMARY:Touch-a-Truck
DESCRIPTION:Seventh annual Touch-A-Truck in the Strip District at 15th & Smallman Streets hosted by The Junior League of Pittsburgh. Let your kids get behind the wheel\, honk the horns and meet the men and women who drive the trucks. Tickets for all attendees 12 months and older can be purchased online for $4 or at the event for $5. Parking is FREE for attendees! \nFundraisers like Touch-a-Truck enable the Junior League of Pittsburgh to create and support programs to improve the lives of women and children in Pittsburgh since 1922. Proceeds generated will go toward supporting the mission and values of the JLP\, as well as initiatives like its Signature Project with iQ Kids Radio\, Kids in the Kitchen\, scholarships\, and other children’s charities. \n 
URL:https://playpittsburgh.com/event/touch-a-truck/
LOCATION:The Strip District\, Smallman St\, Pittsburgh\, PA\, 15222\, United States
CATEGORIES:Festivals,Fundraising
GEO:40.4555852;-79.9792305
X-APPLE-STRUCTURED-LOCATION;VALUE=URI;X-ADDRESS=The Strip District Smallman St Pittsburgh PA 15222 United States;X-APPLE-RADIUS=500;X-TITLE=Smallman St:geo:-79.9792305,40.4555852
END:VEVENT
END:VCALENDAR