BEGIN:VCALENDAR
VERSION:2.0
PRODID:-//Play Pittsburgh - ECPv6.15.20//NONSGML v1.0//EN
CALSCALE:GREGORIAN
METHOD:PUBLISH
X-WR-CALNAME:Play Pittsburgh
X-ORIGINAL-URL:https://playpittsburgh.com
X-WR-CALDESC:Events for Play Pittsburgh
REFRESH-INTERVAL;VALUE=DURATION:PT1H
X-Robots-Tag:noindex
X-PUBLISHED-TTL:PT1H
BEGIN:VTIMEZONE
TZID:America/New_York
BEGIN:DAYLIGHT
TZOFFSETFROM:-0500
TZOFFSETTO:-0400
TZNAME:EDT
DTSTART:20130310T070000
END:DAYLIGHT
BEGIN:STANDARD
TZOFFSETFROM:-0400
TZOFFSETTO:-0500
TZNAME:EST
DTSTART:20131103T060000
END:STANDARD
BEGIN:DAYLIGHT
TZOFFSETFROM:-0500
TZOFFSETTO:-0400
TZNAME:EDT
DTSTART:20140309T070000
END:DAYLIGHT
BEGIN:STANDARD
TZOFFSETFROM:-0400
TZOFFSETTO:-0500
TZNAME:EST
DTSTART:20141102T060000
END:STANDARD
BEGIN:DAYLIGHT
TZOFFSETFROM:-0500
TZOFFSETTO:-0400
TZNAME:EDT
DTSTART:20150308T070000
END:DAYLIGHT
BEGIN:STANDARD
TZOFFSETFROM:-0400
TZOFFSETTO:-0500
TZNAME:EST
DTSTART:20151101T060000
END:STANDARD
END:VTIMEZONE
BEGIN:VEVENT
DTSTART;TZID=America/New_York:20141220T140000
DTEND;TZID=America/New_York:20141220T160000
DTSTAMP:20260422T045626
CREATED:20141205T024522Z
LAST-MODIFIED:20141205T024522Z
UID:8215-1419084000-1419091200@playpittsburgh.com
SUMMARY:Rudolph\, Frosty\, The Grinch & Friends at The Strand Theater
DESCRIPTION:Live theater show at The Strand Theater. Rudolph\, Frosty\, The Grinch & Friends celebrates the music from these classic shows from the 1960s & 70s. Five cast members are on stage getting ready for their annual Christmas party. As they decorate the tree and serve hot cocoa\, they fondly reminisce about these shows and perform the songs alongside The Strand Theater Ensemble while video highlights and animations are projected onto an oversized backdrop.
URL:https://playpittsburgh.com/event/rudolph-frosty-the-grinch-friends-at-the-strand-theater/2014-12-20/
LOCATION:The Strand Theater\, 19 North Main Street\, Zelienople\, PA\, 16063\, United States
GEO:40.7957999;-80.1370983
X-APPLE-STRUCTURED-LOCATION;VALUE=URI;X-ADDRESS=The Strand Theater 19 North Main Street Zelienople PA 16063 United States;X-APPLE-RADIUS=500;X-TITLE=19 North Main Street:geo:-80.1370983,40.7957999
END:VEVENT
BEGIN:VEVENT
DTSTART;TZID=America/New_York:20141213T140000
DTEND;TZID=America/New_York:20141213T160000
DTSTAMP:20260422T045626
CREATED:20141205T024522Z
LAST-MODIFIED:20141205T024522Z
UID:5168-1418479200-1418486400@playpittsburgh.com
SUMMARY:Rudolph\, Frosty\, The Grinch & Friends at The Strand Theater
DESCRIPTION:Live theater show at The Strand Theater. Rudolph\, Frosty\, The Grinch & Friends celebrates the music from these classic shows from the 1960s & 70s. Five cast members are on stage getting ready for their annual Christmas party. As they decorate the tree and serve hot cocoa\, they fondly reminisce about these shows and perform the songs alongside The Strand Theater Ensemble while video highlights and animations are projected onto an oversized backdrop.
URL:https://playpittsburgh.com/event/rudolph-frosty-the-grinch-friends-at-the-strand-theater/2014-12-13/
LOCATION:The Strand Theater\, 19 North Main Street\, Zelienople\, PA\, 16063\, United States
GEO:40.7957999;-80.1370983
X-APPLE-STRUCTURED-LOCATION;VALUE=URI;X-ADDRESS=The Strand Theater 19 North Main Street Zelienople PA 16063 United States;X-APPLE-RADIUS=500;X-TITLE=19 North Main Street:geo:-80.1370983,40.7957999
END:VEVENT
BEGIN:VEVENT
DTSTART;VALUE=DATE:20141207
DTEND;VALUE=DATE:20141208
DTSTAMP:20260422T045626
CREATED:20141204T025935Z
LAST-MODIFIED:20141204T025935Z
UID:8187-1417910400-1417996799@playpittsburgh.com
SUMMARY:Polar Express Showing at The Strand Theater
DESCRIPTION:Starring the Voice of Tom Hanks\nHanks voices many roles in this heartwarming tale that has become a contemporary classic and holiday favorite. \nSanta Claus does not exist. Or does he? For one doubting boy\, an astonishing event occurs. Late on Christmas Eve\, he lies in bed hoping to hear the sound of reindeer bells from Santa’s sleigh. When\, to his surprise\, a steam engine’s roar and whistle can be heard outside his window. \nThe conductor invites him on board to take an extraordinary journey to the North Pole with many other pajama-clad children. There\, he receives an extraordinary gift only those who still believe in Santa can experience.\nThe film used 3D motion capture techniques to digitally record the physical performances of the actors before “skinning” them with their animated forms. All the children’s roles were acted by adults using oversized props to get the movement right.\nThe locomotive in the movie is based on the Pere Marquette 1225\, a restored steam locomotive located in Owosso\, MI. In fact\, many of the sound effects of the film’s train are recordings of the actual train. The train is often run between Owosso and nearby Chesaning for rides during festivals. \nFri & Sat\, Dec 5 & 6 7:30pm\nSpecial Sun Matinee Time\, Dec 7\, 2:00pm
URL:https://playpittsburgh.com/event/polar-express-showing-at-the-strand-theater/2014-12-07/
LOCATION:The Strand Theater\, 19 North Main Street\, Zelienople\, PA\, 16063\, United States
GEO:40.7957999;-80.1370983
X-APPLE-STRUCTURED-LOCATION;VALUE=URI;X-ADDRESS=The Strand Theater 19 North Main Street Zelienople PA 16063 United States;X-APPLE-RADIUS=500;X-TITLE=19 North Main Street:geo:-80.1370983,40.7957999
END:VEVENT
BEGIN:VEVENT
DTSTART;VALUE=DATE:20141206
DTEND;VALUE=DATE:20141207
DTSTAMP:20260422T045626
CREATED:20141204T025935Z
LAST-MODIFIED:20141204T025935Z
UID:8186-1417824000-1417910399@playpittsburgh.com
SUMMARY:Polar Express Showing at The Strand Theater
DESCRIPTION:Starring the Voice of Tom Hanks\nHanks voices many roles in this heartwarming tale that has become a contemporary classic and holiday favorite. \nSanta Claus does not exist. Or does he? For one doubting boy\, an astonishing event occurs. Late on Christmas Eve\, he lies in bed hoping to hear the sound of reindeer bells from Santa’s sleigh. When\, to his surprise\, a steam engine’s roar and whistle can be heard outside his window. \nThe conductor invites him on board to take an extraordinary journey to the North Pole with many other pajama-clad children. There\, he receives an extraordinary gift only those who still believe in Santa can experience.\nThe film used 3D motion capture techniques to digitally record the physical performances of the actors before “skinning” them with their animated forms. All the children’s roles were acted by adults using oversized props to get the movement right.\nThe locomotive in the movie is based on the Pere Marquette 1225\, a restored steam locomotive located in Owosso\, MI. In fact\, many of the sound effects of the film’s train are recordings of the actual train. The train is often run between Owosso and nearby Chesaning for rides during festivals. \nFri & Sat\, Dec 5 & 6 7:30pm\nSpecial Sun Matinee Time\, Dec 7\, 2:00pm
URL:https://playpittsburgh.com/event/polar-express-showing-at-the-strand-theater/2014-12-06/
LOCATION:The Strand Theater\, 19 North Main Street\, Zelienople\, PA\, 16063\, United States
GEO:40.7957999;-80.1370983
X-APPLE-STRUCTURED-LOCATION;VALUE=URI;X-ADDRESS=The Strand Theater 19 North Main Street Zelienople PA 16063 United States;X-APPLE-RADIUS=500;X-TITLE=19 North Main Street:geo:-80.1370983,40.7957999
END:VEVENT
BEGIN:VEVENT
DTSTART;VALUE=DATE:20141205
DTEND;VALUE=DATE:20141206
DTSTAMP:20260422T045626
CREATED:20141204T025935Z
LAST-MODIFIED:20141204T025935Z
UID:5103-1417737600-1417823999@playpittsburgh.com
SUMMARY:Polar Express Showing at The Strand Theater
DESCRIPTION:Starring the Voice of Tom Hanks\nHanks voices many roles in this heartwarming tale that has become a contemporary classic and holiday favorite. \nSanta Claus does not exist. Or does he? For one doubting boy\, an astonishing event occurs. Late on Christmas Eve\, he lies in bed hoping to hear the sound of reindeer bells from Santa’s sleigh. When\, to his surprise\, a steam engine’s roar and whistle can be heard outside his window. \nThe conductor invites him on board to take an extraordinary journey to the North Pole with many other pajama-clad children. There\, he receives an extraordinary gift only those who still believe in Santa can experience.\nThe film used 3D motion capture techniques to digitally record the physical performances of the actors before “skinning” them with their animated forms. All the children’s roles were acted by adults using oversized props to get the movement right.\nThe locomotive in the movie is based on the Pere Marquette 1225\, a restored steam locomotive located in Owosso\, MI. In fact\, many of the sound effects of the film’s train are recordings of the actual train. The train is often run between Owosso and nearby Chesaning for rides during festivals. \nFri & Sat\, Dec 5 & 6 7:30pm\nSpecial Sun Matinee Time\, Dec 7\, 2:00pm
URL:https://playpittsburgh.com/event/polar-express-showing-at-the-strand-theater/2014-12-05/
LOCATION:The Strand Theater\, 19 North Main Street\, Zelienople\, PA\, 16063\, United States
GEO:40.7957999;-80.1370983
X-APPLE-STRUCTURED-LOCATION;VALUE=URI;X-ADDRESS=The Strand Theater 19 North Main Street Zelienople PA 16063 United States;X-APPLE-RADIUS=500;X-TITLE=19 North Main Street:geo:-80.1370983,40.7957999
END:VEVENT
END:VCALENDAR