BEGIN:VCALENDAR
VERSION:2.0
PRODID:-//Play Pittsburgh - ECPv6.15.20//NONSGML v1.0//EN
CALSCALE:GREGORIAN
METHOD:PUBLISH
X-WR-CALNAME:Play Pittsburgh
X-ORIGINAL-URL:https://playpittsburgh.com
X-WR-CALDESC:Events for Play Pittsburgh
REFRESH-INTERVAL;VALUE=DURATION:PT1H
X-Robots-Tag:noindex
X-PUBLISHED-TTL:PT1H
BEGIN:VTIMEZONE
TZID:America/New_York
BEGIN:DAYLIGHT
TZOFFSETFROM:-0500
TZOFFSETTO:-0400
TZNAME:EDT
DTSTART:20130310T070000
END:DAYLIGHT
BEGIN:STANDARD
TZOFFSETFROM:-0400
TZOFFSETTO:-0500
TZNAME:EST
DTSTART:20131103T060000
END:STANDARD
BEGIN:DAYLIGHT
TZOFFSETFROM:-0500
TZOFFSETTO:-0400
TZNAME:EDT
DTSTART:20140309T070000
END:DAYLIGHT
BEGIN:STANDARD
TZOFFSETFROM:-0400
TZOFFSETTO:-0500
TZNAME:EST
DTSTART:20141102T060000
END:STANDARD
BEGIN:DAYLIGHT
TZOFFSETFROM:-0500
TZOFFSETTO:-0400
TZNAME:EDT
DTSTART:20150308T070000
END:DAYLIGHT
BEGIN:STANDARD
TZOFFSETFROM:-0400
TZOFFSETTO:-0500
TZNAME:EST
DTSTART:20151101T060000
END:STANDARD
END:VTIMEZONE
BEGIN:VEVENT
DTSTART;TZID=America/New_York:20140506T060000
DTEND;TZID=America/New_York:20140506T060000
DTSTAMP:20260422T073041
CREATED:20140422T012701Z
LAST-MODIFIED:20140422T012701Z
UID:695-1399356000-1399356000@playpittsburgh.com
SUMMARY:Pittsburgh Day of Giving
DESCRIPTION:The event raised nearly 8 million dollars last year for local non-profits! The Day of Giving 2014 will run from 6:00 a.m. until 12:00 a.m. (Midnight.)  This event is part of Give Local America\, the national day for community foundations across the country.   \n\nPublic 501c3 nonprofit organizations that primarily serve Allegheny\, Butler or Westmoreland Counties\, and that have a current profile on the site as of April 7\, 2014 are eligible to participate.\nOrganizations will receive a pro-rated portrait of the match pool.The match will be capped at $1\,000 per donor transaction per organization.  For example\, if an individual donor makes a gift of $5\,000 to one organization\, only $1\,000 of that gift will count towards the match calculation.\nAmounts sent to the individual nonprofits are for operating support only.  Donations may not be used to fulfill dues\, pledges\, or for named or capital projects.\nDonations will not be accepted by third parties.  The donor must make the online contribution and he/she will be receipted directly for that donation.\nDonations are MasterCard/Visa credit card gifts only on May 6\, 2014 in the given time period at www.pittsburghgives.org  – checks\, stocks\, or cash will not be accepted.
URL:https://playpittsburgh.com/event/pittsburgh-day-of-giving/
LOCATION:The Pittsburgh Foundation\, Five PPG Place\, Suite 250\, Pittsburgh\, PA\, 15222\, United States
GEO:40.4399944;-80.00375
X-APPLE-STRUCTURED-LOCATION;VALUE=URI;X-ADDRESS=The Pittsburgh Foundation Five PPG Place Suite 250 Pittsburgh PA 15222 United States;X-APPLE-RADIUS=500;X-TITLE=Five PPG Place\, Suite 250:geo:-80.00375,40.4399944
END:VEVENT
END:VCALENDAR