BEGIN:VCALENDAR
VERSION:2.0
PRODID:-//Play Pittsburgh - ECPv6.15.20//NONSGML v1.0//EN
CALSCALE:GREGORIAN
METHOD:PUBLISH
X-ORIGINAL-URL:https://playpittsburgh.com
X-WR-CALDESC:Events for Play Pittsburgh
REFRESH-INTERVAL;VALUE=DURATION:PT1H
X-Robots-Tag:noindex
X-PUBLISHED-TTL:PT1H
BEGIN:VTIMEZONE
TZID:America/New_York
BEGIN:DAYLIGHT
TZOFFSETFROM:-0500
TZOFFSETTO:-0400
TZNAME:EDT
DTSTART:20130310T070000
END:DAYLIGHT
BEGIN:STANDARD
TZOFFSETFROM:-0400
TZOFFSETTO:-0500
TZNAME:EST
DTSTART:20131103T060000
END:STANDARD
BEGIN:DAYLIGHT
TZOFFSETFROM:-0500
TZOFFSETTO:-0400
TZNAME:EDT
DTSTART:20140309T070000
END:DAYLIGHT
BEGIN:STANDARD
TZOFFSETFROM:-0400
TZOFFSETTO:-0500
TZNAME:EST
DTSTART:20141102T060000
END:STANDARD
BEGIN:DAYLIGHT
TZOFFSETFROM:-0500
TZOFFSETTO:-0400
TZNAME:EDT
DTSTART:20150308T070000
END:DAYLIGHT
BEGIN:STANDARD
TZOFFSETFROM:-0400
TZOFFSETTO:-0500
TZNAME:EST
DTSTART:20151101T060000
END:STANDARD
END:VTIMEZONE
BEGIN:VEVENT
DTSTART;TZID=America/New_York:20141220T193000
DTEND;TZID=America/New_York:20141220T210000
DTSTAMP:20260422T104319
CREATED:20141205T065137Z
LAST-MODIFIED:20141205T065137Z
UID:5184-1419103800-1419109200@playpittsburgh.com
SUMMARY:Westmoreland Symphony Orchestra Presents Home for the Holidays
DESCRIPTION:It’s the most joyful time of the year when the symphony plays all your favorite instrumental and choral holiday music. This charming concert makes the perfect holiday gift for all ages. Artistic Director Daniel Meyer conducts our annual concert featuring Corrie Stallings\, mezzo soprano from the Pittsburgh Opera and 50-member All-Star Choir of Westmoreland County under the direction of Michael Rozell.
URL:https://playpittsburgh.com/event/westmoreland-symphony-orchestra-presents-home-for-the-holidays/
LOCATION:The Palace Theatre\,  21 West Otterman Street\, Greensburg\, PA\, 15601\, United States
GEO:40.3035594;-79.5455026
X-APPLE-STRUCTURED-LOCATION;VALUE=URI;X-ADDRESS=The Palace Theatre  21 West Otterman Street Greensburg PA 15601 United States;X-APPLE-RADIUS=500;X-TITLE=21 West Otterman Street:geo:-79.5455026,40.3035594
END:VEVENT
BEGIN:VEVENT
DTSTART;TZID=America/New_York:20141204T193000
DTEND;TZID=America/New_York:20141204T210000
DTSTAMP:20260422T104319
CREATED:20141203T214924Z
LAST-MODIFIED:20141203T214924Z
UID:5035-1417721400-1417726800@playpittsburgh.com
SUMMARY:Mike Super Magic & Illusion at The Palace Theatre
DESCRIPTION:Southwestern Pennsylvania audiences and magic fans nationwide cheered on Pittsburgh-area resident Mike Super as he advanced to the Top 12 just weeks ago on NBC’s America’s Got Talent at Radio City Music Hall! Through spectacular illusions and his own inimitable down-to-earth style and personality\, Mike Super has pioneered a new form of magic that transcends the “trick”. As the winner of NBC’s hit TV show Phenomenon (which included only magic acts)\, Mike is the only magician in history to win a LIVE magic competition on primetime U.S. network television and voted America’s Favorite Mystifier!
URL:https://playpittsburgh.com/event/mike-super-magic-illusion-at-the-palace-theatre/
LOCATION:The Palace Theatre\,  21 West Otterman Street\, Greensburg\, PA\, 15601\, United States
GEO:40.3035594;-79.5455026
X-APPLE-STRUCTURED-LOCATION;VALUE=URI;X-ADDRESS=The Palace Theatre  21 West Otterman Street Greensburg PA 15601 United States;X-APPLE-RADIUS=500;X-TITLE=21 West Otterman Street:geo:-79.5455026,40.3035594
END:VEVENT
END:VCALENDAR