BEGIN:VCALENDAR
VERSION:2.0
PRODID:-//Play Pittsburgh - ECPv6.15.20//NONSGML v1.0//EN
CALSCALE:GREGORIAN
METHOD:PUBLISH
X-ORIGINAL-URL:https://playpittsburgh.com
X-WR-CALDESC:Events for Play Pittsburgh
REFRESH-INTERVAL;VALUE=DURATION:PT1H
X-Robots-Tag:noindex
X-PUBLISHED-TTL:PT1H
BEGIN:VTIMEZONE
TZID:America/New_York
BEGIN:DAYLIGHT
TZOFFSETFROM:-0500
TZOFFSETTO:-0400
TZNAME:EDT
DTSTART:20130310T070000
END:DAYLIGHT
BEGIN:STANDARD
TZOFFSETFROM:-0400
TZOFFSETTO:-0500
TZNAME:EST
DTSTART:20131103T060000
END:STANDARD
BEGIN:DAYLIGHT
TZOFFSETFROM:-0500
TZOFFSETTO:-0400
TZNAME:EDT
DTSTART:20140309T070000
END:DAYLIGHT
BEGIN:STANDARD
TZOFFSETFROM:-0400
TZOFFSETTO:-0500
TZNAME:EST
DTSTART:20141102T060000
END:STANDARD
BEGIN:DAYLIGHT
TZOFFSETFROM:-0500
TZOFFSETTO:-0400
TZNAME:EDT
DTSTART:20150308T070000
END:DAYLIGHT
BEGIN:STANDARD
TZOFFSETFROM:-0400
TZOFFSETTO:-0500
TZNAME:EST
DTSTART:20151101T060000
END:STANDARD
BEGIN:DAYLIGHT
TZOFFSETFROM:-0500
TZOFFSETTO:-0400
TZNAME:EDT
DTSTART:20160313T070000
END:DAYLIGHT
BEGIN:STANDARD
TZOFFSETFROM:-0400
TZOFFSETTO:-0500
TZNAME:EST
DTSTART:20161106T060000
END:STANDARD
END:VTIMEZONE
BEGIN:VEVENT
DTSTART;TZID=America/New_York:20150404T110000
DTEND;TZID=America/New_York:20150404T150000
DTSTAMP:20260422T080044
CREATED:20150324T210424Z
LAST-MODIFIED:20150324T210424Z
UID:8278-1428145200-1428159600@playpittsburgh.com
SUMMARY:National Aviary Eggstravaganza
DESCRIPTION:Grab your camera and hop on in for a parade with the Easter Bunny\, a bird-themed outdoor egg hunt\, quack-tacular duck activities\, story time with a live bird\, and more. \nAs you explore the Aviary and participate in our Eggstravaganza activities\, be sure to collect plenty of eggs for your basket! \nEggstravaganza Schedule \n\n11 a.m. -3 p.m.: Eggstra-ordinary Egg Hunt in the Rose Garden\n11 a.m. -3 p.m.: Peekaboo Chick Craft in the Atrium\n11 a.m. -3 p.m.: Eggs of the Aviary in the Atrium\n11:30 a.m.: Feed the Ducks in the Atrium\n12:00 p.m.: Easter Parade through the Park near the East Entrance\n12:30 p.m. – 1:30 p.m.: Meet the Easter Bunny near the East Entrance\n1 p.m. – 2 p.m.: Explore the exhibits & find the spotting scope to see a spring surprise!\n2:00 p.m.: The Noisy Chick: Story time with Sonny\, the Sun Conure in the Theater
URL:https://playpittsburgh.com/event/national-aviary-eggstravaganza/2015-04-04/
LOCATION:The National Aviary\, 700 Arch St\, Pittsburgh\, PA\, 15212\, United States
GEO:40.4523434;-80.0088818
X-APPLE-STRUCTURED-LOCATION;VALUE=URI;X-ADDRESS=The National Aviary 700 Arch St Pittsburgh PA 15212 United States;X-APPLE-RADIUS=500;X-TITLE=700 Arch St:geo:-80.0088818,40.4523434
END:VEVENT
BEGIN:VEVENT
DTSTART;TZID=America/New_York:20150403T110000
DTEND;TZID=America/New_York:20150403T150000
DTSTAMP:20260422T080044
CREATED:20150324T211125Z
LAST-MODIFIED:20150324T211125Z
UID:5566-1428058800-1428073200@playpittsburgh.com
SUMMARY:National Aviary Eggstravaganza
DESCRIPTION:Grab your camera and hop on in for a parade with the Easter Bunny\, a bird-themed outdoor egg hunt\, quack-tacular duck activities\, story time with a live bird\, and more. \nAs you explore the Aviary and participate in our Eggstravaganza activities\, be sure to collect plenty of eggs for your basket! \nEggstravaganza Schedule \n\n11 a.m. -3 p.m.: Eggstra-ordinary Egg Hunt in the Rose Garden\n11 a.m. -3 p.m.: Peekaboo Chick Craft in the Atrium\n11 a.m. -3 p.m.: Eggs of the Aviary in the Atrium\n11:30 a.m.: Feed the Ducks in the Atrium\n12:00 p.m.: Easter Parade through the Park near the East Entrance\n12:30 p.m. – 1:30 p.m.: Meet the Easter Bunny near the East Entrance\n1 p.m. – 2 p.m.: Explore the exhibits & find the spotting scope to see a spring surprise!\n2:00 p.m.: The Noisy Chick: Story time with Sonny\, the Sun Conure in the Theater
URL:https://playpittsburgh.com/event/national-aviary-eggstravaganza-3/
LOCATION:The National Aviary\, 700 Arch St\, Pittsburgh\, PA\, 15212\, United States
GEO:40.4523434;-80.0088818
X-APPLE-STRUCTURED-LOCATION;VALUE=URI;X-ADDRESS=The National Aviary 700 Arch St Pittsburgh PA 15212 United States;X-APPLE-RADIUS=500;X-TITLE=700 Arch St:geo:-80.0088818,40.4523434
END:VEVENT
BEGIN:VEVENT
DTSTART;TZID=America/New_York:20150329T110000
DTEND;TZID=America/New_York:20150329T150000
DTSTAMP:20260422T080044
CREATED:20150324T211007Z
LAST-MODIFIED:20150324T211007Z
UID:5565-1427626800-1427641200@playpittsburgh.com
SUMMARY:National Aviary Eggstravaganza
DESCRIPTION:Grab your camera and hop on in for a parade with the Easter Bunny\, a bird-themed outdoor egg hunt\, quack-tacular duck activities\, story time with a live bird\, and more. \nAs you explore the Aviary and participate in our Eggstravaganza activities\, be sure to collect plenty of eggs for your basket! \nEggstravaganza Schedule \n\n11 a.m. -3 p.m.: Eggstra-ordinary Egg Hunt in the Rose Garden\n11 a.m. -3 p.m.: Peekaboo Chick Craft in the Atrium\n11 a.m. -3 p.m.: Eggs of the Aviary in the Atrium\n11:30 a.m.: Feed the Ducks in the Atrium\n12:00 p.m.: Easter Parade through the Park near the East Entrance\n12:30 p.m. – 1:30 p.m.: Meet the Easter Bunny near the East Entrance\n1 p.m. – 2 p.m.: Explore the exhibits & find the spotting scope to see a spring surprise!\n2:00 p.m.: The Noisy Chick: Story time with Sonny\, the Sun Conure in the Theater
URL:https://playpittsburgh.com/event/national-aviary-eggstravaganza-2/
LOCATION:The National Aviary\, 700 Arch St\, Pittsburgh\, PA\, 15212\, United States
GEO:40.4523434;-80.0088818
X-APPLE-STRUCTURED-LOCATION;VALUE=URI;X-ADDRESS=The National Aviary 700 Arch St Pittsburgh PA 15212 United States;X-APPLE-RADIUS=500;X-TITLE=700 Arch St:geo:-80.0088818,40.4523434
END:VEVENT
BEGIN:VEVENT
DTSTART;TZID=America/New_York:20150328T110000
DTEND;TZID=America/New_York:20150328T150000
DTSTAMP:20260422T080044
CREATED:20150324T210424Z
LAST-MODIFIED:20150324T210424Z
UID:5562-1427540400-1427554800@playpittsburgh.com
SUMMARY:National Aviary Eggstravaganza
DESCRIPTION:Grab your camera and hop on in for a parade with the Easter Bunny\, a bird-themed outdoor egg hunt\, quack-tacular duck activities\, story time with a live bird\, and more. \nAs you explore the Aviary and participate in our Eggstravaganza activities\, be sure to collect plenty of eggs for your basket! \nEggstravaganza Schedule \n\n11 a.m. -3 p.m.: Eggstra-ordinary Egg Hunt in the Rose Garden\n11 a.m. -3 p.m.: Peekaboo Chick Craft in the Atrium\n11 a.m. -3 p.m.: Eggs of the Aviary in the Atrium\n11:30 a.m.: Feed the Ducks in the Atrium\n12:00 p.m.: Easter Parade through the Park near the East Entrance\n12:30 p.m. – 1:30 p.m.: Meet the Easter Bunny near the East Entrance\n1 p.m. – 2 p.m.: Explore the exhibits & find the spotting scope to see a spring surprise!\n2:00 p.m.: The Noisy Chick: Story time with Sonny\, the Sun Conure in the Theater
URL:https://playpittsburgh.com/event/national-aviary-eggstravaganza/2015-03-28/
LOCATION:The National Aviary\, 700 Arch St\, Pittsburgh\, PA\, 15212\, United States
GEO:40.4523434;-80.0088818
X-APPLE-STRUCTURED-LOCATION;VALUE=URI;X-ADDRESS=The National Aviary 700 Arch St Pittsburgh PA 15212 United States;X-APPLE-RADIUS=500;X-TITLE=700 Arch St:geo:-80.0088818,40.4523434
END:VEVENT
BEGIN:VEVENT
DTSTART;TZID=America/New_York:20141018T110000
DTEND;TZID=America/New_York:20141018T150000
DTSTAMP:20260422T080044
CREATED:20140929T225620Z
LAST-MODIFIED:20140929T225620Z
UID:3903-1413630000-1413644400@playpittsburgh.com
SUMMARY:Owl-O-Ween at the National Aviary
DESCRIPTION:Wear your costume and come prepared for candy\, crafts\, and close encounters with owls of every shape and size! With activities like story time with a Screech Owl\, a hay pile stocked with hidden treasures\, and a creepy\, crawly\, bug station for the very brave\, there will be activities perfect for the whole family. Be sure to bring your camera\, it will be a ‘Hoot!’ Included with admission to the National Aviary. \nCheck out more pictures from our trip to the National Aviary here!
URL:https://playpittsburgh.com/event/owl-o-ween-at-the-national-aviary/2014-10-18/
LOCATION:The National Aviary\, 700 Arch St\, Pittsburgh\, PA\, 15212\, United States
GEO:40.4523434;-80.0088818
X-APPLE-STRUCTURED-LOCATION;VALUE=URI;X-ADDRESS=The National Aviary 700 Arch St Pittsburgh PA 15212 United States;X-APPLE-RADIUS=500;X-TITLE=700 Arch St:geo:-80.0088818,40.4523434
END:VEVENT
BEGIN:VEVENT
DTSTART;TZID=America/New_York:20141004T100000
DTEND;TZID=America/New_York:20141004T170000
DTSTAMP:20260422T080044
CREATED:20140904T054547Z
LAST-MODIFIED:20140904T054547Z
UID:3656-1412416800-1412442000@playpittsburgh.com
SUMMARY:FREE Admission @ National Aviary
DESCRIPTION:Discover more than 150 amazing bird species from around the world under one roof on Pittsburgh’s Northside. Get nose-to-beak with a colony of African penguins; admire free-flying birds in the tropical rainforest; meet Wookie\, our two-toed sloth; and explore our newest exhibit Canary’s Call\, home to six Malayan Flying Foxes.
URL:https://playpittsburgh.com/event/free-admission-national-aviary/
LOCATION:The National Aviary\, 700 Arch St\, Pittsburgh\, PA\, 15212\, United States
CATEGORIES:Animal Attractions,Free,Museums,RADical Days
GEO:40.4523434;-80.0088818
X-APPLE-STRUCTURED-LOCATION;VALUE=URI;X-ADDRESS=The National Aviary 700 Arch St Pittsburgh PA 15212 United States;X-APPLE-RADIUS=500;X-TITLE=700 Arch St:geo:-80.0088818,40.4523434
END:VEVENT
END:VCALENDAR