BEGIN:VCALENDAR
VERSION:2.0
PRODID:-//Play Pittsburgh - ECPv6.15.20//NONSGML v1.0//EN
CALSCALE:GREGORIAN
METHOD:PUBLISH
X-ORIGINAL-URL:https://playpittsburgh.com
X-WR-CALDESC:Events for Play Pittsburgh
REFRESH-INTERVAL;VALUE=DURATION:PT1H
X-Robots-Tag:noindex
X-PUBLISHED-TTL:PT1H
BEGIN:VTIMEZONE
TZID:America/New_York
BEGIN:DAYLIGHT
TZOFFSETFROM:-0500
TZOFFSETTO:-0400
TZNAME:EDT
DTSTART:20140309T070000
END:DAYLIGHT
BEGIN:STANDARD
TZOFFSETFROM:-0400
TZOFFSETTO:-0500
TZNAME:EST
DTSTART:20141102T060000
END:STANDARD
BEGIN:DAYLIGHT
TZOFFSETFROM:-0500
TZOFFSETTO:-0400
TZNAME:EDT
DTSTART:20150308T070000
END:DAYLIGHT
BEGIN:STANDARD
TZOFFSETFROM:-0400
TZOFFSETTO:-0500
TZNAME:EST
DTSTART:20151101T060000
END:STANDARD
BEGIN:DAYLIGHT
TZOFFSETFROM:-0500
TZOFFSETTO:-0400
TZNAME:EDT
DTSTART:20160313T070000
END:DAYLIGHT
BEGIN:STANDARD
TZOFFSETFROM:-0400
TZOFFSETTO:-0500
TZNAME:EST
DTSTART:20161106T060000
END:STANDARD
END:VTIMEZONE
BEGIN:VEVENT
DTSTART;TZID=America/New_York:20150328T130000
DTEND;TZID=America/New_York:20150328T163000
DTSTAMP:20260422T150326
CREATED:20150324T212925Z
LAST-MODIFIED:20150324T212925Z
UID:5592-1427547600-1427560200@playpittsburgh.com
SUMMARY:Growing Families Through Adoption at The Children’s Institute of Pittsburgh
DESCRIPTION:Please join us for the Ninth Annual Matching and Adoption Awareness Event presented by Project STAR at The Children’s Institute of Pittsburgh. Learn about hundreds of waiting kids through their pictures and stories. Affiliates and county workers will be available to answer questions about the children they represent. To date\, more than 50 children have been successfully matched with permanent families as a result of this event. \nThis event is free and open to the public and will feature a panel of speakers\, refreshments and giveaways. Childcare will be available to those who attend. \nWHO SHOULD ATTEND: Foster and Adoptive Families; Permanency and Foster Care Professionals\nYouth Advocates. \nAGENDA: Speaker Panel from 1:00 – 2:00 p.m. and Matching Event from 2:00 – 4:30 p.m.
URL:https://playpittsburgh.com/event/growing-families-through-adoption-at-the-childrens-institute-of-pittsburgh/
LOCATION:The Children’s Institute of Pittsburgh\, 1405 Shady Avenue\, Pittsburgh\, 15217
GEO:40.4431362;-79.9199865
X-APPLE-STRUCTURED-LOCATION;VALUE=URI;X-ADDRESS=The Children’s Institute of Pittsburgh 1405 Shady Avenue Pittsburgh 15217;X-APPLE-RADIUS=500;X-TITLE=1405 Shady Avenue:geo:-79.9199865,40.4431362
END:VEVENT
END:VCALENDAR