BEGIN:VCALENDAR
VERSION:2.0
PRODID:-//Play Pittsburgh - ECPv6.15.20//NONSGML v1.0//EN
CALSCALE:GREGORIAN
METHOD:PUBLISH
X-ORIGINAL-URL:https://playpittsburgh.com
X-WR-CALDESC:Events for Play Pittsburgh
REFRESH-INTERVAL;VALUE=DURATION:PT1H
X-Robots-Tag:noindex
X-PUBLISHED-TTL:PT1H
BEGIN:VTIMEZONE
TZID:America/New_York
BEGIN:DAYLIGHT
TZOFFSETFROM:-0500
TZOFFSETTO:-0400
TZNAME:EDT
DTSTART:20130310T070000
END:DAYLIGHT
BEGIN:STANDARD
TZOFFSETFROM:-0400
TZOFFSETTO:-0500
TZNAME:EST
DTSTART:20131103T060000
END:STANDARD
BEGIN:DAYLIGHT
TZOFFSETFROM:-0500
TZOFFSETTO:-0400
TZNAME:EDT
DTSTART:20140309T070000
END:DAYLIGHT
BEGIN:STANDARD
TZOFFSETFROM:-0400
TZOFFSETTO:-0500
TZNAME:EST
DTSTART:20141102T060000
END:STANDARD
BEGIN:DAYLIGHT
TZOFFSETFROM:-0500
TZOFFSETTO:-0400
TZNAME:EDT
DTSTART:20150308T070000
END:DAYLIGHT
BEGIN:STANDARD
TZOFFSETFROM:-0400
TZOFFSETTO:-0500
TZNAME:EST
DTSTART:20151101T060000
END:STANDARD
END:VTIMEZONE
BEGIN:VEVENT
DTSTART;TZID=America/New_York:20140607T110000
DTEND;TZID=America/New_York:20140607T160000
DTSTAMP:20260424T063607
CREATED:20140522T173401Z
LAST-MODIFIED:20140522T173401Z
UID:1506-1402138800-1402156800@playpittsburgh.com
SUMMARY:Wild Things Family Day - Adventure to the Wild Side
DESCRIPTION:Escape to the Wild Side and enjoy wild and crazy activities\, fun for the entire family. \nExplore each room of Sweetwater’s facility with your very own Wild Side Passport. Sweetwater will collaborate with Sewickley’s non-profit organizations to create family workshops that will encompass Sweetwater’s building. The adventure begins as you pass through each wild and crazy inspired activity and collect your Wild Side Stamps along the way. Engage your senses with an afternoon filled full of games\, stories\, crafts and snacks.
URL:https://playpittsburgh.com/event/wild-things-family-day-adventure-to-the-wild-side/
LOCATION:Sweetwater Center for Arts\, 200 Broad Street\, Sewickley\, PA\, 15143\, United States
CATEGORIES:Festivals,Free,Outdoor
GEO:40.536867;-80.18386
X-APPLE-STRUCTURED-LOCATION;VALUE=URI;X-ADDRESS=Sweetwater Center for Arts 200 Broad Street Sewickley PA 15143 United States;X-APPLE-RADIUS=500;X-TITLE=200 Broad Street:geo:-80.18386,40.536867
END:VEVENT
END:VCALENDAR