BEGIN:VCALENDAR
VERSION:2.0
PRODID:-//Play Pittsburgh - ECPv6.15.20//NONSGML v1.0//EN
CALSCALE:GREGORIAN
METHOD:PUBLISH
X-WR-CALNAME:Play Pittsburgh
X-ORIGINAL-URL:https://playpittsburgh.com
X-WR-CALDESC:Events for Play Pittsburgh
REFRESH-INTERVAL;VALUE=DURATION:PT1H
X-Robots-Tag:noindex
X-PUBLISHED-TTL:PT1H
BEGIN:VTIMEZONE
TZID:America/New_York
BEGIN:DAYLIGHT
TZOFFSETFROM:-0500
TZOFFSETTO:-0400
TZNAME:EDT
DTSTART:20130310T070000
END:DAYLIGHT
BEGIN:STANDARD
TZOFFSETFROM:-0400
TZOFFSETTO:-0500
TZNAME:EST
DTSTART:20131103T060000
END:STANDARD
BEGIN:DAYLIGHT
TZOFFSETFROM:-0500
TZOFFSETTO:-0400
TZNAME:EDT
DTSTART:20140309T070000
END:DAYLIGHT
BEGIN:STANDARD
TZOFFSETFROM:-0400
TZOFFSETTO:-0500
TZNAME:EST
DTSTART:20141102T060000
END:STANDARD
BEGIN:DAYLIGHT
TZOFFSETFROM:-0500
TZOFFSETTO:-0400
TZNAME:EDT
DTSTART:20150308T070000
END:DAYLIGHT
BEGIN:STANDARD
TZOFFSETFROM:-0400
TZOFFSETTO:-0500
TZNAME:EST
DTSTART:20151101T060000
END:STANDARD
BEGIN:DAYLIGHT
TZOFFSETFROM:-0500
TZOFFSETTO:-0400
TZNAME:EDT
DTSTART:20160313T070000
END:DAYLIGHT
BEGIN:STANDARD
TZOFFSETFROM:-0400
TZOFFSETTO:-0500
TZNAME:EST
DTSTART:20161106T060000
END:STANDARD
BEGIN:DAYLIGHT
TZOFFSETFROM:-0500
TZOFFSETTO:-0400
TZNAME:EDT
DTSTART:20170312T070000
END:DAYLIGHT
BEGIN:STANDARD
TZOFFSETFROM:-0400
TZOFFSETTO:-0500
TZNAME:EST
DTSTART:20171105T060000
END:STANDARD
END:VTIMEZONE
BEGIN:VEVENT
DTSTART;TZID=America/New_York:20160826T193000
DTEND;TZID=America/New_York:20160826T220000
DTSTAMP:20260421T214530
CREATED:20160701T013422Z
LAST-MODIFIED:20160701T013422Z
UID:9261-1472239800-1472248800@playpittsburgh.com
SUMMARY:Station Square Summer Jam
DESCRIPTION:Join the fun every Friday this summer for free concerts at Station Square Summer Jam 2016. \nAll shows start at 7:30 p.m. every Friday\, rain or shine. \nJune 24: Saved by the 90’s with The Adorabulls\nJuly 1: Ten (a tribute to Pearl Jam) with RATM 2\nJuly 8: Get the Led Out (the American Led Zeppelin) with Bridgewater Station Acoustic\nJuly 15: TBA\nJuly 22: Live at the Fillmore (the definitive tribute to the Allman Brothers Band) with Jill West & Blues Attack\nJuly 29: Bruce in the USA with The Delaneys\nAugust 5: Green River (the ultimate CCR tribute) with Traffic Jam\nAugust 12: Mark Farner (former lead singer and guitarist for Grand Funk Railroad) with River Trail\nAugust 19: Buzz Poets with Highway 4\nAugust 26: Gathering Field with Rachel B
URL:https://playpittsburgh.com/event/station-square-summer-jam/2016-08-26/
LOCATION:Station Square\, 125 West Station Square Drive\, Pittsburgh \, PA\, 15219\, United States
CATEGORIES:Free,Outdoor
GEO:40.4330076;-80.0045618
X-APPLE-STRUCTURED-LOCATION;VALUE=URI;X-ADDRESS=Station Square 125 West Station Square Drive Pittsburgh  PA 15219 United States;X-APPLE-RADIUS=500;X-TITLE=125 West Station Square Drive:geo:-80.0045618,40.4330076
END:VEVENT
BEGIN:VEVENT
DTSTART;TZID=America/New_York:20160819T193000
DTEND;TZID=America/New_York:20160819T220000
DTSTAMP:20260421T214530
CREATED:20160701T013422Z
LAST-MODIFIED:20160701T013422Z
UID:9260-1471635000-1471644000@playpittsburgh.com
SUMMARY:Station Square Summer Jam
DESCRIPTION:Join the fun every Friday this summer for free concerts at Station Square Summer Jam 2016. \nAll shows start at 7:30 p.m. every Friday\, rain or shine. \nJune 24: Saved by the 90’s with The Adorabulls\nJuly 1: Ten (a tribute to Pearl Jam) with RATM 2\nJuly 8: Get the Led Out (the American Led Zeppelin) with Bridgewater Station Acoustic\nJuly 15: TBA\nJuly 22: Live at the Fillmore (the definitive tribute to the Allman Brothers Band) with Jill West & Blues Attack\nJuly 29: Bruce in the USA with The Delaneys\nAugust 5: Green River (the ultimate CCR tribute) with Traffic Jam\nAugust 12: Mark Farner (former lead singer and guitarist for Grand Funk Railroad) with River Trail\nAugust 19: Buzz Poets with Highway 4\nAugust 26: Gathering Field with Rachel B
URL:https://playpittsburgh.com/event/station-square-summer-jam/2016-08-19/
LOCATION:Station Square\, 125 West Station Square Drive\, Pittsburgh \, PA\, 15219\, United States
CATEGORIES:Free,Outdoor
GEO:40.4330076;-80.0045618
X-APPLE-STRUCTURED-LOCATION;VALUE=URI;X-ADDRESS=Station Square 125 West Station Square Drive Pittsburgh  PA 15219 United States;X-APPLE-RADIUS=500;X-TITLE=125 West Station Square Drive:geo:-80.0045618,40.4330076
END:VEVENT
BEGIN:VEVENT
DTSTART;TZID=America/New_York:20160812T193000
DTEND;TZID=America/New_York:20160812T220000
DTSTAMP:20260421T214530
CREATED:20160701T013422Z
LAST-MODIFIED:20160701T013422Z
UID:9259-1471030200-1471039200@playpittsburgh.com
SUMMARY:Station Square Summer Jam
DESCRIPTION:Join the fun every Friday this summer for free concerts at Station Square Summer Jam 2016. \nAll shows start at 7:30 p.m. every Friday\, rain or shine. \nJune 24: Saved by the 90’s with The Adorabulls\nJuly 1: Ten (a tribute to Pearl Jam) with RATM 2\nJuly 8: Get the Led Out (the American Led Zeppelin) with Bridgewater Station Acoustic\nJuly 15: TBA\nJuly 22: Live at the Fillmore (the definitive tribute to the Allman Brothers Band) with Jill West & Blues Attack\nJuly 29: Bruce in the USA with The Delaneys\nAugust 5: Green River (the ultimate CCR tribute) with Traffic Jam\nAugust 12: Mark Farner (former lead singer and guitarist for Grand Funk Railroad) with River Trail\nAugust 19: Buzz Poets with Highway 4\nAugust 26: Gathering Field with Rachel B
URL:https://playpittsburgh.com/event/station-square-summer-jam/2016-08-12/
LOCATION:Station Square\, 125 West Station Square Drive\, Pittsburgh \, PA\, 15219\, United States
CATEGORIES:Free,Outdoor
GEO:40.4330076;-80.0045618
X-APPLE-STRUCTURED-LOCATION;VALUE=URI;X-ADDRESS=Station Square 125 West Station Square Drive Pittsburgh  PA 15219 United States;X-APPLE-RADIUS=500;X-TITLE=125 West Station Square Drive:geo:-80.0045618,40.4330076
END:VEVENT
BEGIN:VEVENT
DTSTART;TZID=America/New_York:20160805T193000
DTEND;TZID=America/New_York:20160805T220000
DTSTAMP:20260421T214530
CREATED:20160701T013422Z
LAST-MODIFIED:20160701T013422Z
UID:9258-1470425400-1470434400@playpittsburgh.com
SUMMARY:Station Square Summer Jam
DESCRIPTION:Join the fun every Friday this summer for free concerts at Station Square Summer Jam 2016. \nAll shows start at 7:30 p.m. every Friday\, rain or shine. \nJune 24: Saved by the 90’s with The Adorabulls\nJuly 1: Ten (a tribute to Pearl Jam) with RATM 2\nJuly 8: Get the Led Out (the American Led Zeppelin) with Bridgewater Station Acoustic\nJuly 15: TBA\nJuly 22: Live at the Fillmore (the definitive tribute to the Allman Brothers Band) with Jill West & Blues Attack\nJuly 29: Bruce in the USA with The Delaneys\nAugust 5: Green River (the ultimate CCR tribute) with Traffic Jam\nAugust 12: Mark Farner (former lead singer and guitarist for Grand Funk Railroad) with River Trail\nAugust 19: Buzz Poets with Highway 4\nAugust 26: Gathering Field with Rachel B
URL:https://playpittsburgh.com/event/station-square-summer-jam/2016-08-05/
LOCATION:Station Square\, 125 West Station Square Drive\, Pittsburgh \, PA\, 15219\, United States
CATEGORIES:Free,Outdoor
GEO:40.4330076;-80.0045618
X-APPLE-STRUCTURED-LOCATION;VALUE=URI;X-ADDRESS=Station Square 125 West Station Square Drive Pittsburgh  PA 15219 United States;X-APPLE-RADIUS=500;X-TITLE=125 West Station Square Drive:geo:-80.0045618,40.4330076
END:VEVENT
BEGIN:VEVENT
DTSTART;TZID=America/New_York:20160729T193000
DTEND;TZID=America/New_York:20160729T220000
DTSTAMP:20260421T214530
CREATED:20160701T013422Z
LAST-MODIFIED:20160701T013422Z
UID:9257-1469820600-1469829600@playpittsburgh.com
SUMMARY:Station Square Summer Jam
DESCRIPTION:Join the fun every Friday this summer for free concerts at Station Square Summer Jam 2016. \nAll shows start at 7:30 p.m. every Friday\, rain or shine. \nJune 24: Saved by the 90’s with The Adorabulls\nJuly 1: Ten (a tribute to Pearl Jam) with RATM 2\nJuly 8: Get the Led Out (the American Led Zeppelin) with Bridgewater Station Acoustic\nJuly 15: TBA\nJuly 22: Live at the Fillmore (the definitive tribute to the Allman Brothers Band) with Jill West & Blues Attack\nJuly 29: Bruce in the USA with The Delaneys\nAugust 5: Green River (the ultimate CCR tribute) with Traffic Jam\nAugust 12: Mark Farner (former lead singer and guitarist for Grand Funk Railroad) with River Trail\nAugust 19: Buzz Poets with Highway 4\nAugust 26: Gathering Field with Rachel B
URL:https://playpittsburgh.com/event/station-square-summer-jam/2016-07-29/
LOCATION:Station Square\, 125 West Station Square Drive\, Pittsburgh \, PA\, 15219\, United States
CATEGORIES:Free,Outdoor
GEO:40.4330076;-80.0045618
X-APPLE-STRUCTURED-LOCATION;VALUE=URI;X-ADDRESS=Station Square 125 West Station Square Drive Pittsburgh  PA 15219 United States;X-APPLE-RADIUS=500;X-TITLE=125 West Station Square Drive:geo:-80.0045618,40.4330076
END:VEVENT
BEGIN:VEVENT
DTSTART;TZID=America/New_York:20160722T193000
DTEND;TZID=America/New_York:20160722T220000
DTSTAMP:20260421T214530
CREATED:20160701T013422Z
LAST-MODIFIED:20160701T013422Z
UID:9256-1469215800-1469224800@playpittsburgh.com
SUMMARY:Station Square Summer Jam
DESCRIPTION:Join the fun every Friday this summer for free concerts at Station Square Summer Jam 2016. \nAll shows start at 7:30 p.m. every Friday\, rain or shine. \nJune 24: Saved by the 90’s with The Adorabulls\nJuly 1: Ten (a tribute to Pearl Jam) with RATM 2\nJuly 8: Get the Led Out (the American Led Zeppelin) with Bridgewater Station Acoustic\nJuly 15: TBA\nJuly 22: Live at the Fillmore (the definitive tribute to the Allman Brothers Band) with Jill West & Blues Attack\nJuly 29: Bruce in the USA with The Delaneys\nAugust 5: Green River (the ultimate CCR tribute) with Traffic Jam\nAugust 12: Mark Farner (former lead singer and guitarist for Grand Funk Railroad) with River Trail\nAugust 19: Buzz Poets with Highway 4\nAugust 26: Gathering Field with Rachel B
URL:https://playpittsburgh.com/event/station-square-summer-jam/2016-07-22/
LOCATION:Station Square\, 125 West Station Square Drive\, Pittsburgh \, PA\, 15219\, United States
CATEGORIES:Free,Outdoor
GEO:40.4330076;-80.0045618
X-APPLE-STRUCTURED-LOCATION;VALUE=URI;X-ADDRESS=Station Square 125 West Station Square Drive Pittsburgh  PA 15219 United States;X-APPLE-RADIUS=500;X-TITLE=125 West Station Square Drive:geo:-80.0045618,40.4330076
END:VEVENT
BEGIN:VEVENT
DTSTART;TZID=America/New_York:20160715T193000
DTEND;TZID=America/New_York:20160715T220000
DTSTAMP:20260421T214530
CREATED:20160701T013422Z
LAST-MODIFIED:20160701T013422Z
UID:9255-1468611000-1468620000@playpittsburgh.com
SUMMARY:Station Square Summer Jam
DESCRIPTION:Join the fun every Friday this summer for free concerts at Station Square Summer Jam 2016. \nAll shows start at 7:30 p.m. every Friday\, rain or shine. \nJune 24: Saved by the 90’s with The Adorabulls\nJuly 1: Ten (a tribute to Pearl Jam) with RATM 2\nJuly 8: Get the Led Out (the American Led Zeppelin) with Bridgewater Station Acoustic\nJuly 15: TBA\nJuly 22: Live at the Fillmore (the definitive tribute to the Allman Brothers Band) with Jill West & Blues Attack\nJuly 29: Bruce in the USA with The Delaneys\nAugust 5: Green River (the ultimate CCR tribute) with Traffic Jam\nAugust 12: Mark Farner (former lead singer and guitarist for Grand Funk Railroad) with River Trail\nAugust 19: Buzz Poets with Highway 4\nAugust 26: Gathering Field with Rachel B
URL:https://playpittsburgh.com/event/station-square-summer-jam/2016-07-15/
LOCATION:Station Square\, 125 West Station Square Drive\, Pittsburgh \, PA\, 15219\, United States
CATEGORIES:Free,Outdoor
GEO:40.4330076;-80.0045618
X-APPLE-STRUCTURED-LOCATION;VALUE=URI;X-ADDRESS=Station Square 125 West Station Square Drive Pittsburgh  PA 15219 United States;X-APPLE-RADIUS=500;X-TITLE=125 West Station Square Drive:geo:-80.0045618,40.4330076
END:VEVENT
BEGIN:VEVENT
DTSTART;TZID=America/New_York:20160708T193000
DTEND;TZID=America/New_York:20160708T220000
DTSTAMP:20260421T214530
CREATED:20160701T013422Z
LAST-MODIFIED:20160701T013422Z
UID:9254-1468006200-1468015200@playpittsburgh.com
SUMMARY:Station Square Summer Jam
DESCRIPTION:Join the fun every Friday this summer for free concerts at Station Square Summer Jam 2016. \nAll shows start at 7:30 p.m. every Friday\, rain or shine. \nJune 24: Saved by the 90’s with The Adorabulls\nJuly 1: Ten (a tribute to Pearl Jam) with RATM 2\nJuly 8: Get the Led Out (the American Led Zeppelin) with Bridgewater Station Acoustic\nJuly 15: TBA\nJuly 22: Live at the Fillmore (the definitive tribute to the Allman Brothers Band) with Jill West & Blues Attack\nJuly 29: Bruce in the USA with The Delaneys\nAugust 5: Green River (the ultimate CCR tribute) with Traffic Jam\nAugust 12: Mark Farner (former lead singer and guitarist for Grand Funk Railroad) with River Trail\nAugust 19: Buzz Poets with Highway 4\nAugust 26: Gathering Field with Rachel B
URL:https://playpittsburgh.com/event/station-square-summer-jam/2016-07-08/
LOCATION:Station Square\, 125 West Station Square Drive\, Pittsburgh \, PA\, 15219\, United States
CATEGORIES:Free,Outdoor
GEO:40.4330076;-80.0045618
X-APPLE-STRUCTURED-LOCATION;VALUE=URI;X-ADDRESS=Station Square 125 West Station Square Drive Pittsburgh  PA 15219 United States;X-APPLE-RADIUS=500;X-TITLE=125 West Station Square Drive:geo:-80.0045618,40.4330076
END:VEVENT
BEGIN:VEVENT
DTSTART;TZID=America/New_York:20160701T193000
DTEND;TZID=America/New_York:20160701T220000
DTSTAMP:20260421T214530
CREATED:20160701T013422Z
LAST-MODIFIED:20160701T013422Z
UID:9253-1467401400-1467410400@playpittsburgh.com
SUMMARY:Station Square Summer Jam
DESCRIPTION:Join the fun every Friday this summer for free concerts at Station Square Summer Jam 2016. \nAll shows start at 7:30 p.m. every Friday\, rain or shine. \nJune 24: Saved by the 90’s with The Adorabulls\nJuly 1: Ten (a tribute to Pearl Jam) with RATM 2\nJuly 8: Get the Led Out (the American Led Zeppelin) with Bridgewater Station Acoustic\nJuly 15: TBA\nJuly 22: Live at the Fillmore (the definitive tribute to the Allman Brothers Band) with Jill West & Blues Attack\nJuly 29: Bruce in the USA with The Delaneys\nAugust 5: Green River (the ultimate CCR tribute) with Traffic Jam\nAugust 12: Mark Farner (former lead singer and guitarist for Grand Funk Railroad) with River Trail\nAugust 19: Buzz Poets with Highway 4\nAugust 26: Gathering Field with Rachel B
URL:https://playpittsburgh.com/event/station-square-summer-jam/2016-07-01/
LOCATION:Station Square\, 125 West Station Square Drive\, Pittsburgh \, PA\, 15219\, United States
CATEGORIES:Free,Outdoor
GEO:40.4330076;-80.0045618
X-APPLE-STRUCTURED-LOCATION;VALUE=URI;X-ADDRESS=Station Square 125 West Station Square Drive Pittsburgh  PA 15219 United States;X-APPLE-RADIUS=500;X-TITLE=125 West Station Square Drive:geo:-80.0045618,40.4330076
END:VEVENT
BEGIN:VEVENT
DTSTART;TZID=America/New_York:20150606T090000
DTEND;TZID=America/New_York:20150606T153000
DTSTAMP:20260421T214530
CREATED:20150529T203154Z
LAST-MODIFIED:20150529T203154Z
UID:8670-1433581200-1433604600@playpittsburgh.com
SUMMARY:Strider Championships Series in Station Square
DESCRIPTION:Join friends on Saturday\, June 6th for STRIDER Racing\, Free Demo Rides\, and lots of smiles! Meet at Station Square with a day full of two wheeled fun for 18 month to 5 year olds! \nFree to watch. Please see details below for participation. \nEvent Registration: Includes a STRIDER Jersey\, Number Plate\, and other goodies!\n– Pre-Registration $25 is now open HERE!\n– On-site registration will be available starting at 8am and ending 30 minutes prior to each race time – $35 (STRIDER jersey size and color subject to availability)\n– Only Strider® brand balance bikes are permitted to race \nRace Schedule (Time Ages/Class) \n\n9am – 10:30am 2 and Under\n10:30am – Noon 3 Year Olds\nNoon – 12:30pm Lunch/Break\n12:30pm – 1:30pm Special Needs\n1:30pm – 2:30pm 4 Year Olds\n2:30pm – 3:30pm 5 Year Olds
URL:https://playpittsburgh.com/event/strider-championships-series-in-station-square/
LOCATION:Station Square\, 125 West Station Square Drive\, Pittsburgh \, PA\, 15219\, United States
GEO:40.4330076;-80.0045618
X-APPLE-STRUCTURED-LOCATION;VALUE=URI;X-ADDRESS=Station Square 125 West Station Square Drive Pittsburgh  PA 15219 United States;X-APPLE-RADIUS=500;X-TITLE=125 West Station Square Drive:geo:-80.0045618,40.4330076
END:VEVENT
BEGIN:VEVENT
DTSTART;TZID=America/New_York:20141121T170000
DTEND;TZID=America/New_York:20141121T210000
DTSTAMP:20260421T214530
CREATED:20141116T012952Z
LAST-MODIFIED:20141116T012952Z
UID:4564-1416589200-1416603600@playpittsburgh.com
SUMMARY:Station Square Winter Wonderland
DESCRIPTION:Photos with Santa\, face painting\, Story time with Mrs. Claus\, Dance party with the elves\, photo booth\, holiday crafts\, balloon twister\, train rides\, meet and greet with special Frozen characters and more; all activities are FREE\, November 21st 5-9pm at Station Square
URL:https://playpittsburgh.com/event/station-square-winter-wonderland/
LOCATION:Station Square\, 125 West Station Square Drive\, Pittsburgh \, PA\, 15219\, United States
ATTACH;FMTTYPE=:
GEO:40.4330076;-80.0045618
X-APPLE-STRUCTURED-LOCATION;VALUE=URI;X-ADDRESS=Station Square 125 West Station Square Drive Pittsburgh  PA 15219 United States;X-APPLE-RADIUS=500;X-TITLE=125 West Station Square Drive:geo:-80.0045618,40.4330076
END:VEVENT
END:VCALENDAR