BEGIN:VCALENDAR
VERSION:2.0
PRODID:-//Play Pittsburgh - ECPv6.15.20//NONSGML v1.0//EN
CALSCALE:GREGORIAN
METHOD:PUBLISH
X-WR-CALNAME:Play Pittsburgh
X-ORIGINAL-URL:https://playpittsburgh.com
X-WR-CALDESC:Events for Play Pittsburgh
REFRESH-INTERVAL;VALUE=DURATION:PT1H
X-Robots-Tag:noindex
X-PUBLISHED-TTL:PT1H
BEGIN:VTIMEZONE
TZID:America/New_York
BEGIN:DAYLIGHT
TZOFFSETFROM:-0500
TZOFFSETTO:-0400
TZNAME:EDT
DTSTART:20130310T070000
END:DAYLIGHT
BEGIN:STANDARD
TZOFFSETFROM:-0400
TZOFFSETTO:-0500
TZNAME:EST
DTSTART:20131103T060000
END:STANDARD
BEGIN:DAYLIGHT
TZOFFSETFROM:-0500
TZOFFSETTO:-0400
TZNAME:EDT
DTSTART:20140309T070000
END:DAYLIGHT
BEGIN:STANDARD
TZOFFSETFROM:-0400
TZOFFSETTO:-0500
TZNAME:EST
DTSTART:20141102T060000
END:STANDARD
BEGIN:DAYLIGHT
TZOFFSETFROM:-0500
TZOFFSETTO:-0400
TZNAME:EDT
DTSTART:20150308T070000
END:DAYLIGHT
BEGIN:STANDARD
TZOFFSETFROM:-0400
TZOFFSETTO:-0500
TZNAME:EST
DTSTART:20151101T060000
END:STANDARD
END:VTIMEZONE
BEGIN:VEVENT
DTSTART;TZID=America/New_York:20141206T100000
DTEND;TZID=America/New_York:20141206T143000
DTSTAMP:20260422T055516
CREATED:20141204T032625Z
LAST-MODIFIED:20141204T032625Z
UID:5107-1417860000-1417876200@playpittsburgh.com
SUMMARY:Santa Express at St. Paul's Preschool
DESCRIPTION:A train-themed fundraiser and family-friendly holiday event at St. Paul’s Preschool. All ages will enjoy the entertainment that includes an indoor train\, bounce house\, hot cocoa bar\, a silent auction\, and of course time with Santa himself.
URL:https://playpittsburgh.com/event/santa-express-at-st-pauls-preschool/
LOCATION:St. Paul Preschool\, 1965 Ferguson Road\, Allison Park \, PA\, 15101\, United States
GEO:40.564905;-79.988531
X-APPLE-STRUCTURED-LOCATION;VALUE=URI;X-ADDRESS=St. Paul Preschool 1965 Ferguson Road Allison Park  PA 15101 United States;X-APPLE-RADIUS=500;X-TITLE=1965 Ferguson Road:geo:-79.988531,40.564905
END:VEVENT
END:VCALENDAR