BEGIN:VCALENDAR
VERSION:2.0
PRODID:-//Play Pittsburgh - ECPv6.15.20//NONSGML v1.0//EN
CALSCALE:GREGORIAN
METHOD:PUBLISH
X-ORIGINAL-URL:https://playpittsburgh.com
X-WR-CALDESC:Events for Play Pittsburgh
REFRESH-INTERVAL;VALUE=DURATION:PT1H
X-Robots-Tag:noindex
X-PUBLISHED-TTL:PT1H
BEGIN:VTIMEZONE
TZID:America/New_York
BEGIN:DAYLIGHT
TZOFFSETFROM:-0500
TZOFFSETTO:-0400
TZNAME:EDT
DTSTART:20140309T070000
END:DAYLIGHT
BEGIN:STANDARD
TZOFFSETFROM:-0400
TZOFFSETTO:-0500
TZNAME:EST
DTSTART:20141102T060000
END:STANDARD
BEGIN:DAYLIGHT
TZOFFSETFROM:-0500
TZOFFSETTO:-0400
TZNAME:EDT
DTSTART:20150308T070000
END:DAYLIGHT
BEGIN:STANDARD
TZOFFSETFROM:-0400
TZOFFSETTO:-0500
TZNAME:EST
DTSTART:20151101T060000
END:STANDARD
BEGIN:DAYLIGHT
TZOFFSETFROM:-0500
TZOFFSETTO:-0400
TZNAME:EDT
DTSTART:20160313T070000
END:DAYLIGHT
BEGIN:STANDARD
TZOFFSETFROM:-0400
TZOFFSETTO:-0500
TZNAME:EST
DTSTART:20161106T060000
END:STANDARD
END:VTIMEZONE
BEGIN:VEVENT
DTSTART;TZID=America/New_York:20150328T093000
DTEND;TZID=America/New_York:20150328T110000
DTSTAMP:20260422T080039
CREATED:20150324T212516Z
LAST-MODIFIED:20150324T212516Z
UID:5590-1427535000-1427540400@playpittsburgh.com
SUMMARY:Springdale Health and Wellness Fair
DESCRIPTION:Come and discover the resources within Springdale and the surrounding areas with a FREE Health & Wellness fair at the Springdale Library. Meet local health care providers and wellness experts. Free Samples and Giveaways!! For more information\, please call 724-715-7433
URL:https://playpittsburgh.com/event/springdale-health-and-wellness-fair/
LOCATION:Springdale Free Public Library\, 331 School Street\, Springdale\, 15144
GEO:40.5421127;-79.7783248
X-APPLE-STRUCTURED-LOCATION;VALUE=URI;X-ADDRESS=Springdale Free Public Library 331 School Street Springdale 15144;X-APPLE-RADIUS=500;X-TITLE=331 School Street:geo:-79.7783248,40.5421127
END:VEVENT
END:VCALENDAR