BEGIN:VCALENDAR
VERSION:2.0
PRODID:-//Play Pittsburgh - ECPv6.15.20//NONSGML v1.0//EN
CALSCALE:GREGORIAN
METHOD:PUBLISH
X-ORIGINAL-URL:https://playpittsburgh.com
X-WR-CALDESC:Events for Play Pittsburgh
REFRESH-INTERVAL;VALUE=DURATION:PT1H
X-Robots-Tag:noindex
X-PUBLISHED-TTL:PT1H
BEGIN:VTIMEZONE
TZID:America/New_York
BEGIN:DAYLIGHT
TZOFFSETFROM:-0500
TZOFFSETTO:-0400
TZNAME:EDT
DTSTART:20140309T070000
END:DAYLIGHT
BEGIN:STANDARD
TZOFFSETFROM:-0400
TZOFFSETTO:-0500
TZNAME:EST
DTSTART:20141102T060000
END:STANDARD
BEGIN:DAYLIGHT
TZOFFSETFROM:-0500
TZOFFSETTO:-0400
TZNAME:EDT
DTSTART:20150308T070000
END:DAYLIGHT
BEGIN:STANDARD
TZOFFSETFROM:-0400
TZOFFSETTO:-0500
TZNAME:EST
DTSTART:20151101T060000
END:STANDARD
BEGIN:DAYLIGHT
TZOFFSETFROM:-0500
TZOFFSETTO:-0400
TZNAME:EDT
DTSTART:20160313T070000
END:DAYLIGHT
BEGIN:STANDARD
TZOFFSETFROM:-0400
TZOFFSETTO:-0500
TZNAME:EST
DTSTART:20161106T060000
END:STANDARD
END:VTIMEZONE
BEGIN:VEVENT
DTSTART;TZID=America/New_York:20150617T100000
DTEND;TZID=America/New_York:20150617T113000
DTSTAMP:20260423T065214
CREATED:20150531T023248Z
LAST-MODIFIED:20150531T023248Z
UID:8912-1434535200-1434540600@playpittsburgh.com
SUMMARY:SouthSide Works $1 Family Film
DESCRIPTION:South Side Works Cinemas is happy to announce the return of the summer $1 Family Film series. Tickets to each film are just $1 and can only be purchased at the theatre box office starting 30 minutes before show time. One adult guardian is required for every 10 children. No outside food or drink permitted. \n\n6/17 – Jumanji\n6/24 – Paddington\n7/1 – The Book of Life\n7/8 – How to Train Your Dragon 2\n7/15 – Night at the Museum Secret of the Tomb\n7/22 – Penguins of Madagascar
URL:https://playpittsburgh.com/event/southside-works-1-family-film/2015-06-17/
LOCATION:South Side Cinemas\, 425 Cinema Drive\, Pittsburgh\, PA\, 15203\, United States
GEO:40.4278375;-79.9650943
X-APPLE-STRUCTURED-LOCATION;VALUE=URI;X-ADDRESS=South Side Cinemas 425 Cinema Drive Pittsburgh PA 15203 United States;X-APPLE-RADIUS=500;X-TITLE=425 Cinema Drive:geo:-79.9650943,40.4278375
END:VEVENT
BEGIN:VEVENT
DTSTART;VALUE=DATE:20150330
DTEND;VALUE=DATE:20150331
DTSTAMP:20260423T065214
CREATED:20150325T222106Z
LAST-MODIFIED:20150325T222106Z
UID:5692-1427673600-1427759999@playpittsburgh.com
SUMMARY:Bargain Movie Monday at South Side Cinemas
DESCRIPTION:Tickets are just $6!* every Monday at South Side Cinemas! \nThey also offer deals at the concession stand \n\nBuy any popcorn and get the same size fountain drink for FREE\n$1 off all candy and fountain drinks\nKiddie combos are discounted to $2.50\n\n*additional charge for 3D features.
URL:https://playpittsburgh.com/event/bargain-movie-monday-at-south-side-cinemas/2015-03-30/
LOCATION:South Side Cinemas\, 425 Cinema Drive\, Pittsburgh\, PA\, 15203\, United States
GEO:40.4278375;-79.9650943
X-APPLE-STRUCTURED-LOCATION;VALUE=URI;X-ADDRESS=South Side Cinemas 425 Cinema Drive Pittsburgh PA 15203 United States;X-APPLE-RADIUS=500;X-TITLE=425 Cinema Drive:geo:-79.9650943,40.4278375
END:VEVENT
END:VCALENDAR