BEGIN:VCALENDAR
VERSION:2.0
PRODID:-//Play Pittsburgh - ECPv6.15.20//NONSGML v1.0//EN
CALSCALE:GREGORIAN
METHOD:PUBLISH
X-ORIGINAL-URL:https://playpittsburgh.com
X-WR-CALDESC:Events for Play Pittsburgh
REFRESH-INTERVAL;VALUE=DURATION:PT1H
X-Robots-Tag:noindex
X-PUBLISHED-TTL:PT1H
BEGIN:VTIMEZONE
TZID:America/New_York
BEGIN:DAYLIGHT
TZOFFSETFROM:-0500
TZOFFSETTO:-0400
TZNAME:EDT
DTSTART:20130310T070000
END:DAYLIGHT
BEGIN:STANDARD
TZOFFSETFROM:-0400
TZOFFSETTO:-0500
TZNAME:EST
DTSTART:20131103T060000
END:STANDARD
BEGIN:DAYLIGHT
TZOFFSETFROM:-0500
TZOFFSETTO:-0400
TZNAME:EDT
DTSTART:20140309T070000
END:DAYLIGHT
BEGIN:STANDARD
TZOFFSETFROM:-0400
TZOFFSETTO:-0500
TZNAME:EST
DTSTART:20141102T060000
END:STANDARD
BEGIN:DAYLIGHT
TZOFFSETFROM:-0500
TZOFFSETTO:-0400
TZNAME:EDT
DTSTART:20150308T070000
END:DAYLIGHT
BEGIN:STANDARD
TZOFFSETFROM:-0400
TZOFFSETTO:-0500
TZNAME:EST
DTSTART:20151101T060000
END:STANDARD
END:VTIMEZONE
BEGIN:VEVENT
DTSTART;TZID=America/New_York:20140730T100000
DTEND;TZID=America/New_York:20140730T110000
DTSTAMP:20260422T082427
CREATED:20140729T225712Z
LAST-MODIFIED:20140729T225712Z
UID:2917-1406714400-1406718000@playpittsburgh.com
SUMMARY:South Park Children's: No Strings Attached - The Musical
DESCRIPTION:South Park Children’s theater features young\, local actors that perform on an outdoor stage. \nMultiple performances:  \n\nWednesday\, July 30th @ 10am\nMonday\, August 4th @ 6:30pm\nTuesday\, August 5th  @ 10am & 6:30pm\nWednesday\, August 6th @ 10am\n\n$3 Admission. Children 2 yrs. and under are free. Small snacks and refreshments available for purchase. South Park Theatre is located in the park at the intersection of Corrigan Drive & Brownsville Rd.\, South Park PA 15129 – Across the street from the Children’s Playground and next door to the park police station.
URL:https://playpittsburgh.com/event/south-park-childrens-no-strings-attached-the-musical/
LOCATION:South Park\, South Park Township\, PA\, 15129\, United States
CATEGORIES:Performing Arts
GEO:40.2926016;-79.9975916
END:VEVENT
BEGIN:VEVENT
DTSTART;TZID=America/New_York:20140730T100000
DTEND;TZID=America/New_York:20140730T110000
DTSTAMP:20260422T082427
CREATED:20140729T225712Z
LAST-MODIFIED:20140729T225712Z
UID:6473-1406714400-1406718000@playpittsburgh.com
SUMMARY:South Park Children's: No Strings Attached - The Musical
DESCRIPTION:South Park Children’s theater features young\, local actors that perform on an outdoor stage. \nMultiple performances:  \n\nWednesday\, July 30th @ 10am\nMonday\, August 4th @ 6:30pm\nTuesday\, August 5th  @ 10am & 6:30pm\nWednesday\, August 6th @ 10am\n\n$3 Admission. Children 2 yrs. and under are free. Small snacks and refreshments available for purchase. South Park Theatre is located in the park at the intersection of Corrigan Drive & Brownsville Rd.\, South Park PA 15129 – Across the street from the Children’s Playground and next door to the park police station.
URL:https://playpittsburgh.com/event/south-park-childrens-no-strings-attached-the-musical-5/
LOCATION:South Park\, South Park Township\, PA\, 15129\, United States
CATEGORIES:Performing Arts
GEO:40.2926016;-79.9975916
END:VEVENT
BEGIN:VEVENT
DTSTART;TZID=America/New_York:20140719T150000
DTEND;TZID=America/New_York:20140719T160000
DTSTAMP:20260422T082427
CREATED:20140717T021805Z
LAST-MODIFIED:20140717T021805Z
UID:2673-1405782000-1405785600@playpittsburgh.com
SUMMARY:Aviary at the South Park Game Preserve
DESCRIPTION:“The Aviary will be doing a program at the Game Preserve. The program is being funded by past donations\, so it is free for all of you! We ask that you RSVP on the event page so we have an idea of how many will be attending. The event will be held by the Kiddoo House. There will be limited seating\, so you are encouraged to bring your own chair or blanket to sit on. Also\, please bring your own water because snack WILL NOT be provided. Handicap parking is available. If any other special accommodations are needed for you or your child\, please notify us in advance. The National Aviary will be presenting “Amazing Adaptations\,” which talks about what makes different birds unique! For more information on the program\, you can visit the Aviary website!” – Save the South Park Game Preserve Facebook Page  \nPlease register for this event by “attending” on the Save the South Park Game Preserve Facebook page (click here).
URL:https://playpittsburgh.com/event/aviary-at-the-south-park-game-preserve/
LOCATION:South Park\, South Park Township\, PA\, 15129\, United States
CATEGORIES:Animal Attractions,Free,Outdoor
GEO:40.2926016;-79.9975916
END:VEVENT
END:VCALENDAR