BEGIN:VCALENDAR
VERSION:2.0
PRODID:-//Play Pittsburgh - ECPv6.15.20//NONSGML v1.0//EN
CALSCALE:GREGORIAN
METHOD:PUBLISH
X-WR-CALNAME:Play Pittsburgh
X-ORIGINAL-URL:https://playpittsburgh.com
X-WR-CALDESC:Events for Play Pittsburgh
REFRESH-INTERVAL;VALUE=DURATION:PT1H
X-Robots-Tag:noindex
X-PUBLISHED-TTL:PT1H
BEGIN:VTIMEZONE
TZID:America/New_York
BEGIN:DAYLIGHT
TZOFFSETFROM:-0500
TZOFFSETTO:-0400
TZNAME:EDT
DTSTART:20130310T070000
END:DAYLIGHT
BEGIN:STANDARD
TZOFFSETFROM:-0400
TZOFFSETTO:-0500
TZNAME:EST
DTSTART:20131103T060000
END:STANDARD
BEGIN:DAYLIGHT
TZOFFSETFROM:-0500
TZOFFSETTO:-0400
TZNAME:EDT
DTSTART:20140309T070000
END:DAYLIGHT
BEGIN:STANDARD
TZOFFSETFROM:-0400
TZOFFSETTO:-0500
TZNAME:EST
DTSTART:20141102T060000
END:STANDARD
BEGIN:DAYLIGHT
TZOFFSETFROM:-0500
TZOFFSETTO:-0400
TZNAME:EDT
DTSTART:20150308T070000
END:DAYLIGHT
BEGIN:STANDARD
TZOFFSETFROM:-0400
TZOFFSETTO:-0500
TZNAME:EST
DTSTART:20151101T060000
END:STANDARD
BEGIN:DAYLIGHT
TZOFFSETFROM:-0500
TZOFFSETTO:-0400
TZNAME:EDT
DTSTART:20160313T070000
END:DAYLIGHT
BEGIN:STANDARD
TZOFFSETFROM:-0400
TZOFFSETTO:-0500
TZNAME:EST
DTSTART:20161106T060000
END:STANDARD
END:VTIMEZONE
BEGIN:VEVENT
DTSTART;TZID=America/New_York:20150516T100000
DTEND;TZID=America/New_York:20150516T150000
DTSTAMP:20260422T082222
CREATED:20150515T170638Z
LAST-MODIFIED:20150515T170638Z
UID:6970-1431770400-1431788400@playpittsburgh.com
SUMMARY:Major League Baseball Pitch\, Hit & Run at South Park
DESCRIPTION:An exciting skills event providing boys and girls the opportunity to compete in four levels of competition\, including team championship events at all 30 Major League Baseball ballparks and the National Finals at the MLB All-Star Game. Boys and girls will be split into two different divisions. \nFree & open to boys and girls ages 7-14. Pre-registration is required by clicking here. Competition times: \n\nAges 7-8 at 10:00 a.m.\nAges 9-10 at 11:15 a.m.\nAges 11-12 at 12:30 p.m.\nAges 13-14 at 1:45 p.m.
URL:https://playpittsburgh.com/event/major-league-baseball-pitch-hit-run-at-south-park/
LOCATION:South Park\, South Park Township\, PA\, 15129\, United States
GEO:40.2926016;-79.9975916
END:VEVENT
BEGIN:VEVENT
DTSTART;TZID=America/New_York:20150509T120000
DTEND;TZID=America/New_York:20150509T183000
DTSTAMP:20260422T082222
CREATED:20150508T203441Z
LAST-MODIFIED:20150508T203441Z
UID:6955-1431172800-1431196200@playpittsburgh.com
SUMMARY:South Park Fairgrounds Oval Grand Re-Opening
DESCRIPTION:Join us at the South Park Fairgrounds Oval to celebrate its grand re-opening with food\, games\, activities and music for the whole family. The day’s schedule includes: \n12:00 noon Lunch featuring Rowdy BBQ and Rivertowne Brewing\, as well as family games and activities. Cost is $35 per person for adults and $15 for kids ages 12 & under. Proceeds further the work of the Allegheny County Parks Foundation. Contributions are tax-deductible. Purchase tickets now. Tickets may also be purchased at the South Park Office or the Parks Department Office located at 542 Forbes Avenue\, Room 211\, Downtown. \n2:00 p.m. Official Ribbon Cutting Ceremony \n2:30 p.m. Free family games\, activities\, and arts & crafts\, as well food and beverages for purchase from local food trucks! \n5:00 p.m. Free concert featuring NOMaD
URL:https://playpittsburgh.com/event/south-park-fairgrounds-oval-grand-re-opening/
LOCATION:South Park\, South Park Township\, PA\, 15129\, United States
GEO:40.2926016;-79.9975916
END:VEVENT
BEGIN:VEVENT
DTSTART;TZID=America/New_York:20141206T183000
DTEND;TZID=America/New_York:20141206T193000
DTSTAMP:20260422T082222
CREATED:20141204T214509Z
LAST-MODIFIED:20141204T214509Z
UID:5131-1417890600-1417894200@playpittsburgh.com
SUMMARY:Light Up Night with Santa in South Park
DESCRIPTION:Santa will make a guest appearance to celebrate Light Up Night at the gazebo at Maple Springs Drive in South Park. Music\, cookies and refreshments! FREE event\, sponsored by The Friends of South Park.
URL:https://playpittsburgh.com/event/light-up-night-with-santa-in-south-park/
LOCATION:South Park\, South Park Township\, PA\, 15129\, United States
GEO:40.2926016;-79.9975916
END:VEVENT
BEGIN:VEVENT
DTSTART;TZID=America/New_York:20140807T100000
DTEND;TZID=America/New_York:20140807T113000
DTSTAMP:20260422T082222
CREATED:20140717T173257Z
LAST-MODIFIED:20140717T173257Z
UID:2696-1407405600-1407411000@playpittsburgh.com
SUMMARY:Tyke Hike @ South Park
DESCRIPTION:Come and join Venture Outdoors for a Tyke Hike! They welcome parents or caregivers with children–newborn to 5 years old. Explore nature\, touch the trees and look for little critters on these easy walks in the park. Adults and children can make new play date friends! Hikes will be trail-friendly for strollers\, slings\, child-carriers or on foot. Strollers must be able to maneuver off road. Children on foot should wear tennis shoes. Craft and snacks provided after the hike! Weather permitting. Pre-registration requested. Walk-ups are welcome at $12 per child. \nRegister here. 
URL:https://playpittsburgh.com/event/tyke-hike-south-park/
LOCATION:South Park\, South Park Township\, PA\, 15129\, United States
CATEGORIES:Outdoor
GEO:40.2926016;-79.9975916
END:VEVENT
BEGIN:VEVENT
DTSTART;TZID=America/New_York:20140806T100000
DTEND;TZID=America/New_York:20140806T110000
DTSTAMP:20260422T082222
CREATED:20140729T230011Z
LAST-MODIFIED:20140729T230011Z
UID:6476-1407319200-1407322800@playpittsburgh.com
SUMMARY:South Park Children's: No Strings Attached - The Musical
DESCRIPTION:South Park Children’s theater features young\, local actors that perform on an outdoor stage. \nMultiple performances:  \n\nWednesday\, July 30th @ 10am\nMonday\, August 4th @ 6:30pm\nTuesday\, August 5th  @ 10am & 6:30pm\nWednesday\, August 6th @ 10am\n\n$3 Admission. Children 2 yrs. and under are free. Small snacks and refreshments available for purchase. South Park Theatre is located in the park at the intersection of Corrigan Drive & Brownsville Rd.\, South Park PA 15129 – Across the street from the Children’s Playground and next door to the park police station. \n  \n 
URL:https://playpittsburgh.com/event/south-park-childrens-no-strings-attached-the-musical-4-2/
LOCATION:South Park\, South Park Township\, PA\, 15129\, United States
GEO:40.2926016;-79.9975916
END:VEVENT
BEGIN:VEVENT
DTSTART;TZID=America/New_York:20140806T100000
DTEND;TZID=America/New_York:20140806T110000
DTSTAMP:20260422T082222
CREATED:20140729T230011Z
LAST-MODIFIED:20140729T230011Z
UID:2920-1407319200-1407322800@playpittsburgh.com
SUMMARY:South Park Children's: No Strings Attached - The Musical
DESCRIPTION:South Park Children’s theater features young\, local actors that perform on an outdoor stage. \nMultiple performances:  \n\nWednesday\, July 30th @ 10am\nMonday\, August 4th @ 6:30pm\nTuesday\, August 5th  @ 10am & 6:30pm\nWednesday\, August 6th @ 10am\n\n$3 Admission. Children 2 yrs. and under are free. Small snacks and refreshments available for purchase. South Park Theatre is located in the park at the intersection of Corrigan Drive & Brownsville Rd.\, South Park PA 15129 – Across the street from the Children’s Playground and next door to the park police station. \n  \n 
URL:https://playpittsburgh.com/event/south-park-childrens-no-strings-attached-the-musical-4/
LOCATION:South Park\, South Park Township\, PA\, 15129\, United States
GEO:40.2926016;-79.9975916
END:VEVENT
BEGIN:VEVENT
DTSTART;TZID=America/New_York:20140805T100000
DTEND;TZID=America/New_York:20140805T170000
DTSTAMP:20260422T082222
CREATED:20140729T225921Z
LAST-MODIFIED:20140729T225921Z
UID:6475-1407232800-1407258000@playpittsburgh.com
SUMMARY:South Park Children's: No Strings Attached - The Musical
DESCRIPTION:South Park Children’s theater features young\, local actors that perform on an outdoor stage. \nMultiple performances:  \n\nWednesday\, July 30th @ 10am\nMonday\, August 4th @ 6:30pm\nTuesday\, August 5th  @ 10am & 6:30pm\nWednesday\, August 6th @ 10am\n\n$3 Admission. Children 2 yrs. and under are free. Small snacks and refreshments available for purchase. South Park Theatre is located in the park at the intersection of Corrigan Drive & Brownsville Rd.\, South Park PA 15129 – Across the street from the Children’s Playground and next door to the park police station. \n  \n 
URL:https://playpittsburgh.com/event/south-park-childrens-no-strings-attached-the-musical-3-2/
LOCATION:South Park\, South Park Township\, PA\, 15129\, United States
GEO:40.2926016;-79.9975916
END:VEVENT
BEGIN:VEVENT
DTSTART;TZID=America/New_York:20140805T100000
DTEND;TZID=America/New_York:20140805T170000
DTSTAMP:20260422T082222
CREATED:20140729T225921Z
LAST-MODIFIED:20140729T225921Z
UID:2919-1407232800-1407258000@playpittsburgh.com
SUMMARY:South Park Children's: No Strings Attached - The Musical
DESCRIPTION:South Park Children’s theater features young\, local actors that perform on an outdoor stage. \nMultiple performances:  \n\nWednesday\, July 30th @ 10am\nMonday\, August 4th @ 6:30pm\nTuesday\, August 5th  @ 10am & 6:30pm\nWednesday\, August 6th @ 10am\n\n$3 Admission. Children 2 yrs. and under are free. Small snacks and refreshments available for purchase. South Park Theatre is located in the park at the intersection of Corrigan Drive & Brownsville Rd.\, South Park PA 15129 – Across the street from the Children’s Playground and next door to the park police station. \n  \n 
URL:https://playpittsburgh.com/event/south-park-childrens-no-strings-attached-the-musical-3/
LOCATION:South Park\, South Park Township\, PA\, 15129\, United States
GEO:40.2926016;-79.9975916
END:VEVENT
BEGIN:VEVENT
DTSTART;TZID=America/New_York:20140804T183000
DTEND;TZID=America/New_York:20140804T193000
DTSTAMP:20260422T082222
CREATED:20140729T225823Z
LAST-MODIFIED:20140729T225823Z
UID:2918-1407177000-1407180600@playpittsburgh.com
SUMMARY:South Park Children's: No Strings Attached - The Musical
DESCRIPTION:South Park Children’s theater features young\, local actors that perform on an outdoor stage. \nMultiple performances:  \n\nWednesday\, July 30th @ 10am\nMonday\, August 4th @ 6:30pm\nTuesday\, August 5th  @ 10am & 6:30pm\nWednesday\, August 6th @ 10am\n\n$3 Admission. Children 2 yrs. and under are free. Small snacks and refreshments available for purchase. South Park Theatre is located in the park at the intersection of Corrigan Drive & Brownsville Rd.\, South Park PA 15129 – Across the street from the Children’s Playground and next door to the park police station. \n  \n 
URL:https://playpittsburgh.com/event/south-park-childrens-no-strings-attached-the-musical-2/
LOCATION:South Park\, South Park Township\, PA\, 15129\, United States
GEO:40.2926016;-79.9975916
END:VEVENT
BEGIN:VEVENT
DTSTART;TZID=America/New_York:20140804T183000
DTEND;TZID=America/New_York:20140804T193000
DTSTAMP:20260422T082222
CREATED:20140729T225823Z
LAST-MODIFIED:20140729T225823Z
UID:6474-1407177000-1407180600@playpittsburgh.com
SUMMARY:South Park Children's: No Strings Attached - The Musical
DESCRIPTION:South Park Children’s theater features young\, local actors that perform on an outdoor stage. \nMultiple performances:  \n\nWednesday\, July 30th @ 10am\nMonday\, August 4th @ 6:30pm\nTuesday\, August 5th  @ 10am & 6:30pm\nWednesday\, August 6th @ 10am\n\n$3 Admission. Children 2 yrs. and under are free. Small snacks and refreshments available for purchase. South Park Theatre is located in the park at the intersection of Corrigan Drive & Brownsville Rd.\, South Park PA 15129 – Across the street from the Children’s Playground and next door to the park police station. \n  \n 
URL:https://playpittsburgh.com/event/south-park-childrens-no-strings-attached-the-musical-2-2/
LOCATION:South Park\, South Park Township\, PA\, 15129\, United States
GEO:40.2926016;-79.9975916
END:VEVENT
BEGIN:VEVENT
DTSTART;TZID=America/New_York:20140730T100000
DTEND;TZID=America/New_York:20140730T110000
DTSTAMP:20260422T082222
CREATED:20140729T225712Z
LAST-MODIFIED:20140729T225712Z
UID:2917-1406714400-1406718000@playpittsburgh.com
SUMMARY:South Park Children's: No Strings Attached - The Musical
DESCRIPTION:South Park Children’s theater features young\, local actors that perform on an outdoor stage. \nMultiple performances:  \n\nWednesday\, July 30th @ 10am\nMonday\, August 4th @ 6:30pm\nTuesday\, August 5th  @ 10am & 6:30pm\nWednesday\, August 6th @ 10am\n\n$3 Admission. Children 2 yrs. and under are free. Small snacks and refreshments available for purchase. South Park Theatre is located in the park at the intersection of Corrigan Drive & Brownsville Rd.\, South Park PA 15129 – Across the street from the Children’s Playground and next door to the park police station.
URL:https://playpittsburgh.com/event/south-park-childrens-no-strings-attached-the-musical/
LOCATION:South Park\, South Park Township\, PA\, 15129\, United States
CATEGORIES:Performing Arts
GEO:40.2926016;-79.9975916
END:VEVENT
BEGIN:VEVENT
DTSTART;TZID=America/New_York:20140730T100000
DTEND;TZID=America/New_York:20140730T110000
DTSTAMP:20260422T082222
CREATED:20140729T225712Z
LAST-MODIFIED:20140729T225712Z
UID:6473-1406714400-1406718000@playpittsburgh.com
SUMMARY:South Park Children's: No Strings Attached - The Musical
DESCRIPTION:South Park Children’s theater features young\, local actors that perform on an outdoor stage. \nMultiple performances:  \n\nWednesday\, July 30th @ 10am\nMonday\, August 4th @ 6:30pm\nTuesday\, August 5th  @ 10am & 6:30pm\nWednesday\, August 6th @ 10am\n\n$3 Admission. Children 2 yrs. and under are free. Small snacks and refreshments available for purchase. South Park Theatre is located in the park at the intersection of Corrigan Drive & Brownsville Rd.\, South Park PA 15129 – Across the street from the Children’s Playground and next door to the park police station.
URL:https://playpittsburgh.com/event/south-park-childrens-no-strings-attached-the-musical-5/
LOCATION:South Park\, South Park Township\, PA\, 15129\, United States
CATEGORIES:Performing Arts
GEO:40.2926016;-79.9975916
END:VEVENT
BEGIN:VEVENT
DTSTART;TZID=America/New_York:20140719T150000
DTEND;TZID=America/New_York:20140719T160000
DTSTAMP:20260422T082222
CREATED:20140717T021805Z
LAST-MODIFIED:20140717T021805Z
UID:2673-1405782000-1405785600@playpittsburgh.com
SUMMARY:Aviary at the South Park Game Preserve
DESCRIPTION:“The Aviary will be doing a program at the Game Preserve. The program is being funded by past donations\, so it is free for all of you! We ask that you RSVP on the event page so we have an idea of how many will be attending. The event will be held by the Kiddoo House. There will be limited seating\, so you are encouraged to bring your own chair or blanket to sit on. Also\, please bring your own water because snack WILL NOT be provided. Handicap parking is available. If any other special accommodations are needed for you or your child\, please notify us in advance. The National Aviary will be presenting “Amazing Adaptations\,” which talks about what makes different birds unique! For more information on the program\, you can visit the Aviary website!” – Save the South Park Game Preserve Facebook Page  \nPlease register for this event by “attending” on the Save the South Park Game Preserve Facebook page (click here).
URL:https://playpittsburgh.com/event/aviary-at-the-south-park-game-preserve/
LOCATION:South Park\, South Park Township\, PA\, 15129\, United States
CATEGORIES:Animal Attractions,Free,Outdoor
GEO:40.2926016;-79.9975916
END:VEVENT
END:VCALENDAR