BEGIN:VCALENDAR
VERSION:2.0
PRODID:-//Play Pittsburgh - ECPv6.15.20//NONSGML v1.0//EN
CALSCALE:GREGORIAN
METHOD:PUBLISH
X-WR-CALNAME:Play Pittsburgh
X-ORIGINAL-URL:https://playpittsburgh.com
X-WR-CALDESC:Events for Play Pittsburgh
REFRESH-INTERVAL;VALUE=DURATION:PT1H
X-Robots-Tag:noindex
X-PUBLISHED-TTL:PT1H
BEGIN:VTIMEZONE
TZID:America/New_York
BEGIN:DAYLIGHT
TZOFFSETFROM:-0500
TZOFFSETTO:-0400
TZNAME:EDT
DTSTART:20150308T070000
END:DAYLIGHT
BEGIN:STANDARD
TZOFFSETFROM:-0400
TZOFFSETTO:-0500
TZNAME:EST
DTSTART:20151101T060000
END:STANDARD
BEGIN:DAYLIGHT
TZOFFSETFROM:-0500
TZOFFSETTO:-0400
TZNAME:EDT
DTSTART:20160313T070000
END:DAYLIGHT
BEGIN:STANDARD
TZOFFSETFROM:-0400
TZOFFSETTO:-0500
TZNAME:EST
DTSTART:20161106T060000
END:STANDARD
BEGIN:DAYLIGHT
TZOFFSETFROM:-0500
TZOFFSETTO:-0400
TZNAME:EDT
DTSTART:20170312T070000
END:DAYLIGHT
BEGIN:STANDARD
TZOFFSETFROM:-0400
TZOFFSETTO:-0500
TZNAME:EST
DTSTART:20171105T060000
END:STANDARD
END:VTIMEZONE
BEGIN:VEVENT
DTSTART;TZID=America/New_York:20160721T120000
DTEND;TZID=America/New_York:20160721T150000
DTSTAMP:20260422T093536
CREATED:20160712T184102Z
LAST-MODIFIED:20160712T184102Z
UID:9805-1469102400-1469113200@playpittsburgh.com
SUMMARY:Family Fun Day at South Park Wave Pool
DESCRIPTION:Enjoy a free photo booth\, face painting\, magician and giveaways\, as well as a meet-and-greet with the Little Mermaid and Flounder! Activities from 12pm-3pm\nRegular pool admission fees apply. \nDaytime Admission Rates\nAdult: $6.00 Resident / $8.00 Non-Resident\nSenior citizen: $3.00 Resident / $4.00 Non-Resident\nJunior or youth: $5.00 Resident / $6.00 Non-Resident\nChildren: $1.00 Resident / $1.00 Non-Resident
URL:https://playpittsburgh.com/event/family-fun-day-south-park-wave-pool/
LOCATION:South Park Wave Pool\, 1 Wave Pool Complex\, Bethel Park \, PA\, 15102
GEO:40.3275697;-80.0394977
X-APPLE-STRUCTURED-LOCATION;VALUE=URI;X-ADDRESS=South Park Wave Pool 1 Wave Pool Complex Bethel Park  PA 15102;X-APPLE-RADIUS=500;X-TITLE=1 Wave Pool Complex:geo:-80.0394977,40.3275697
END:VEVENT
END:VCALENDAR