BEGIN:VCALENDAR
VERSION:2.0
PRODID:-//Play Pittsburgh - ECPv6.15.20//NONSGML v1.0//EN
CALSCALE:GREGORIAN
METHOD:PUBLISH
X-WR-CALNAME:Play Pittsburgh
X-ORIGINAL-URL:https://playpittsburgh.com
X-WR-CALDESC:Events for Play Pittsburgh
REFRESH-INTERVAL;VALUE=DURATION:PT1H
X-Robots-Tag:noindex
X-PUBLISHED-TTL:PT1H
BEGIN:VTIMEZONE
TZID:America/New_York
BEGIN:DAYLIGHT
TZOFFSETFROM:-0500
TZOFFSETTO:-0400
TZNAME:EDT
DTSTART:20140309T070000
END:DAYLIGHT
BEGIN:STANDARD
TZOFFSETFROM:-0400
TZOFFSETTO:-0500
TZNAME:EST
DTSTART:20141102T060000
END:STANDARD
BEGIN:DAYLIGHT
TZOFFSETFROM:-0500
TZOFFSETTO:-0400
TZNAME:EDT
DTSTART:20150308T070000
END:DAYLIGHT
BEGIN:STANDARD
TZOFFSETFROM:-0400
TZOFFSETTO:-0500
TZNAME:EST
DTSTART:20151101T060000
END:STANDARD
BEGIN:DAYLIGHT
TZOFFSETFROM:-0500
TZOFFSETTO:-0400
TZNAME:EDT
DTSTART:20160313T070000
END:DAYLIGHT
BEGIN:STANDARD
TZOFFSETFROM:-0400
TZOFFSETTO:-0500
TZNAME:EST
DTSTART:20161106T060000
END:STANDARD
END:VTIMEZONE
BEGIN:VEVENT
DTSTART;TZID=America/New_York:20150329T090000
DTEND;TZID=America/New_York:20150329T130000
DTSTAMP:20260422T130128
CREATED:20150325T214523Z
LAST-MODIFIED:20150325T214523Z
UID:5669-1427619600-1427634000@playpittsburgh.com
SUMMARY:2nd Annual Easter Breakfast / Easter Egg Hunt with South Baldwin Volunteer Fire Company
DESCRIPTION:Bring the family for South Baldwin Volunteer Fire Company’s 2nd Annual Easter Breakfast / Easter Egg Hunt\, breakfast\, rides on the fire trucks and other surprises! The event runs from 9:00 am to 1:00 pm on March 29th and will be held at the South Baldwin Social Hall (directly behind the South Baldwin Volunteer Sire Company station).
URL:https://playpittsburgh.com/event/2nd-annual-easter-breakfast-easter-egg-hunt-with-south-baldwin-volunteer-fire-company/
LOCATION:South Baldwin Social Hall\, 5311 McAnnulty Road\, 15236\, PA\, 15236\, United States
GEO:40.3409763;-79.9972717
X-APPLE-STRUCTURED-LOCATION;VALUE=URI;X-ADDRESS=South Baldwin Social Hall 5311 McAnnulty Road 15236 PA 15236 United States;X-APPLE-RADIUS=500;X-TITLE=5311 McAnnulty Road:geo:-79.9972717,40.3409763
END:VEVENT
END:VCALENDAR