BEGIN:VCALENDAR
VERSION:2.0
PRODID:-//Play Pittsburgh - ECPv6.15.20//NONSGML v1.0//EN
CALSCALE:GREGORIAN
METHOD:PUBLISH
X-ORIGINAL-URL:https://playpittsburgh.com
X-WR-CALDESC:Events for Play Pittsburgh
REFRESH-INTERVAL;VALUE=DURATION:PT1H
X-Robots-Tag:noindex
X-PUBLISHED-TTL:PT1H
BEGIN:VTIMEZONE
TZID:America/New_York
BEGIN:DAYLIGHT
TZOFFSETFROM:-0500
TZOFFSETTO:-0400
TZNAME:EDT
DTSTART:20140309T070000
END:DAYLIGHT
BEGIN:STANDARD
TZOFFSETFROM:-0400
TZOFFSETTO:-0500
TZNAME:EST
DTSTART:20141102T060000
END:STANDARD
BEGIN:DAYLIGHT
TZOFFSETFROM:-0500
TZOFFSETTO:-0400
TZNAME:EDT
DTSTART:20150308T070000
END:DAYLIGHT
BEGIN:STANDARD
TZOFFSETFROM:-0400
TZOFFSETTO:-0500
TZNAME:EST
DTSTART:20151101T060000
END:STANDARD
BEGIN:DAYLIGHT
TZOFFSETFROM:-0500
TZOFFSETTO:-0400
TZNAME:EDT
DTSTART:20160313T070000
END:DAYLIGHT
BEGIN:STANDARD
TZOFFSETFROM:-0400
TZOFFSETTO:-0500
TZNAME:EST
DTSTART:20161106T060000
END:STANDARD
BEGIN:DAYLIGHT
TZOFFSETFROM:-0500
TZOFFSETTO:-0400
TZNAME:EDT
DTSTART:20170312T070000
END:DAYLIGHT
BEGIN:STANDARD
TZOFFSETFROM:-0400
TZOFFSETTO:-0500
TZNAME:EST
DTSTART:20171105T060000
END:STANDARD
END:VTIMEZONE
BEGIN:VEVENT
DTSTART;TZID=America/New_York:20160328T103000
DTEND;TZID=America/New_York:20160328T110000
DTSTAMP:20260421T233229
CREATED:20150325T220723Z
LAST-MODIFIED:20150325T220723Z
UID:9748-1459161000-1459162800@playpittsburgh.com
SUMMARY:Story time at Soergel Orchards
DESCRIPTION:Join Soergel Orchards for their weekly story time with songs\, coloring page\, and craft. The group meets in front of McIntosh Hall.
URL:https://playpittsburgh.com/event/story-time-at-soergel-orchards-2/2016-03-28/
LOCATION:Soergel Orchards\, 2573 Brandt School Road\, Wexford\, PA\, 15090\, United States
CATEGORIES:Free
GEO:40.612184;-80.092151
X-APPLE-STRUCTURED-LOCATION;VALUE=URI;X-ADDRESS=Soergel Orchards 2573 Brandt School Road Wexford PA 15090 United States;X-APPLE-RADIUS=500;X-TITLE=2573 Brandt School Road:geo:-80.092151,40.612184
END:VEVENT
BEGIN:VEVENT
DTSTART;TZID=America/New_York:20160321T103000
DTEND;TZID=America/New_York:20160321T110000
DTSTAMP:20260421T233229
CREATED:20150325T220723Z
LAST-MODIFIED:20150325T220723Z
UID:9747-1458556200-1458558000@playpittsburgh.com
SUMMARY:Story time at Soergel Orchards
DESCRIPTION:Join Soergel Orchards for their weekly story time with songs\, coloring page\, and craft. The group meets in front of McIntosh Hall.
URL:https://playpittsburgh.com/event/story-time-at-soergel-orchards-2/2016-03-21/
LOCATION:Soergel Orchards\, 2573 Brandt School Road\, Wexford\, PA\, 15090\, United States
CATEGORIES:Free
GEO:40.612184;-80.092151
X-APPLE-STRUCTURED-LOCATION;VALUE=URI;X-ADDRESS=Soergel Orchards 2573 Brandt School Road Wexford PA 15090 United States;X-APPLE-RADIUS=500;X-TITLE=2573 Brandt School Road:geo:-80.092151,40.612184
END:VEVENT
BEGIN:VEVENT
DTSTART;TZID=America/New_York:20160314T103000
DTEND;TZID=America/New_York:20160314T110000
DTSTAMP:20260421T233229
CREATED:20150325T220723Z
LAST-MODIFIED:20150325T220723Z
UID:9746-1457951400-1457953200@playpittsburgh.com
SUMMARY:Story time at Soergel Orchards
DESCRIPTION:Join Soergel Orchards for their weekly story time with songs\, coloring page\, and craft. The group meets in front of McIntosh Hall.
URL:https://playpittsburgh.com/event/story-time-at-soergel-orchards-2/2016-03-14/
LOCATION:Soergel Orchards\, 2573 Brandt School Road\, Wexford\, PA\, 15090\, United States
CATEGORIES:Free
GEO:40.612184;-80.092151
X-APPLE-STRUCTURED-LOCATION;VALUE=URI;X-ADDRESS=Soergel Orchards 2573 Brandt School Road Wexford PA 15090 United States;X-APPLE-RADIUS=500;X-TITLE=2573 Brandt School Road:geo:-80.092151,40.612184
END:VEVENT
BEGIN:VEVENT
DTSTART;TZID=America/New_York:20160307T103000
DTEND;TZID=America/New_York:20160307T110000
DTSTAMP:20260421T233229
CREATED:20150325T220723Z
LAST-MODIFIED:20150325T220723Z
UID:9745-1457346600-1457348400@playpittsburgh.com
SUMMARY:Story time at Soergel Orchards
DESCRIPTION:Join Soergel Orchards for their weekly story time with songs\, coloring page\, and craft. The group meets in front of McIntosh Hall.
URL:https://playpittsburgh.com/event/story-time-at-soergel-orchards-2/2016-03-07/
LOCATION:Soergel Orchards\, 2573 Brandt School Road\, Wexford\, PA\, 15090\, United States
CATEGORIES:Free
GEO:40.612184;-80.092151
X-APPLE-STRUCTURED-LOCATION;VALUE=URI;X-ADDRESS=Soergel Orchards 2573 Brandt School Road Wexford PA 15090 United States;X-APPLE-RADIUS=500;X-TITLE=2573 Brandt School Road:geo:-80.092151,40.612184
END:VEVENT
BEGIN:VEVENT
DTSTART;TZID=America/New_York:20160229T103000
DTEND;TZID=America/New_York:20160229T110000
DTSTAMP:20260421T233229
CREATED:20150325T220723Z
LAST-MODIFIED:20150325T220723Z
UID:9744-1456741800-1456743600@playpittsburgh.com
SUMMARY:Story time at Soergel Orchards
DESCRIPTION:Join Soergel Orchards for their weekly story time with songs\, coloring page\, and craft. The group meets in front of McIntosh Hall.
URL:https://playpittsburgh.com/event/story-time-at-soergel-orchards-2/2016-02-29/
LOCATION:Soergel Orchards\, 2573 Brandt School Road\, Wexford\, PA\, 15090\, United States
CATEGORIES:Free
GEO:40.612184;-80.092151
X-APPLE-STRUCTURED-LOCATION;VALUE=URI;X-ADDRESS=Soergel Orchards 2573 Brandt School Road Wexford PA 15090 United States;X-APPLE-RADIUS=500;X-TITLE=2573 Brandt School Road:geo:-80.092151,40.612184
END:VEVENT
BEGIN:VEVENT
DTSTART;TZID=America/New_York:20160222T103000
DTEND;TZID=America/New_York:20160222T110000
DTSTAMP:20260421T233229
CREATED:20150325T220723Z
LAST-MODIFIED:20150325T220723Z
UID:9743-1456137000-1456138800@playpittsburgh.com
SUMMARY:Story time at Soergel Orchards
DESCRIPTION:Join Soergel Orchards for their weekly story time with songs\, coloring page\, and craft. The group meets in front of McIntosh Hall.
URL:https://playpittsburgh.com/event/story-time-at-soergel-orchards-2/2016-02-22/
LOCATION:Soergel Orchards\, 2573 Brandt School Road\, Wexford\, PA\, 15090\, United States
CATEGORIES:Free
GEO:40.612184;-80.092151
X-APPLE-STRUCTURED-LOCATION;VALUE=URI;X-ADDRESS=Soergel Orchards 2573 Brandt School Road Wexford PA 15090 United States;X-APPLE-RADIUS=500;X-TITLE=2573 Brandt School Road:geo:-80.092151,40.612184
END:VEVENT
BEGIN:VEVENT
DTSTART;TZID=America/New_York:20160215T103000
DTEND;TZID=America/New_York:20160215T110000
DTSTAMP:20260421T233229
CREATED:20150325T220723Z
LAST-MODIFIED:20150325T220723Z
UID:9742-1455532200-1455534000@playpittsburgh.com
SUMMARY:Story time at Soergel Orchards
DESCRIPTION:Join Soergel Orchards for their weekly story time with songs\, coloring page\, and craft. The group meets in front of McIntosh Hall.
URL:https://playpittsburgh.com/event/story-time-at-soergel-orchards-2/2016-02-15/
LOCATION:Soergel Orchards\, 2573 Brandt School Road\, Wexford\, PA\, 15090\, United States
CATEGORIES:Free
GEO:40.612184;-80.092151
X-APPLE-STRUCTURED-LOCATION;VALUE=URI;X-ADDRESS=Soergel Orchards 2573 Brandt School Road Wexford PA 15090 United States;X-APPLE-RADIUS=500;X-TITLE=2573 Brandt School Road:geo:-80.092151,40.612184
END:VEVENT
BEGIN:VEVENT
DTSTART;TZID=America/New_York:20160208T103000
DTEND;TZID=America/New_York:20160208T110000
DTSTAMP:20260421T233229
CREATED:20150325T220723Z
LAST-MODIFIED:20150325T220723Z
UID:9741-1454927400-1454929200@playpittsburgh.com
SUMMARY:Story time at Soergel Orchards
DESCRIPTION:Join Soergel Orchards for their weekly story time with songs\, coloring page\, and craft. The group meets in front of McIntosh Hall.
URL:https://playpittsburgh.com/event/story-time-at-soergel-orchards-2/2016-02-08/
LOCATION:Soergel Orchards\, 2573 Brandt School Road\, Wexford\, PA\, 15090\, United States
CATEGORIES:Free
GEO:40.612184;-80.092151
X-APPLE-STRUCTURED-LOCATION;VALUE=URI;X-ADDRESS=Soergel Orchards 2573 Brandt School Road Wexford PA 15090 United States;X-APPLE-RADIUS=500;X-TITLE=2573 Brandt School Road:geo:-80.092151,40.612184
END:VEVENT
BEGIN:VEVENT
DTSTART;TZID=America/New_York:20160201T103000
DTEND;TZID=America/New_York:20160201T110000
DTSTAMP:20260421T233229
CREATED:20150325T220723Z
LAST-MODIFIED:20150325T220723Z
UID:9740-1454322600-1454324400@playpittsburgh.com
SUMMARY:Story time at Soergel Orchards
DESCRIPTION:Join Soergel Orchards for their weekly story time with songs\, coloring page\, and craft. The group meets in front of McIntosh Hall.
URL:https://playpittsburgh.com/event/story-time-at-soergel-orchards-2/2016-02-01/
LOCATION:Soergel Orchards\, 2573 Brandt School Road\, Wexford\, PA\, 15090\, United States
CATEGORIES:Free
GEO:40.612184;-80.092151
X-APPLE-STRUCTURED-LOCATION;VALUE=URI;X-ADDRESS=Soergel Orchards 2573 Brandt School Road Wexford PA 15090 United States;X-APPLE-RADIUS=500;X-TITLE=2573 Brandt School Road:geo:-80.092151,40.612184
END:VEVENT
BEGIN:VEVENT
DTSTART;TZID=America/New_York:20160125T103000
DTEND;TZID=America/New_York:20160125T110000
DTSTAMP:20260421T233229
CREATED:20150325T220723Z
LAST-MODIFIED:20150325T220723Z
UID:9739-1453717800-1453719600@playpittsburgh.com
SUMMARY:Story time at Soergel Orchards
DESCRIPTION:Join Soergel Orchards for their weekly story time with songs\, coloring page\, and craft. The group meets in front of McIntosh Hall.
URL:https://playpittsburgh.com/event/story-time-at-soergel-orchards-2/2016-01-25/
LOCATION:Soergel Orchards\, 2573 Brandt School Road\, Wexford\, PA\, 15090\, United States
CATEGORIES:Free
GEO:40.612184;-80.092151
X-APPLE-STRUCTURED-LOCATION;VALUE=URI;X-ADDRESS=Soergel Orchards 2573 Brandt School Road Wexford PA 15090 United States;X-APPLE-RADIUS=500;X-TITLE=2573 Brandt School Road:geo:-80.092151,40.612184
END:VEVENT
BEGIN:VEVENT
DTSTART;TZID=America/New_York:20160118T103000
DTEND;TZID=America/New_York:20160118T110000
DTSTAMP:20260421T233229
CREATED:20150325T220723Z
LAST-MODIFIED:20150325T220723Z
UID:9738-1453113000-1453114800@playpittsburgh.com
SUMMARY:Story time at Soergel Orchards
DESCRIPTION:Join Soergel Orchards for their weekly story time with songs\, coloring page\, and craft. The group meets in front of McIntosh Hall.
URL:https://playpittsburgh.com/event/story-time-at-soergel-orchards-2/2016-01-18/
LOCATION:Soergel Orchards\, 2573 Brandt School Road\, Wexford\, PA\, 15090\, United States
CATEGORIES:Free
GEO:40.612184;-80.092151
X-APPLE-STRUCTURED-LOCATION;VALUE=URI;X-ADDRESS=Soergel Orchards 2573 Brandt School Road Wexford PA 15090 United States;X-APPLE-RADIUS=500;X-TITLE=2573 Brandt School Road:geo:-80.092151,40.612184
END:VEVENT
BEGIN:VEVENT
DTSTART;TZID=America/New_York:20160111T103000
DTEND;TZID=America/New_York:20160111T110000
DTSTAMP:20260421T233229
CREATED:20150325T220723Z
LAST-MODIFIED:20150325T220723Z
UID:9737-1452508200-1452510000@playpittsburgh.com
SUMMARY:Story time at Soergel Orchards
DESCRIPTION:Join Soergel Orchards for their weekly story time with songs\, coloring page\, and craft. The group meets in front of McIntosh Hall.
URL:https://playpittsburgh.com/event/story-time-at-soergel-orchards-2/2016-01-11/
LOCATION:Soergel Orchards\, 2573 Brandt School Road\, Wexford\, PA\, 15090\, United States
CATEGORIES:Free
GEO:40.612184;-80.092151
X-APPLE-STRUCTURED-LOCATION;VALUE=URI;X-ADDRESS=Soergel Orchards 2573 Brandt School Road Wexford PA 15090 United States;X-APPLE-RADIUS=500;X-TITLE=2573 Brandt School Road:geo:-80.092151,40.612184
END:VEVENT
BEGIN:VEVENT
DTSTART;TZID=America/New_York:20160104T103000
DTEND;TZID=America/New_York:20160104T110000
DTSTAMP:20260421T233229
CREATED:20150325T220723Z
LAST-MODIFIED:20150325T220723Z
UID:9736-1451903400-1451905200@playpittsburgh.com
SUMMARY:Story time at Soergel Orchards
DESCRIPTION:Join Soergel Orchards for their weekly story time with songs\, coloring page\, and craft. The group meets in front of McIntosh Hall.
URL:https://playpittsburgh.com/event/story-time-at-soergel-orchards-2/2016-01-04/
LOCATION:Soergel Orchards\, 2573 Brandt School Road\, Wexford\, PA\, 15090\, United States
CATEGORIES:Free
GEO:40.612184;-80.092151
X-APPLE-STRUCTURED-LOCATION;VALUE=URI;X-ADDRESS=Soergel Orchards 2573 Brandt School Road Wexford PA 15090 United States;X-APPLE-RADIUS=500;X-TITLE=2573 Brandt School Road:geo:-80.092151,40.612184
END:VEVENT
BEGIN:VEVENT
DTSTART;TZID=America/New_York:20151228T103000
DTEND;TZID=America/New_York:20151228T110000
DTSTAMP:20260421T233229
CREATED:20150325T220723Z
LAST-MODIFIED:20150325T220723Z
UID:9735-1451298600-1451300400@playpittsburgh.com
SUMMARY:Story time at Soergel Orchards
DESCRIPTION:Join Soergel Orchards for their weekly story time with songs\, coloring page\, and craft. The group meets in front of McIntosh Hall.
URL:https://playpittsburgh.com/event/story-time-at-soergel-orchards-2/2015-12-28/
LOCATION:Soergel Orchards\, 2573 Brandt School Road\, Wexford\, PA\, 15090\, United States
CATEGORIES:Free
GEO:40.612184;-80.092151
X-APPLE-STRUCTURED-LOCATION;VALUE=URI;X-ADDRESS=Soergel Orchards 2573 Brandt School Road Wexford PA 15090 United States;X-APPLE-RADIUS=500;X-TITLE=2573 Brandt School Road:geo:-80.092151,40.612184
END:VEVENT
BEGIN:VEVENT
DTSTART;TZID=America/New_York:20151221T103000
DTEND;TZID=America/New_York:20151221T110000
DTSTAMP:20260421T233229
CREATED:20150325T220723Z
LAST-MODIFIED:20150325T220723Z
UID:9734-1450693800-1450695600@playpittsburgh.com
SUMMARY:Story time at Soergel Orchards
DESCRIPTION:Join Soergel Orchards for their weekly story time with songs\, coloring page\, and craft. The group meets in front of McIntosh Hall.
URL:https://playpittsburgh.com/event/story-time-at-soergel-orchards-2/2015-12-21/
LOCATION:Soergel Orchards\, 2573 Brandt School Road\, Wexford\, PA\, 15090\, United States
CATEGORIES:Free
GEO:40.612184;-80.092151
X-APPLE-STRUCTURED-LOCATION;VALUE=URI;X-ADDRESS=Soergel Orchards 2573 Brandt School Road Wexford PA 15090 United States;X-APPLE-RADIUS=500;X-TITLE=2573 Brandt School Road:geo:-80.092151,40.612184
END:VEVENT
BEGIN:VEVENT
DTSTART;TZID=America/New_York:20151214T103000
DTEND;TZID=America/New_York:20151214T110000
DTSTAMP:20260421T233229
CREATED:20150325T220723Z
LAST-MODIFIED:20150325T220723Z
UID:9733-1450089000-1450090800@playpittsburgh.com
SUMMARY:Story time at Soergel Orchards
DESCRIPTION:Join Soergel Orchards for their weekly story time with songs\, coloring page\, and craft. The group meets in front of McIntosh Hall.
URL:https://playpittsburgh.com/event/story-time-at-soergel-orchards-2/2015-12-14/
LOCATION:Soergel Orchards\, 2573 Brandt School Road\, Wexford\, PA\, 15090\, United States
CATEGORIES:Free
GEO:40.612184;-80.092151
X-APPLE-STRUCTURED-LOCATION;VALUE=URI;X-ADDRESS=Soergel Orchards 2573 Brandt School Road Wexford PA 15090 United States;X-APPLE-RADIUS=500;X-TITLE=2573 Brandt School Road:geo:-80.092151,40.612184
END:VEVENT
BEGIN:VEVENT
DTSTART;TZID=America/New_York:20151207T103000
DTEND;TZID=America/New_York:20151207T110000
DTSTAMP:20260421T233229
CREATED:20150325T220723Z
LAST-MODIFIED:20150325T220723Z
UID:9732-1449484200-1449486000@playpittsburgh.com
SUMMARY:Story time at Soergel Orchards
DESCRIPTION:Join Soergel Orchards for their weekly story time with songs\, coloring page\, and craft. The group meets in front of McIntosh Hall.
URL:https://playpittsburgh.com/event/story-time-at-soergel-orchards-2/2015-12-07/
LOCATION:Soergel Orchards\, 2573 Brandt School Road\, Wexford\, PA\, 15090\, United States
CATEGORIES:Free
GEO:40.612184;-80.092151
X-APPLE-STRUCTURED-LOCATION;VALUE=URI;X-ADDRESS=Soergel Orchards 2573 Brandt School Road Wexford PA 15090 United States;X-APPLE-RADIUS=500;X-TITLE=2573 Brandt School Road:geo:-80.092151,40.612184
END:VEVENT
BEGIN:VEVENT
DTSTART;TZID=America/New_York:20151130T103000
DTEND;TZID=America/New_York:20151130T110000
DTSTAMP:20260421T233229
CREATED:20150325T220723Z
LAST-MODIFIED:20150325T220723Z
UID:9731-1448879400-1448881200@playpittsburgh.com
SUMMARY:Story time at Soergel Orchards
DESCRIPTION:Join Soergel Orchards for their weekly story time with songs\, coloring page\, and craft. The group meets in front of McIntosh Hall.
URL:https://playpittsburgh.com/event/story-time-at-soergel-orchards-2/2015-11-30/
LOCATION:Soergel Orchards\, 2573 Brandt School Road\, Wexford\, PA\, 15090\, United States
CATEGORIES:Free
GEO:40.612184;-80.092151
X-APPLE-STRUCTURED-LOCATION;VALUE=URI;X-ADDRESS=Soergel Orchards 2573 Brandt School Road Wexford PA 15090 United States;X-APPLE-RADIUS=500;X-TITLE=2573 Brandt School Road:geo:-80.092151,40.612184
END:VEVENT
BEGIN:VEVENT
DTSTART;TZID=America/New_York:20151123T103000
DTEND;TZID=America/New_York:20151123T110000
DTSTAMP:20260421T233229
CREATED:20150325T220723Z
LAST-MODIFIED:20150325T220723Z
UID:9730-1448274600-1448276400@playpittsburgh.com
SUMMARY:Story time at Soergel Orchards
DESCRIPTION:Join Soergel Orchards for their weekly story time with songs\, coloring page\, and craft. The group meets in front of McIntosh Hall.
URL:https://playpittsburgh.com/event/story-time-at-soergel-orchards-2/2015-11-23/
LOCATION:Soergel Orchards\, 2573 Brandt School Road\, Wexford\, PA\, 15090\, United States
CATEGORIES:Free
GEO:40.612184;-80.092151
X-APPLE-STRUCTURED-LOCATION;VALUE=URI;X-ADDRESS=Soergel Orchards 2573 Brandt School Road Wexford PA 15090 United States;X-APPLE-RADIUS=500;X-TITLE=2573 Brandt School Road:geo:-80.092151,40.612184
END:VEVENT
BEGIN:VEVENT
DTSTART;TZID=America/New_York:20151116T103000
DTEND;TZID=America/New_York:20151116T110000
DTSTAMP:20260421T233229
CREATED:20150325T220723Z
LAST-MODIFIED:20150325T220723Z
UID:9729-1447669800-1447671600@playpittsburgh.com
SUMMARY:Story time at Soergel Orchards
DESCRIPTION:Join Soergel Orchards for their weekly story time with songs\, coloring page\, and craft. The group meets in front of McIntosh Hall.
URL:https://playpittsburgh.com/event/story-time-at-soergel-orchards-2/2015-11-16/
LOCATION:Soergel Orchards\, 2573 Brandt School Road\, Wexford\, PA\, 15090\, United States
CATEGORIES:Free
GEO:40.612184;-80.092151
X-APPLE-STRUCTURED-LOCATION;VALUE=URI;X-ADDRESS=Soergel Orchards 2573 Brandt School Road Wexford PA 15090 United States;X-APPLE-RADIUS=500;X-TITLE=2573 Brandt School Road:geo:-80.092151,40.612184
END:VEVENT
BEGIN:VEVENT
DTSTART;TZID=America/New_York:20151109T103000
DTEND;TZID=America/New_York:20151109T110000
DTSTAMP:20260421T233229
CREATED:20150325T220723Z
LAST-MODIFIED:20150325T220723Z
UID:9728-1447065000-1447066800@playpittsburgh.com
SUMMARY:Story time at Soergel Orchards
DESCRIPTION:Join Soergel Orchards for their weekly story time with songs\, coloring page\, and craft. The group meets in front of McIntosh Hall.
URL:https://playpittsburgh.com/event/story-time-at-soergel-orchards-2/2015-11-09/
LOCATION:Soergel Orchards\, 2573 Brandt School Road\, Wexford\, PA\, 15090\, United States
CATEGORIES:Free
GEO:40.612184;-80.092151
X-APPLE-STRUCTURED-LOCATION;VALUE=URI;X-ADDRESS=Soergel Orchards 2573 Brandt School Road Wexford PA 15090 United States;X-APPLE-RADIUS=500;X-TITLE=2573 Brandt School Road:geo:-80.092151,40.612184
END:VEVENT
BEGIN:VEVENT
DTSTART;TZID=America/New_York:20151102T103000
DTEND;TZID=America/New_York:20151102T110000
DTSTAMP:20260421T233229
CREATED:20150325T220723Z
LAST-MODIFIED:20150325T220723Z
UID:9727-1446460200-1446462000@playpittsburgh.com
SUMMARY:Story time at Soergel Orchards
DESCRIPTION:Join Soergel Orchards for their weekly story time with songs\, coloring page\, and craft. The group meets in front of McIntosh Hall.
URL:https://playpittsburgh.com/event/story-time-at-soergel-orchards-2/2015-11-02/
LOCATION:Soergel Orchards\, 2573 Brandt School Road\, Wexford\, PA\, 15090\, United States
CATEGORIES:Free
GEO:40.612184;-80.092151
X-APPLE-STRUCTURED-LOCATION;VALUE=URI;X-ADDRESS=Soergel Orchards 2573 Brandt School Road Wexford PA 15090 United States;X-APPLE-RADIUS=500;X-TITLE=2573 Brandt School Road:geo:-80.092151,40.612184
END:VEVENT
BEGIN:VEVENT
DTSTART;TZID=America/New_York:20151026T103000
DTEND;TZID=America/New_York:20151026T110000
DTSTAMP:20260421T233229
CREATED:20150325T220723Z
LAST-MODIFIED:20150325T220723Z
UID:9726-1445855400-1445857200@playpittsburgh.com
SUMMARY:Story time at Soergel Orchards
DESCRIPTION:Join Soergel Orchards for their weekly story time with songs\, coloring page\, and craft. The group meets in front of McIntosh Hall.
URL:https://playpittsburgh.com/event/story-time-at-soergel-orchards-2/2015-10-26/
LOCATION:Soergel Orchards\, 2573 Brandt School Road\, Wexford\, PA\, 15090\, United States
CATEGORIES:Free
GEO:40.612184;-80.092151
X-APPLE-STRUCTURED-LOCATION;VALUE=URI;X-ADDRESS=Soergel Orchards 2573 Brandt School Road Wexford PA 15090 United States;X-APPLE-RADIUS=500;X-TITLE=2573 Brandt School Road:geo:-80.092151,40.612184
END:VEVENT
BEGIN:VEVENT
DTSTART;TZID=America/New_York:20151019T103000
DTEND;TZID=America/New_York:20151019T110000
DTSTAMP:20260421T233229
CREATED:20150325T220723Z
LAST-MODIFIED:20150325T220723Z
UID:9725-1445250600-1445252400@playpittsburgh.com
SUMMARY:Story time at Soergel Orchards
DESCRIPTION:Join Soergel Orchards for their weekly story time with songs\, coloring page\, and craft. The group meets in front of McIntosh Hall.
URL:https://playpittsburgh.com/event/story-time-at-soergel-orchards-2/2015-10-19/
LOCATION:Soergel Orchards\, 2573 Brandt School Road\, Wexford\, PA\, 15090\, United States
CATEGORIES:Free
GEO:40.612184;-80.092151
X-APPLE-STRUCTURED-LOCATION;VALUE=URI;X-ADDRESS=Soergel Orchards 2573 Brandt School Road Wexford PA 15090 United States;X-APPLE-RADIUS=500;X-TITLE=2573 Brandt School Road:geo:-80.092151,40.612184
END:VEVENT
BEGIN:VEVENT
DTSTART;TZID=America/New_York:20151012T103000
DTEND;TZID=America/New_York:20151012T110000
DTSTAMP:20260421T233229
CREATED:20150325T220723Z
LAST-MODIFIED:20150325T220723Z
UID:9724-1444645800-1444647600@playpittsburgh.com
SUMMARY:Story time at Soergel Orchards
DESCRIPTION:Join Soergel Orchards for their weekly story time with songs\, coloring page\, and craft. The group meets in front of McIntosh Hall.
URL:https://playpittsburgh.com/event/story-time-at-soergel-orchards-2/2015-10-12/
LOCATION:Soergel Orchards\, 2573 Brandt School Road\, Wexford\, PA\, 15090\, United States
CATEGORIES:Free
GEO:40.612184;-80.092151
X-APPLE-STRUCTURED-LOCATION;VALUE=URI;X-ADDRESS=Soergel Orchards 2573 Brandt School Road Wexford PA 15090 United States;X-APPLE-RADIUS=500;X-TITLE=2573 Brandt School Road:geo:-80.092151,40.612184
END:VEVENT
BEGIN:VEVENT
DTSTART;TZID=America/New_York:20151005T103000
DTEND;TZID=America/New_York:20151005T110000
DTSTAMP:20260421T233229
CREATED:20150325T220723Z
LAST-MODIFIED:20150325T220723Z
UID:9723-1444041000-1444042800@playpittsburgh.com
SUMMARY:Story time at Soergel Orchards
DESCRIPTION:Join Soergel Orchards for their weekly story time with songs\, coloring page\, and craft. The group meets in front of McIntosh Hall.
URL:https://playpittsburgh.com/event/story-time-at-soergel-orchards-2/2015-10-05/
LOCATION:Soergel Orchards\, 2573 Brandt School Road\, Wexford\, PA\, 15090\, United States
CATEGORIES:Free
GEO:40.612184;-80.092151
X-APPLE-STRUCTURED-LOCATION;VALUE=URI;X-ADDRESS=Soergel Orchards 2573 Brandt School Road Wexford PA 15090 United States;X-APPLE-RADIUS=500;X-TITLE=2573 Brandt School Road:geo:-80.092151,40.612184
END:VEVENT
BEGIN:VEVENT
DTSTART;TZID=America/New_York:20150928T103000
DTEND;TZID=America/New_York:20150928T110000
DTSTAMP:20260421T233229
CREATED:20150325T220723Z
LAST-MODIFIED:20150325T220723Z
UID:9722-1443436200-1443438000@playpittsburgh.com
SUMMARY:Story time at Soergel Orchards
DESCRIPTION:Join Soergel Orchards for their weekly story time with songs\, coloring page\, and craft. The group meets in front of McIntosh Hall.
URL:https://playpittsburgh.com/event/story-time-at-soergel-orchards-2/2015-09-28/
LOCATION:Soergel Orchards\, 2573 Brandt School Road\, Wexford\, PA\, 15090\, United States
CATEGORIES:Free
GEO:40.612184;-80.092151
X-APPLE-STRUCTURED-LOCATION;VALUE=URI;X-ADDRESS=Soergel Orchards 2573 Brandt School Road Wexford PA 15090 United States;X-APPLE-RADIUS=500;X-TITLE=2573 Brandt School Road:geo:-80.092151,40.612184
END:VEVENT
BEGIN:VEVENT
DTSTART;TZID=America/New_York:20150921T103000
DTEND;TZID=America/New_York:20150921T110000
DTSTAMP:20260421T233229
CREATED:20150325T220723Z
LAST-MODIFIED:20150325T220723Z
UID:9721-1442831400-1442833200@playpittsburgh.com
SUMMARY:Story time at Soergel Orchards
DESCRIPTION:Join Soergel Orchards for their weekly story time with songs\, coloring page\, and craft. The group meets in front of McIntosh Hall.
URL:https://playpittsburgh.com/event/story-time-at-soergel-orchards-2/2015-09-21/
LOCATION:Soergel Orchards\, 2573 Brandt School Road\, Wexford\, PA\, 15090\, United States
CATEGORIES:Free
GEO:40.612184;-80.092151
X-APPLE-STRUCTURED-LOCATION;VALUE=URI;X-ADDRESS=Soergel Orchards 2573 Brandt School Road Wexford PA 15090 United States;X-APPLE-RADIUS=500;X-TITLE=2573 Brandt School Road:geo:-80.092151,40.612184
END:VEVENT
BEGIN:VEVENT
DTSTART;TZID=America/New_York:20150914T103000
DTEND;TZID=America/New_York:20150914T110000
DTSTAMP:20260421T233229
CREATED:20150325T220723Z
LAST-MODIFIED:20150325T220723Z
UID:9720-1442226600-1442228400@playpittsburgh.com
SUMMARY:Story time at Soergel Orchards
DESCRIPTION:Join Soergel Orchards for their weekly story time with songs\, coloring page\, and craft. The group meets in front of McIntosh Hall.
URL:https://playpittsburgh.com/event/story-time-at-soergel-orchards-2/2015-09-14/
LOCATION:Soergel Orchards\, 2573 Brandt School Road\, Wexford\, PA\, 15090\, United States
CATEGORIES:Free
GEO:40.612184;-80.092151
X-APPLE-STRUCTURED-LOCATION;VALUE=URI;X-ADDRESS=Soergel Orchards 2573 Brandt School Road Wexford PA 15090 United States;X-APPLE-RADIUS=500;X-TITLE=2573 Brandt School Road:geo:-80.092151,40.612184
END:VEVENT
BEGIN:VEVENT
DTSTART;TZID=America/New_York:20150907T103000
DTEND;TZID=America/New_York:20150907T110000
DTSTAMP:20260421T233229
CREATED:20150325T220723Z
LAST-MODIFIED:20150325T220723Z
UID:9719-1441621800-1441623600@playpittsburgh.com
SUMMARY:Story time at Soergel Orchards
DESCRIPTION:Join Soergel Orchards for their weekly story time with songs\, coloring page\, and craft. The group meets in front of McIntosh Hall.
URL:https://playpittsburgh.com/event/story-time-at-soergel-orchards-2/2015-09-07/
LOCATION:Soergel Orchards\, 2573 Brandt School Road\, Wexford\, PA\, 15090\, United States
CATEGORIES:Free
GEO:40.612184;-80.092151
X-APPLE-STRUCTURED-LOCATION;VALUE=URI;X-ADDRESS=Soergel Orchards 2573 Brandt School Road Wexford PA 15090 United States;X-APPLE-RADIUS=500;X-TITLE=2573 Brandt School Road:geo:-80.092151,40.612184
END:VEVENT
END:VCALENDAR