BEGIN:VCALENDAR
VERSION:2.0
PRODID:-//Play Pittsburgh - ECPv6.15.20//NONSGML v1.0//EN
CALSCALE:GREGORIAN
METHOD:PUBLISH
X-WR-CALNAME:Play Pittsburgh
X-ORIGINAL-URL:https://playpittsburgh.com
X-WR-CALDESC:Events for Play Pittsburgh
REFRESH-INTERVAL;VALUE=DURATION:PT1H
X-Robots-Tag:noindex
X-PUBLISHED-TTL:PT1H
BEGIN:VTIMEZONE
TZID:America/New_York
BEGIN:DAYLIGHT
TZOFFSETFROM:-0500
TZOFFSETTO:-0400
TZNAME:EDT
DTSTART:20130310T070000
END:DAYLIGHT
BEGIN:STANDARD
TZOFFSETFROM:-0400
TZOFFSETTO:-0500
TZNAME:EST
DTSTART:20131103T060000
END:STANDARD
BEGIN:DAYLIGHT
TZOFFSETFROM:-0500
TZOFFSETTO:-0400
TZNAME:EDT
DTSTART:20140309T070000
END:DAYLIGHT
BEGIN:STANDARD
TZOFFSETFROM:-0400
TZOFFSETTO:-0500
TZNAME:EST
DTSTART:20141102T060000
END:STANDARD
BEGIN:DAYLIGHT
TZOFFSETFROM:-0500
TZOFFSETTO:-0400
TZNAME:EDT
DTSTART:20150308T070000
END:DAYLIGHT
BEGIN:STANDARD
TZOFFSETFROM:-0400
TZOFFSETTO:-0500
TZNAME:EST
DTSTART:20151101T060000
END:STANDARD
END:VTIMEZONE
BEGIN:VEVENT
DTSTART;TZID=America/New_York:20140927T100000
DTEND;TZID=America/New_York:20140927T170000
DTSTAMP:20260422T071925
CREATED:20140904T041937Z
LAST-MODIFIED:20140904T041937Z
UID:3642-1411812000-1411837200@playpittsburgh.com
SUMMARY:Society for Contemporary Craft
DESCRIPTION:Discover the irresistible qualities of clay in Transformation 9: Contemporary Works in Ceramics\, an exhibition featuring the diverse and innovative work of 31 artists from around the country. Create your own masterpiece out of clay or explore food as humorous and unexpected subject matter in the Drop-In Studio.
URL:https://playpittsburgh.com/event/society-for-contemporary-craft/
LOCATION:Society for Contemporary Craft\, 2100 Smallman St. \, Pittsburgh\, PA\, 15222\, United States
CATEGORIES:Free,RADical Days
GEO:40.4522611;-79.983848
X-APPLE-STRUCTURED-LOCATION;VALUE=URI;X-ADDRESS=Society for Contemporary Craft 2100 Smallman St.  Pittsburgh PA 15222 United States;X-APPLE-RADIUS=500;X-TITLE=2100 Smallman St.:geo:-79.983848,40.4522611
END:VEVENT
END:VCALENDAR