BEGIN:VCALENDAR
VERSION:2.0
PRODID:-//Play Pittsburgh - ECPv6.15.20//NONSGML v1.0//EN
CALSCALE:GREGORIAN
METHOD:PUBLISH
X-WR-CALNAME:Play Pittsburgh
X-ORIGINAL-URL:https://playpittsburgh.com
X-WR-CALDESC:Events for Play Pittsburgh
REFRESH-INTERVAL;VALUE=DURATION:PT1H
X-Robots-Tag:noindex
X-PUBLISHED-TTL:PT1H
BEGIN:VTIMEZONE
TZID:America/New_York
BEGIN:DAYLIGHT
TZOFFSETFROM:-0500
TZOFFSETTO:-0400
TZNAME:EDT
DTSTART:20130310T070000
END:DAYLIGHT
BEGIN:STANDARD
TZOFFSETFROM:-0400
TZOFFSETTO:-0500
TZNAME:EST
DTSTART:20131103T060000
END:STANDARD
BEGIN:DAYLIGHT
TZOFFSETFROM:-0500
TZOFFSETTO:-0400
TZNAME:EDT
DTSTART:20140309T070000
END:DAYLIGHT
BEGIN:STANDARD
TZOFFSETFROM:-0400
TZOFFSETTO:-0500
TZNAME:EST
DTSTART:20141102T060000
END:STANDARD
BEGIN:DAYLIGHT
TZOFFSETFROM:-0500
TZOFFSETTO:-0400
TZNAME:EDT
DTSTART:20150308T070000
END:DAYLIGHT
BEGIN:STANDARD
TZOFFSETFROM:-0400
TZOFFSETTO:-0500
TZNAME:EST
DTSTART:20151101T060000
END:STANDARD
END:VTIMEZONE
BEGIN:VEVENT
DTSTART;VALUE=DATE:20141229
DTEND;VALUE=DATE:20141230
DTSTAMP:20260422T064851
CREATED:20141205T072051Z
LAST-MODIFIED:20141205T072051Z
UID:5193-1419811200-1419897599@playpittsburgh.com
SUMMARY:Snapology Winter Camp
DESCRIPTION:Keep the kids busy at Winter Break Camps at Snapology! Snapology is an inviting playspace full of various building materials and interactive toys for kids of all ages. Sure\, they have about a bazillion Legos\, but that’s just the beginning! You can read more about our visit here. \n\nDec 22. 8:30am-4:30pm\, Minecraft (ages 6-14) $80 40\, incl. pizza lunch\nDec 23\, 8:30am-12pm\, Santa’s Creator’s Club (ages 4-6)*\nDec 23\, 1-4:30pm\, How The Grinch Stole Legos (ages 4-9)*\n*attend both camps\, pack a lunch and stay the whole day\nDec 29\, 8:30am-4:30pm\, Amusement Park Adventure (ages 7-14) includes pizza lunch\nDec 30\, 8:30am-12pm\, Black Belt Engineers (ages 8-14)*\nDec 30\, 1-4:30pm\, Lego Animation (ages 8-14)*\n*attend both camps\, pack a lunch and stay the whole day
URL:https://playpittsburgh.com/event/snapology-winter-camp/2014-12-29/
LOCATION:Snapology (Bethel Park)\, 1699 Washington Rd\, Mt Lebanon\, PA\, 15228\, United States
GEO:40.3491516;-80.0514502
X-APPLE-STRUCTURED-LOCATION;VALUE=URI;X-ADDRESS=Snapology (Bethel Park) 1699 Washington Rd Mt Lebanon PA 15228 United States;X-APPLE-RADIUS=500;X-TITLE=1699 Washington Rd:geo:-80.0514502,40.3491516
END:VEVENT
BEGIN:VEVENT
DTSTART;TZID=America/New_York:20141226T173000
DTEND;TZID=America/New_York:20141226T203000
DTSTAMP:20260422T064851
CREATED:20141203T213818Z
LAST-MODIFIED:20141203T213818Z
UID:8147-1419615000-1419625800@playpittsburgh.com
SUMMARY:Parent’s Night Out at Snapology
DESCRIPTION:Every Friday night is Parents’ Night Out! Snapology’s Discovery Center in Bethel Park is open 5:30-8:30pm. Bring the kids by and take some time to yourself. Shop\, eat\, relax or have a date with that special someone. Let us entertain the kids for you. Just $5 per hour for the first 2 hours. Parents must stay with kids age 4 or under. Kids age 5+ may be dropped off.
URL:https://playpittsburgh.com/event/parents-night-out-at-snapology/2014-12-26/
LOCATION:Snapology (Bethel Park)\, 1699 Washington Rd\, Mt Lebanon\, PA\, 15228\, United States
GEO:40.3491516;-80.0514502
X-APPLE-STRUCTURED-LOCATION;VALUE=URI;X-ADDRESS=Snapology (Bethel Park) 1699 Washington Rd Mt Lebanon PA 15228 United States;X-APPLE-RADIUS=500;X-TITLE=1699 Washington Rd:geo:-80.0514502,40.3491516
END:VEVENT
BEGIN:VEVENT
DTSTART;VALUE=DATE:20141223
DTEND;VALUE=DATE:20141224
DTSTAMP:20260422T064851
CREATED:20141205T071725Z
LAST-MODIFIED:20141205T071725Z
UID:8219-1419292800-1419379199@playpittsburgh.com
SUMMARY:Snapology Winter Camp
DESCRIPTION:Keep the kids busy at Winter Break Camps at Snapology! Snapology is an inviting playspace full of various building materials and interactive toys for kids of all ages. Sure\, they have about a bazillion Legos\, but that’s just the beginning! You can read more about our visit here. \n\nDec 22. 8:30am-4:30pm\, Minecraft (ages 6-14) $80 40\, incl. pizza lunch\nDec 23\, 8:30am-12pm\, Santa’s Creator’s Club (ages 4-6)\nDec 23\, 1-4:30pm\, How The Grinch Stole Legos (ages 4-9)\n*attend both camps\, pack a lunch and stay the whole day\nDec 29\, 8:30am-4:30pm\, Amusement Park Adventure (ages 7-14) includes pizza lunch\nDec 30\, 8:30am-12pm\, Black Belt Engineers (ages 8-14) $40 20\nDec 30\, 1-4:30pm\, Lego Animation (ages 8-14) $40 20\n*attend both camps\, pack a lunch and stay the whole day
URL:https://playpittsburgh.com/event/snapology/2014-12-23/
LOCATION:Snapology (Bethel Park)\, 1699 Washington Rd\, Mt Lebanon\, PA\, 15228\, United States
GEO:40.3491516;-80.0514502
X-APPLE-STRUCTURED-LOCATION;VALUE=URI;X-ADDRESS=Snapology (Bethel Park) 1699 Washington Rd Mt Lebanon PA 15228 United States;X-APPLE-RADIUS=500;X-TITLE=1699 Washington Rd:geo:-80.0514502,40.3491516
END:VEVENT
BEGIN:VEVENT
DTSTART;VALUE=DATE:20141222
DTEND;VALUE=DATE:20141223
DTSTAMP:20260422T064851
CREATED:20141205T071725Z
LAST-MODIFIED:20141205T071725Z
UID:5191-1419206400-1419292799@playpittsburgh.com
SUMMARY:Snapology Winter Camp
DESCRIPTION:Keep the kids busy at Winter Break Camps at Snapology! Snapology is an inviting playspace full of various building materials and interactive toys for kids of all ages. Sure\, they have about a bazillion Legos\, but that’s just the beginning! You can read more about our visit here. \n\nDec 22. 8:30am-4:30pm\, Minecraft (ages 6-14) $80 40\, incl. pizza lunch\nDec 23\, 8:30am-12pm\, Santa’s Creator’s Club (ages 4-6)\nDec 23\, 1-4:30pm\, How The Grinch Stole Legos (ages 4-9)\n*attend both camps\, pack a lunch and stay the whole day\nDec 29\, 8:30am-4:30pm\, Amusement Park Adventure (ages 7-14) includes pizza lunch\nDec 30\, 8:30am-12pm\, Black Belt Engineers (ages 8-14) $40 20\nDec 30\, 1-4:30pm\, Lego Animation (ages 8-14) $40 20\n*attend both camps\, pack a lunch and stay the whole day
URL:https://playpittsburgh.com/event/snapology/2014-12-22/
LOCATION:Snapology (Bethel Park)\, 1699 Washington Rd\, Mt Lebanon\, PA\, 15228\, United States
GEO:40.3491516;-80.0514502
X-APPLE-STRUCTURED-LOCATION;VALUE=URI;X-ADDRESS=Snapology (Bethel Park) 1699 Washington Rd Mt Lebanon PA 15228 United States;X-APPLE-RADIUS=500;X-TITLE=1699 Washington Rd:geo:-80.0514502,40.3491516
END:VEVENT
BEGIN:VEVENT
DTSTART;TZID=America/New_York:20141219T173000
DTEND;TZID=America/New_York:20141219T203000
DTSTAMP:20260422T064851
CREATED:20141203T213818Z
LAST-MODIFIED:20141203T213818Z
UID:8146-1419010200-1419021000@playpittsburgh.com
SUMMARY:Parent’s Night Out at Snapology
DESCRIPTION:Every Friday night is Parents’ Night Out! Snapology’s Discovery Center in Bethel Park is open 5:30-8:30pm. Bring the kids by and take some time to yourself. Shop\, eat\, relax or have a date with that special someone. Let us entertain the kids for you. Just $5 per hour for the first 2 hours. Parents must stay with kids age 4 or under. Kids age 5+ may be dropped off.
URL:https://playpittsburgh.com/event/parents-night-out-at-snapology/2014-12-19/
LOCATION:Snapology (Bethel Park)\, 1699 Washington Rd\, Mt Lebanon\, PA\, 15228\, United States
GEO:40.3491516;-80.0514502
X-APPLE-STRUCTURED-LOCATION;VALUE=URI;X-ADDRESS=Snapology (Bethel Park) 1699 Washington Rd Mt Lebanon PA 15228 United States;X-APPLE-RADIUS=500;X-TITLE=1699 Washington Rd:geo:-80.0514502,40.3491516
END:VEVENT
BEGIN:VEVENT
DTSTART;TZID=America/New_York:20141212T173000
DTEND;TZID=America/New_York:20141212T203000
DTSTAMP:20260422T064851
CREATED:20141203T213818Z
LAST-MODIFIED:20141203T213818Z
UID:8145-1418405400-1418416200@playpittsburgh.com
SUMMARY:Parent’s Night Out at Snapology
DESCRIPTION:Every Friday night is Parents’ Night Out! Snapology’s Discovery Center in Bethel Park is open 5:30-8:30pm. Bring the kids by and take some time to yourself. Shop\, eat\, relax or have a date with that special someone. Let us entertain the kids for you. Just $5 per hour for the first 2 hours. Parents must stay with kids age 4 or under. Kids age 5+ may be dropped off.
URL:https://playpittsburgh.com/event/parents-night-out-at-snapology/2014-12-12/
LOCATION:Snapology (Bethel Park)\, 1699 Washington Rd\, Mt Lebanon\, PA\, 15228\, United States
GEO:40.3491516;-80.0514502
X-APPLE-STRUCTURED-LOCATION;VALUE=URI;X-ADDRESS=Snapology (Bethel Park) 1699 Washington Rd Mt Lebanon PA 15228 United States;X-APPLE-RADIUS=500;X-TITLE=1699 Washington Rd:geo:-80.0514502,40.3491516
END:VEVENT
BEGIN:VEVENT
DTSTART;TZID=America/New_York:20141205T173000
DTEND;TZID=America/New_York:20141205T203000
DTSTAMP:20260422T064851
CREATED:20141203T213818Z
LAST-MODIFIED:20141203T213818Z
UID:5023-1417800600-1417811400@playpittsburgh.com
SUMMARY:Parent’s Night Out at Snapology
DESCRIPTION:Every Friday night is Parents’ Night Out! Snapology’s Discovery Center in Bethel Park is open 5:30-8:30pm. Bring the kids by and take some time to yourself. Shop\, eat\, relax or have a date with that special someone. Let us entertain the kids for you. Just $5 per hour for the first 2 hours. Parents must stay with kids age 4 or under. Kids age 5+ may be dropped off.
URL:https://playpittsburgh.com/event/parents-night-out-at-snapology/2014-12-05/
LOCATION:Snapology (Bethel Park)\, 1699 Washington Rd\, Mt Lebanon\, PA\, 15228\, United States
GEO:40.3491516;-80.0514502
X-APPLE-STRUCTURED-LOCATION;VALUE=URI;X-ADDRESS=Snapology (Bethel Park) 1699 Washington Rd Mt Lebanon PA 15228 United States;X-APPLE-RADIUS=500;X-TITLE=1699 Washington Rd:geo:-80.0514502,40.3491516
END:VEVENT
END:VCALENDAR