BEGIN:VCALENDAR
VERSION:2.0
PRODID:-//Play Pittsburgh - ECPv6.15.20//NONSGML v1.0//EN
CALSCALE:GREGORIAN
METHOD:PUBLISH
X-WR-CALNAME:Play Pittsburgh
X-ORIGINAL-URL:https://playpittsburgh.com
X-WR-CALDESC:Events for Play Pittsburgh
REFRESH-INTERVAL;VALUE=DURATION:PT1H
X-Robots-Tag:noindex
X-PUBLISHED-TTL:PT1H
BEGIN:VTIMEZONE
TZID:America/New_York
BEGIN:DAYLIGHT
TZOFFSETFROM:-0500
TZOFFSETTO:-0400
TZNAME:EDT
DTSTART:20130310T070000
END:DAYLIGHT
BEGIN:STANDARD
TZOFFSETFROM:-0400
TZOFFSETTO:-0500
TZNAME:EST
DTSTART:20131103T060000
END:STANDARD
BEGIN:DAYLIGHT
TZOFFSETFROM:-0500
TZOFFSETTO:-0400
TZNAME:EDT
DTSTART:20140309T070000
END:DAYLIGHT
BEGIN:STANDARD
TZOFFSETFROM:-0400
TZOFFSETTO:-0500
TZNAME:EST
DTSTART:20141102T060000
END:STANDARD
BEGIN:DAYLIGHT
TZOFFSETFROM:-0500
TZOFFSETTO:-0400
TZNAME:EDT
DTSTART:20150308T070000
END:DAYLIGHT
BEGIN:STANDARD
TZOFFSETFROM:-0400
TZOFFSETTO:-0500
TZNAME:EST
DTSTART:20151101T060000
END:STANDARD
BEGIN:DAYLIGHT
TZOFFSETFROM:-0500
TZOFFSETTO:-0400
TZNAME:EDT
DTSTART:20160313T070000
END:DAYLIGHT
BEGIN:STANDARD
TZOFFSETFROM:-0400
TZOFFSETTO:-0500
TZNAME:EST
DTSTART:20161106T060000
END:STANDARD
END:VTIMEZONE
BEGIN:VEVENT
DTSTART;VALUE=DATE:20150328
DTEND;VALUE=DATE:20150405
DTSTAMP:20260424T050519
CREATED:20150325T131223Z
LAST-MODIFIED:20150325T131223Z
UID:5634-1427500800-1428191999@playpittsburgh.com
SUMMARY:Simmons Farm Easter Egg Hunt
DESCRIPTION:2015 Easter Egg Hunt at Simmons Farm! March 28th through April 4th. \nTime- Monday-Saturday 10am-6pm\, Sunday (March 29th) 10am-5pm \nRain or Shine- If weather is nice the Easter Egg Hunt will be in the orchard and if weather is unfavorable the Easter egg hunt will be indoors in the greenhouse. \nNo registration required just walk in. \nPrice- $11.00 \nWhats included in price – \n\nFarm related craft\nDecorate your Easter egg gathering bag\nCollection of 12 eggs that are exchanged for prizes\, every child hunting will receive prize (in apples orchard if sunshine or in greenhouse if rain)\nDecorate flower pot and then plant flower\nColoring craft\nVisit our petting zoo and visit all the animals\nNew this year duck pond Races!!\n\n(no charge for adults to accompany children)\n(all crafts and prizes based on availability)
URL:https://playpittsburgh.com/event/simmons-farm-easter-egg-hunt/
LOCATION:Simmons Farm\, 170 Simmons Rd \, McMurray \, PA\, 15317\, United States
GEO:40.2682004;-80.0830871
X-APPLE-STRUCTURED-LOCATION;VALUE=URI;X-ADDRESS=Simmons Farm 170 Simmons Rd  McMurray  PA 15317 United States;X-APPLE-RADIUS=500;X-TITLE=170 Simmons Rd:geo:-80.0830871,40.2682004
END:VEVENT
BEGIN:VEVENT
DTSTART;VALUE=DATE:20140920
DTEND;VALUE=DATE:20141101
DTSTAMP:20260424T050519
CREATED:20140901T164647Z
LAST-MODIFIED:20140901T164647Z
UID:3403-1411171200-1414799999@playpittsburgh.com
SUMMARY:Simmons Farm Fall Activities
DESCRIPTION:Open 7 days a week! \nFall Activities with hayride (children under 33″ free) \n\nfive acres of pumpkins\nhay maze\n4 acre and 2 acre corn maze\n100ft slide and smaller Fire Truck slide!\npetting Zoo\nplay Area\ncorn play bin\n100 ft slide\none free apple\n\nWeekend Extra Activities Include: (*some items may have charge) \n\nButterfly hut\nFood Concessions\nPumpkin Carving Display\nPumpkin Typhoon\nApple Sling Shot*\n4H pumpkin catapult*\nMusic by Fiddlin’ Mike and the Fiddlin’ Around Band!\nApple Picking click here for details\n\n(All activities availability due to weather may vary call ahead. Everyone must have wristband to enter field with activities) \nPrices: \nFall Activities Prices\n(Children under 33″ free) \nFall Activities plus Hayride: $10.50\nPrice includes all field activities (listed above)\, and scenic hayride to the field (no pumpkin). \nPumpkin/Fall Activities and Hayride: $13.50 \nThis price includes all fall activities (listed above)\, scenic hayride and a any size pumpkin from field (no weighing)!\nAlso includes picking of ear Indian corn from the field (while supplies last) \nExtra Pumpkins: \nOnly if you pick more pumpkins then previously paid for with field pass. \n(Large groups call or email ahead of visit) \nHayride Group Rates: \nScenic Hayride to Pumpkin Field – $9.50/person\nHayride & Activities & Pumpkin – $11.50/person \n-Group rate for 10 or more people purchasing tickets.\n-Group must pay in one lump sum.\n– Include all field pass activities listed above.\n-Pumpkins picked from the field may be any size.\n-At least one pumpkin must be picked per group.
URL:https://playpittsburgh.com/event/simmons-farm-fall-activities/
LOCATION:Simmons Farm\, 170 Simmons Rd \, McMurray \, PA\, 15317\, United States
CATEGORIES:Festivals,Outdoor
GEO:40.2682004;-80.0830871
X-APPLE-STRUCTURED-LOCATION;VALUE=URI;X-ADDRESS=Simmons Farm 170 Simmons Rd  McMurray  PA 15317 United States;X-APPLE-RADIUS=500;X-TITLE=170 Simmons Rd:geo:-80.0830871,40.2682004
END:VEVENT
END:VCALENDAR