BEGIN:VCALENDAR
VERSION:2.0
PRODID:-//Play Pittsburgh - ECPv6.15.20//NONSGML v1.0//EN
CALSCALE:GREGORIAN
METHOD:PUBLISH
X-WR-CALNAME:Play Pittsburgh
X-ORIGINAL-URL:https://playpittsburgh.com
X-WR-CALDESC:Events for Play Pittsburgh
REFRESH-INTERVAL;VALUE=DURATION:PT1H
X-Robots-Tag:noindex
X-PUBLISHED-TTL:PT1H
BEGIN:VTIMEZONE
TZID:America/New_York
BEGIN:DAYLIGHT
TZOFFSETFROM:-0500
TZOFFSETTO:-0400
TZNAME:EDT
DTSTART:20130310T070000
END:DAYLIGHT
BEGIN:STANDARD
TZOFFSETFROM:-0400
TZOFFSETTO:-0500
TZNAME:EST
DTSTART:20131103T060000
END:STANDARD
BEGIN:DAYLIGHT
TZOFFSETFROM:-0500
TZOFFSETTO:-0400
TZNAME:EDT
DTSTART:20140309T070000
END:DAYLIGHT
BEGIN:STANDARD
TZOFFSETFROM:-0400
TZOFFSETTO:-0500
TZNAME:EST
DTSTART:20141102T060000
END:STANDARD
BEGIN:DAYLIGHT
TZOFFSETFROM:-0500
TZOFFSETTO:-0400
TZNAME:EDT
DTSTART:20150308T070000
END:DAYLIGHT
BEGIN:STANDARD
TZOFFSETFROM:-0400
TZOFFSETTO:-0500
TZNAME:EST
DTSTART:20151101T060000
END:STANDARD
END:VTIMEZONE
BEGIN:VEVENT
DTSTART;TZID=America/New_York:20140928T110000
DTEND;TZID=America/New_York:20140928T170000
DTSTAMP:20260422T052814
CREATED:20140901T155128Z
LAST-MODIFIED:20140901T155128Z
UID:3388-1411902000-1411923600@playpittsburgh.com
SUMMARY:Shenot Farm Fall Festival
DESCRIPTION:Join the fun and catch hayrides to the pumpkin patch and corn maze. \nGet your jack-o-lanterns\, cornstalks\, straw bales\, decorative Indian corn\, delicious sweet corn\, apples\, cider\, and vegetables. \nOur hayrides to the pumpkin patch and corn maze are from 11:00 A.M.to 5:00 P.M. \nSaturdays and Sundays. Columbus Day hayrides are 1:00 P.M. to 5:00 P.M. \n 
URL:https://playpittsburgh.com/event/shenot-farm-fall-festival-2/2014-09-28/
LOCATION:Shenot Farm\, 3754 Wexford Run Road\, Wexford\, PA\, 15090\, United States
CATEGORIES:Festivals,Outdoor
GEO:40.626413;-80.079126
X-APPLE-STRUCTURED-LOCATION;VALUE=URI;X-ADDRESS=Shenot Farm 3754 Wexford Run Road Wexford PA 15090 United States;X-APPLE-RADIUS=500;X-TITLE=3754 Wexford Run Road:geo:-80.079126,40.626413
END:VEVENT
BEGIN:VEVENT
DTSTART;TZID=America/New_York:20140927T110000
DTEND;TZID=America/New_York:20140927T170000
DTSTAMP:20260422T052814
CREATED:20140901T041702Z
LAST-MODIFIED:20140901T041702Z
UID:3382-1411815600-1411837200@playpittsburgh.com
SUMMARY:Shenot Farm Fall Festival
DESCRIPTION:Join the fun and catch hayrides to the pumpkin patch and corn maze. \nGet your jack-o-lanterns\, cornstalks\, straw bales\, decorative Indian corn\, delicious sweet corn\, apples\, cider\, and vegetables. \nOur hayrides to the pumpkin patch and corn maze are from 11:00 A.M.to 5:00 P.M. \nSaturdays and Sundays. Columbus Day hayrides are 1:00 P.M. to 5:00 P.M.
URL:https://playpittsburgh.com/event/shenot-farm-fall-festival/2014-09-27/
LOCATION:Shenot Farm\, 3754 Wexford Run Road\, Wexford\, PA\, 15090\, United States
CATEGORIES:Festivals,Outdoor
GEO:40.626413;-80.079126
X-APPLE-STRUCTURED-LOCATION;VALUE=URI;X-ADDRESS=Shenot Farm 3754 Wexford Run Road Wexford PA 15090 United States;X-APPLE-RADIUS=500;X-TITLE=3754 Wexford Run Road:geo:-80.079126,40.626413
END:VEVENT
END:VCALENDAR