BEGIN:VCALENDAR
VERSION:2.0
PRODID:-//Play Pittsburgh - ECPv6.15.20//NONSGML v1.0//EN
CALSCALE:GREGORIAN
METHOD:PUBLISH
X-WR-CALNAME:Play Pittsburgh
X-ORIGINAL-URL:https://playpittsburgh.com
X-WR-CALDESC:Events for Play Pittsburgh
REFRESH-INTERVAL;VALUE=DURATION:PT1H
X-Robots-Tag:noindex
X-PUBLISHED-TTL:PT1H
BEGIN:VTIMEZONE
TZID:America/New_York
BEGIN:DAYLIGHT
TZOFFSETFROM:-0500
TZOFFSETTO:-0400
TZNAME:EDT
DTSTART:20130310T070000
END:DAYLIGHT
BEGIN:STANDARD
TZOFFSETFROM:-0400
TZOFFSETTO:-0500
TZNAME:EST
DTSTART:20131103T060000
END:STANDARD
BEGIN:DAYLIGHT
TZOFFSETFROM:-0500
TZOFFSETTO:-0400
TZNAME:EDT
DTSTART:20140309T070000
END:DAYLIGHT
BEGIN:STANDARD
TZOFFSETFROM:-0400
TZOFFSETTO:-0500
TZNAME:EST
DTSTART:20141102T060000
END:STANDARD
BEGIN:DAYLIGHT
TZOFFSETFROM:-0500
TZOFFSETTO:-0400
TZNAME:EDT
DTSTART:20150308T070000
END:DAYLIGHT
BEGIN:STANDARD
TZOFFSETFROM:-0400
TZOFFSETTO:-0500
TZNAME:EST
DTSTART:20151101T060000
END:STANDARD
BEGIN:DAYLIGHT
TZOFFSETFROM:-0500
TZOFFSETTO:-0400
TZNAME:EDT
DTSTART:20160313T070000
END:DAYLIGHT
BEGIN:STANDARD
TZOFFSETFROM:-0400
TZOFFSETTO:-0500
TZNAME:EST
DTSTART:20161106T060000
END:STANDARD
END:VTIMEZONE
BEGIN:VEVENT
DTSTART;TZID=America/New_York:20150417T180000
DTEND;TZID=America/New_York:20150417T210000
DTSTAMP:20260423T084311
CREATED:20150410T152637Z
LAST-MODIFIED:20150410T152637Z
UID:6019-1429293600-1429304400@playpittsburgh.com
SUMMARY:Ross Family Night at Shaler North Hills Library
DESCRIPTION:A family night for families from Ross Elementary School.
URL:https://playpittsburgh.com/event/ross-family-night-at-shaler-north-hills-library/
LOCATION:Shaler North Hills Library\, 1822 Mt. Royal Blvd.\, Glenshaw \, PA\, 15116\, United States
GEO:40.528286;-79.9642889
X-APPLE-STRUCTURED-LOCATION;VALUE=URI;X-ADDRESS=Shaler North Hills Library 1822 Mt. Royal Blvd. Glenshaw  PA 15116 United States;X-APPLE-RADIUS=500;X-TITLE=1822 Mt. Royal Blvd.:geo:-79.9642889,40.528286
END:VEVENT
BEGIN:VEVENT
DTSTART;TZID=America/New_York:20150404T100000
DTEND;TZID=America/New_York:20150404T200000
DTSTAMP:20260423T084311
CREATED:20150326T232337Z
LAST-MODIFIED:20150326T232337Z
UID:5919-1428141600-1428177600@playpittsburgh.com
SUMMARY:2nd Annual Jazz Art Show
DESCRIPTION:Location: Community Room
URL:https://playpittsburgh.com/event/2nd-annual-jazz-art-show/
LOCATION:Shaler North Hills Library\, 1822 Mt. Royal Blvd.\, Glenshaw \, PA\, 15116\, United States
GEO:40.528286;-79.9642889
X-APPLE-STRUCTURED-LOCATION;VALUE=URI;X-ADDRESS=Shaler North Hills Library 1822 Mt. Royal Blvd. Glenshaw  PA 15116 United States;X-APPLE-RADIUS=500;X-TITLE=1822 Mt. Royal Blvd.:geo:-79.9642889,40.528286
END:VEVENT
BEGIN:VEVENT
DTSTART;TZID=America/New_York:20150331T180000
DTEND;TZID=America/New_York:20150331T203000
DTSTAMP:20260423T084311
CREATED:20150326T175132Z
LAST-MODIFIED:20150326T175132Z
UID:5756-1427824800-1427833800@playpittsburgh.com
SUMMARY:Free College Financial Planning Workshop
DESCRIPTION:Free College Financial Planning Workshop by 123 College \nLocation: Community Room
URL:https://playpittsburgh.com/event/free-college-financial-planning-workshop/
LOCATION:Shaler North Hills Library\, 1822 Mt. Royal Blvd.\, Glenshaw \, PA\, 15116\, United States
GEO:40.528286;-79.9642889
X-APPLE-STRUCTURED-LOCATION;VALUE=URI;X-ADDRESS=Shaler North Hills Library 1822 Mt. Royal Blvd. Glenshaw  PA 15116 United States;X-APPLE-RADIUS=500;X-TITLE=1822 Mt. Royal Blvd.:geo:-79.9642889,40.528286
END:VEVENT
BEGIN:VEVENT
DTSTART;TZID=America/New_York:20150328T130000
DTEND;TZID=America/New_York:20150328T143000
DTSTAMP:20260423T084311
CREATED:20150324T195352Z
LAST-MODIFIED:20150324T195352Z
UID:5546-1427547600-1427553000@playpittsburgh.com
SUMMARY:Mock Fairy Tale Trial at Shaler North Hills Library
DESCRIPTION:Kids in grades K-5 are summoned to sit on the trial of Three Bears vs. Gold E. Locks. \nYou are Hereby Summoned to Serve: Mock Fairy Tale Trial – Kids in grades K-5 are summoned to sit on the jury for the trial of the Three Bears vs. Gold E. Locks. This program is sponsored by the Allegheny County Bar Association Young Lawyers Division Public Service Committee. Please register. Saturday\, March 28 at 1:00pm
URL:https://playpittsburgh.com/event/mock-fairy-tale-trial-at-shaler-north-hills-library/
LOCATION:Shaler North Hills Library\, 1822 Mt. Royal Blvd.\, Glenshaw \, PA\, 15116\, United States
GEO:40.528286;-79.9642889
X-APPLE-STRUCTURED-LOCATION;VALUE=URI;X-ADDRESS=Shaler North Hills Library 1822 Mt. Royal Blvd. Glenshaw  PA 15116 United States;X-APPLE-RADIUS=500;X-TITLE=1822 Mt. Royal Blvd.:geo:-79.9642889,40.528286
END:VEVENT
BEGIN:VEVENT
DTSTART;TZID=America/New_York:20150327T190000
DTEND;TZID=America/New_York:20150327T200000
DTSTAMP:20260423T084311
CREATED:20150324T183256Z
LAST-MODIFIED:20150324T183256Z
UID:5483-1427482800-1427486400@playpittsburgh.com
SUMMARY:Annual EGG-Stravaganza Egg Hunt at Shaler North Hills Library
DESCRIPTION:Annual family egg hunt at Shaler North Hills Library begins at 7pm! Please register in advance.
URL:https://playpittsburgh.com/event/annual-egg-stravaganza-egg-hunt-at-shaler-north-hills-library/
LOCATION:Shaler North Hills Library\, 1822 Mt. Royal Blvd.\, Glenshaw \, PA\, 15116\, United States
GEO:40.528286;-79.9642889
X-APPLE-STRUCTURED-LOCATION;VALUE=URI;X-ADDRESS=Shaler North Hills Library 1822 Mt. Royal Blvd. Glenshaw  PA 15116 United States;X-APPLE-RADIUS=500;X-TITLE=1822 Mt. Royal Blvd.:geo:-79.9642889,40.528286
END:VEVENT
BEGIN:VEVENT
DTSTART;TZID=America/New_York:20141213T101500
DTEND;TZID=America/New_York:20141213T113000
DTSTAMP:20260423T084311
CREATED:20141203T214319Z
LAST-MODIFIED:20141203T214319Z
UID:5034-1418465700-1418470200@playpittsburgh.com
SUMMARY:A Visit From Santa and Holiday Party at Shaler North Hills Library
DESCRIPTION:A Visit from Santa and a Holiday Play! – The Big Guy in the Red Suit will be here and our staff will be putting on a special play! \nPlease register.
URL:https://playpittsburgh.com/event/a-visit-from-santa-and-holiday-party-at-shaler-north-hills-library/
LOCATION:Shaler North Hills Library\, 1822 Mt. Royal Blvd.\, Glenshaw \, PA\, 15116\, United States
GEO:40.528286;-79.9642889
X-APPLE-STRUCTURED-LOCATION;VALUE=URI;X-ADDRESS=Shaler North Hills Library 1822 Mt. Royal Blvd. Glenshaw  PA 15116 United States;X-APPLE-RADIUS=500;X-TITLE=1822 Mt. Royal Blvd.:geo:-79.9642889,40.528286
END:VEVENT
BEGIN:VEVENT
DTSTART;TZID=America/New_York:20141206T110000
DTEND;TZID=America/New_York:20141206T130000
DTSTAMP:20260423T084311
CREATED:20141203T214122Z
LAST-MODIFIED:20141203T214122Z
UID:5033-1417863600-1417870800@playpittsburgh.com
SUMMARY:St. Nick’s Open House
DESCRIPTION:Come celebrate Christmas Around the World. There will be holiday crafts\, snacks and more to be enjoyed by all!
URL:https://playpittsburgh.com/event/st-nicks-open-house/
LOCATION:Shaler North Hills Library\, 1822 Mt. Royal Blvd.\, Glenshaw \, PA\, 15116\, United States
GEO:40.528286;-79.9642889
X-APPLE-STRUCTURED-LOCATION;VALUE=URI;X-ADDRESS=Shaler North Hills Library 1822 Mt. Royal Blvd. Glenshaw  PA 15116 United States;X-APPLE-RADIUS=500;X-TITLE=1822 Mt. Royal Blvd.:geo:-79.9642889,40.528286
END:VEVENT
BEGIN:VEVENT
DTSTART;TZID=America/New_York:20141206T110000
DTEND;TZID=America/New_York:20141206T120000
DTSTAMP:20260423T084311
CREATED:20141203T235658Z
LAST-MODIFIED:20141203T235658Z
UID:5071-1417863600-1417867200@playpittsburgh.com
SUMMARY:Saint Nick’s Open House at Shaler North Hills Library
DESCRIPTION:Come celebrate Christmas Around the World. There will be holiday crafts\, snacks and more to be enjoyed by all!
URL:https://playpittsburgh.com/event/saint-nicks-open-house-at-shaler-north-hills-library/
LOCATION:Shaler North Hills Library\, 1822 Mt. Royal Blvd.\, Glenshaw \, PA\, 15116\, United States
GEO:40.528286;-79.9642889
X-APPLE-STRUCTURED-LOCATION;VALUE=URI;X-ADDRESS=Shaler North Hills Library 1822 Mt. Royal Blvd. Glenshaw  PA 15116 United States;X-APPLE-RADIUS=500;X-TITLE=1822 Mt. Royal Blvd.:geo:-79.9642889,40.528286
END:VEVENT
BEGIN:VEVENT
DTSTART;TZID=America/New_York:20141125T190000
DTEND;TZID=America/New_York:20141125T203000
DTSTAMP:20260423T084311
CREATED:20141104T065802Z
LAST-MODIFIED:20141104T065802Z
UID:6933-1416942000-1416947400@playpittsburgh.com
SUMMARY:Foster Care and Adoption Information Meeting at Shaler North Hills Library
DESCRIPTION:Bethany Leas from The Children’s Institute will present an informational program about Foster Care and Adoption in Pittsburgh.
URL:https://playpittsburgh.com/event/foster-care-and-adoption-information-meeting-at-shaler-north-hills-library/
LOCATION:Shaler North Hills Library\, 1822 Mt. Royal Blvd.\, Glenshaw \, PA\, 15116\, United States
ATTACH;FMTTYPE=image/jpeg:https://playpittsburgh.com/wp-content/uploads/2014/10/volunteer.jpg
GEO:40.528286;-79.9642889
X-APPLE-STRUCTURED-LOCATION;VALUE=URI;X-ADDRESS=Shaler North Hills Library 1822 Mt. Royal Blvd. Glenshaw  PA 15116 United States;X-APPLE-RADIUS=500;X-TITLE=1822 Mt. Royal Blvd.:geo:-79.9642889,40.528286
END:VEVENT
BEGIN:VEVENT
DTSTART;TZID=America/New_York:20141124T190000
DTEND;TZID=America/New_York:20141124T200000
DTSTAMP:20260423T084311
CREATED:20141104T061002Z
LAST-MODIFIED:20141104T061002Z
UID:6932-1416855600-1416859200@playpittsburgh.com
SUMMARY:Family Bingo Night at Shaler North Hills Library
DESCRIPTION:Seasonal-themed fun and prizes! All ages fun! Please register.
URL:https://playpittsburgh.com/event/family-bingo-night-at-shaler-north-hills-library/
LOCATION:Shaler North Hills Library\, 1822 Mt. Royal Blvd.\, Glenshaw \, PA\, 15116\, United States
ATTACH;FMTTYPE=:
GEO:40.528286;-79.9642889
X-APPLE-STRUCTURED-LOCATION;VALUE=URI;X-ADDRESS=Shaler North Hills Library 1822 Mt. Royal Blvd. Glenshaw  PA 15116 United States;X-APPLE-RADIUS=500;X-TITLE=1822 Mt. Royal Blvd.:geo:-79.9642889,40.528286
END:VEVENT
BEGIN:VEVENT
DTSTART;TZID=America/New_York:20141122T190000
DTEND;TZID=America/New_York:20141122T210000
DTSTAMP:20260423T084311
CREATED:20141103T023141Z
LAST-MODIFIED:20141103T023141Z
UID:6925-1416682800-1416690000@playpittsburgh.com
SUMMARY:Annual Shaler Township Holiday "Lite" Up Night
DESCRIPTION:The Annual Shaler Township Holiday “Lite Up” Night will be held on Saturday\, November 22 in front of the Shaler North Hills Library and at the Shaler Area Middle School.   Bring the children to visit with Santa and Mrs. Claus along with the cast of characters including Frosty\, Rudolph\, the Grinch and Max the dog.
URL:https://playpittsburgh.com/event/annual-shaler-township-holiday-lite-up-night/
LOCATION:Shaler North Hills Library\, 1822 Mt. Royal Blvd.\, Glenshaw \, PA\, 15116\, United States
ATTACH;FMTTYPE=:
GEO:40.528286;-79.9642889
X-APPLE-STRUCTURED-LOCATION;VALUE=URI;X-ADDRESS=Shaler North Hills Library 1822 Mt. Royal Blvd. Glenshaw  PA 15116 United States;X-APPLE-RADIUS=500;X-TITLE=1822 Mt. Royal Blvd.:geo:-79.9642889,40.528286
END:VEVENT
BEGIN:VEVENT
DTSTART;TZID=America/New_York:20141114T190000
DTEND;TZID=America/New_York:20141114T200000
DTSTAMP:20260423T084311
CREATED:20141102T010715Z
LAST-MODIFIED:20141102T010715Z
UID:4278-1415991600-1415995200@playpittsburgh.com
SUMMARY:Preschool Party Night at Shaler North Hills Library
DESCRIPTION:Join Shaler North Hills Library for a night of preschool games\, stories\, activities and snacks! Come and spend the evening with families from your school and meet new families! 
URL:https://playpittsburgh.com/event/preschool-party-night-at-shaler-north-hills-library/
LOCATION:Shaler North Hills Library\, 1822 Mt. Royal Blvd.\, Glenshaw \, PA\, 15116\, United States
ATTACH;FMTTYPE=:
GEO:40.528286;-79.9642889
X-APPLE-STRUCTURED-LOCATION;VALUE=URI;X-ADDRESS=Shaler North Hills Library 1822 Mt. Royal Blvd. Glenshaw  PA 15116 United States;X-APPLE-RADIUS=500;X-TITLE=1822 Mt. Royal Blvd.:geo:-79.9642889,40.528286
END:VEVENT
BEGIN:VEVENT
DTSTART;TZID=America/New_York:20141112T183000
DTEND;TZID=America/New_York:20141112T193000
DTSTAMP:20260423T084311
CREATED:20141031T042833Z
LAST-MODIFIED:20141031T042833Z
UID:6905-1415817000-1415820600@playpittsburgh.com
SUMMARY:LEGO Challenge
DESCRIPTION:How fast can you build? How high? How wide? A Minute-to-Win-It-style LEGO Night. Grades K-6. Please register.
URL:https://playpittsburgh.com/event/lego-challenge/
LOCATION:Shaler North Hills Library\, 1822 Mt. Royal Blvd.\, Glenshaw \, PA\, 15116\, United States
ATTACH;FMTTYPE=:
GEO:40.528286;-79.9642889
X-APPLE-STRUCTURED-LOCATION;VALUE=URI;X-ADDRESS=Shaler North Hills Library 1822 Mt. Royal Blvd. Glenshaw  PA 15116 United States;X-APPLE-RADIUS=500;X-TITLE=1822 Mt. Royal Blvd.:geo:-79.9642889,40.528286
END:VEVENT
BEGIN:VEVENT
DTSTART;TZID=America/New_York:20141108T110000
DTEND;TZID=America/New_York:20141108T120000
DTSTAMP:20260423T084311
CREATED:20141031T014603Z
LAST-MODIFIED:20141031T014603Z
UID:6892-1415444400-1415448000@playpittsburgh.com
SUMMARY:BarbieFest 2014 at Shaler North Hills Library
DESCRIPTION:She doesn’t look it\, but Barbie is 55 this year! Celebrate her birthday! All ages fun! Please register. Saturday\, November 8 at 11:00am\nLocation: Community Room
URL:https://playpittsburgh.com/event/barbiefest-2014-at-shaler-north-hills-library/
LOCATION:Shaler North Hills Library\, 1822 Mt. Royal Blvd.\, Glenshaw \, PA\, 15116\, United States
ATTACH;FMTTYPE=:
GEO:40.528286;-79.9642889
X-APPLE-STRUCTURED-LOCATION;VALUE=URI;X-ADDRESS=Shaler North Hills Library 1822 Mt. Royal Blvd. Glenshaw  PA 15116 United States;X-APPLE-RADIUS=500;X-TITLE=1822 Mt. Royal Blvd.:geo:-79.9642889,40.528286
END:VEVENT
BEGIN:VEVENT
DTSTART;TZID=America/New_York:20141103T104500
DTEND;TZID=America/New_York:20141103T114500
DTSTAMP:20260423T084311
CREATED:20141030T211024Z
LAST-MODIFIED:20141030T211024Z
UID:6862-1415011500-1415015100@playpittsburgh.com
SUMMARY:Parachute Play at Shaler North Hills Library
DESCRIPTION:Thirty activity-filled minutes that include music\, creative movement and fun\, all with one colorful parachute!
URL:https://playpittsburgh.com/event/parachute-play-at-shaler-north-hills-library/2014-11-03/
LOCATION:Shaler North Hills Library\, 1822 Mt. Royal Blvd.\, Glenshaw \, PA\, 15116\, United States
CATEGORIES:Free
ATTACH;FMTTYPE=:
GEO:40.528286;-79.9642889
X-APPLE-STRUCTURED-LOCATION;VALUE=URI;X-ADDRESS=Shaler North Hills Library 1822 Mt. Royal Blvd. Glenshaw  PA 15116 United States;X-APPLE-RADIUS=500;X-TITLE=1822 Mt. Royal Blvd.:geo:-79.9642889,40.528286
END:VEVENT
BEGIN:VEVENT
DTSTART;TZID=America/New_York:20141011T190000
DTEND;TZID=America/New_York:20141011T200000
DTSTAMP:20260423T084311
CREATED:20140929T224513Z
LAST-MODIFIED:20140929T224513Z
UID:3900-1413054000-1413057600@playpittsburgh.com
SUMMARY:Halloween Extravaganza! at Shaler Library
DESCRIPTION:Spooky crafts\, games and stories! Come in costume if you like! All ages fun! Please register at http://www.shalerlibrary.org/
URL:https://playpittsburgh.com/event/halloween-extravaganza-at-shaler-library/
LOCATION:Shaler North Hills Library\, 1822 Mt. Royal Blvd.\, Glenshaw \, PA\, 15116\, United States
GEO:40.528286;-79.9642889
X-APPLE-STRUCTURED-LOCATION;VALUE=URI;X-ADDRESS=Shaler North Hills Library 1822 Mt. Royal Blvd. Glenshaw  PA 15116 United States;X-APPLE-RADIUS=500;X-TITLE=1822 Mt. Royal Blvd.:geo:-79.9642889,40.528286
END:VEVENT
BEGIN:VEVENT
DTSTART;TZID=America/New_York:20140928T140000
DTEND;TZID=America/New_York:20140928T160000
DTSTAMP:20260423T084311
CREATED:20140902T023030Z
LAST-MODIFIED:20140902T053604Z
UID:3592-1411912800-1411920000@playpittsburgh.com
SUMMARY:Shaler North Hills Library Presents the Felicia Lynn Band
DESCRIPTION:Felicia Lynn is a singer/songwriter from Pittsburgh who started writing music at an early age and has performed acoustic shows for several years. Now performing with her band\, she is becoming one of the region’s top country-rock performers with music that catches your ear and melodies that stick in your head.
URL:https://playpittsburgh.com/event/shaler-north-hills-library-presents-the-felicia-lynn-band/
LOCATION:Shaler North Hills Library\, 1822 Mt. Royal Blvd.\, Glenshaw \, PA\, 15116\, United States
CATEGORIES:Free,RADical Days
GEO:40.528286;-79.9642889
X-APPLE-STRUCTURED-LOCATION;VALUE=URI;X-ADDRESS=Shaler North Hills Library 1822 Mt. Royal Blvd. Glenshaw  PA 15116 United States;X-APPLE-RADIUS=500;X-TITLE=1822 Mt. Royal Blvd.:geo:-79.9642889,40.528286
END:VEVENT
BEGIN:VEVENT
DTSTART;TZID=America/New_York:20140701T183000
DTEND;TZID=America/New_York:20140701T193000
DTSTAMP:20260423T084311
CREATED:20140625T031525Z
LAST-MODIFIED:20140625T031929Z
UID:2045-1404239400-1404243000@playpittsburgh.com
SUMMARY:My Little Pony: A Night in Ponyville
DESCRIPTION:If you can’t get enough of My Little Pony\, then join Shaler North Hill Library for lots of Pony fun! Please register. Whole Community Room\, special event Location: Community Room
URL:https://playpittsburgh.com/event/my-little-pony-a-night-in-ponyville/
LOCATION:Shaler North Hills Library\, 1822 Mt. Royal Blvd.\, Glenshaw \, PA\, 15116\, United States
CATEGORIES:Free,Indoor Play
GEO:40.528286;-79.9642889
X-APPLE-STRUCTURED-LOCATION;VALUE=URI;X-ADDRESS=Shaler North Hills Library 1822 Mt. Royal Blvd. Glenshaw  PA 15116 United States;X-APPLE-RADIUS=500;X-TITLE=1822 Mt. Royal Blvd.:geo:-79.9642889,40.528286
END:VEVENT
BEGIN:VEVENT
DTSTART;TZID=America/New_York:20140530T190000
DTEND;TZID=America/New_York:20140530T203000
DTSTAMP:20260423T084311
CREATED:20140522T200813Z
LAST-MODIFIED:20140522T200813Z
UID:1554-1401476400-1401481800@playpittsburgh.com
SUMMARY:Children's Summer Reading Program Kickoff & Magic Show
DESCRIPTION:Western Pennsylvania’s favorite magician\, Al Mazing\, is back! His tricks will astound! Sign up for summer reading\, too! Please register.
URL:https://playpittsburgh.com/event/childrens-summer-reading-program-kickoff-magic-show/
LOCATION:Shaler North Hills Library\, 1822 Mt. Royal Blvd.\, Glenshaw \, PA\, 15116\, United States
CATEGORIES:Festivals,Free
GEO:40.528286;-79.9642889
X-APPLE-STRUCTURED-LOCATION;VALUE=URI;X-ADDRESS=Shaler North Hills Library 1822 Mt. Royal Blvd. Glenshaw  PA 15116 United States;X-APPLE-RADIUS=500;X-TITLE=1822 Mt. Royal Blvd.:geo:-79.9642889,40.528286
END:VEVENT
BEGIN:VEVENT
DTSTART;TZID=America/New_York:20140530T190000
DTEND;TZID=America/New_York:20140530T203000
DTSTAMP:20260423T084311
CREATED:20140522T200813Z
LAST-MODIFIED:20140522T200813Z
UID:6146-1401476400-1401481800@playpittsburgh.com
SUMMARY:Children's Summer Reading Program Kickoff & Magic Show
DESCRIPTION:Western Pennsylvania’s favorite magician\, Al Mazing\, is back! His tricks will astound! Sign up for summer reading\, too! Please register.
URL:https://playpittsburgh.com/event/childrens-summer-reading-program-kickoff-magic-show-2/
LOCATION:Shaler North Hills Library\, 1822 Mt. Royal Blvd.\, Glenshaw \, PA\, 15116\, United States
CATEGORIES:Festivals,Free
GEO:40.528286;-79.9642889
X-APPLE-STRUCTURED-LOCATION;VALUE=URI;X-ADDRESS=Shaler North Hills Library 1822 Mt. Royal Blvd. Glenshaw  PA 15116 United States;X-APPLE-RADIUS=500;X-TITLE=1822 Mt. Royal Blvd.:geo:-79.9642889,40.528286
END:VEVENT
END:VCALENDAR