BEGIN:VCALENDAR
VERSION:2.0
PRODID:-//Play Pittsburgh - ECPv6.15.20//NONSGML v1.0//EN
CALSCALE:GREGORIAN
METHOD:PUBLISH
X-ORIGINAL-URL:https://playpittsburgh.com
X-WR-CALDESC:Events for Play Pittsburgh
REFRESH-INTERVAL;VALUE=DURATION:PT1H
X-Robots-Tag:noindex
X-PUBLISHED-TTL:PT1H
BEGIN:VTIMEZONE
TZID:America/New_York
BEGIN:DAYLIGHT
TZOFFSETFROM:-0500
TZOFFSETTO:-0400
TZNAME:EDT
DTSTART:20130310T070000
END:DAYLIGHT
BEGIN:STANDARD
TZOFFSETFROM:-0400
TZOFFSETTO:-0500
TZNAME:EST
DTSTART:20131103T060000
END:STANDARD
BEGIN:DAYLIGHT
TZOFFSETFROM:-0500
TZOFFSETTO:-0400
TZNAME:EDT
DTSTART:20140309T070000
END:DAYLIGHT
BEGIN:STANDARD
TZOFFSETFROM:-0400
TZOFFSETTO:-0500
TZNAME:EST
DTSTART:20141102T060000
END:STANDARD
BEGIN:DAYLIGHT
TZOFFSETFROM:-0500
TZOFFSETTO:-0400
TZNAME:EDT
DTSTART:20150308T070000
END:DAYLIGHT
BEGIN:STANDARD
TZOFFSETFROM:-0400
TZOFFSETTO:-0500
TZNAME:EST
DTSTART:20151101T060000
END:STANDARD
BEGIN:DAYLIGHT
TZOFFSETFROM:-0500
TZOFFSETTO:-0400
TZNAME:EDT
DTSTART:20160313T070000
END:DAYLIGHT
BEGIN:STANDARD
TZOFFSETFROM:-0400
TZOFFSETTO:-0500
TZNAME:EST
DTSTART:20161106T060000
END:STANDARD
END:VTIMEZONE
BEGIN:VEVENT
DTSTART;TZID=America/New_York:20150628T170000
DTEND;TZID=America/New_York:20150628T210000
DTSTAMP:20260422T054602
CREATED:20150531T001224Z
LAST-MODIFIED:20150531T001224Z
UID:8791-1435510800-1435525200@playpittsburgh.com
SUMMARY:Weather Permitting Party
DESCRIPTION:Now in its third year\, Weather Permitting is a promotional outdoor weekly concert series held at the Shadyside Nursery. Each Sunday\, the nursery transforms into a vibrant event space that features bands\, beer from local breweries\, food trucks and a farmer’s marketplace. They’ve also have been known to have squirt gun battles and hula-hoop fun for kids of all ages.
URL:https://playpittsburgh.com/event/weather-permitting-party/2015-06-28/
LOCATION:Shadyside Nursery\, 510 Maryland Ave\, Shadyside\, PA\, 15213\, United States
GEO:40.456264;-79.931201
X-APPLE-STRUCTURED-LOCATION;VALUE=URI;X-ADDRESS=Shadyside Nursery 510 Maryland Ave Shadyside PA 15213 United States;X-APPLE-RADIUS=500;X-TITLE=510 Maryland Ave:geo:-79.931201,40.456264
END:VEVENT
BEGIN:VEVENT
DTSTART;TZID=America/New_York:20150621T170000
DTEND;TZID=America/New_York:20150621T210000
DTSTAMP:20260422T054602
CREATED:20150531T001224Z
LAST-MODIFIED:20150531T001224Z
UID:8790-1434906000-1434920400@playpittsburgh.com
SUMMARY:Weather Permitting Party
DESCRIPTION:Now in its third year\, Weather Permitting is a promotional outdoor weekly concert series held at the Shadyside Nursery. Each Sunday\, the nursery transforms into a vibrant event space that features bands\, beer from local breweries\, food trucks and a farmer’s marketplace. They’ve also have been known to have squirt gun battles and hula-hoop fun for kids of all ages.
URL:https://playpittsburgh.com/event/weather-permitting-party/2015-06-21/
LOCATION:Shadyside Nursery\, 510 Maryland Ave\, Shadyside\, PA\, 15213\, United States
GEO:40.456264;-79.931201
X-APPLE-STRUCTURED-LOCATION;VALUE=URI;X-ADDRESS=Shadyside Nursery 510 Maryland Ave Shadyside PA 15213 United States;X-APPLE-RADIUS=500;X-TITLE=510 Maryland Ave:geo:-79.931201,40.456264
END:VEVENT
BEGIN:VEVENT
DTSTART;TZID=America/New_York:20150614T170000
DTEND;TZID=America/New_York:20150614T210000
DTSTAMP:20260422T054602
CREATED:20150531T001224Z
LAST-MODIFIED:20150531T001224Z
UID:8789-1434301200-1434315600@playpittsburgh.com
SUMMARY:Weather Permitting Party
DESCRIPTION:Now in its third year\, Weather Permitting is a promotional outdoor weekly concert series held at the Shadyside Nursery. Each Sunday\, the nursery transforms into a vibrant event space that features bands\, beer from local breweries\, food trucks and a farmer’s marketplace. They’ve also have been known to have squirt gun battles and hula-hoop fun for kids of all ages.
URL:https://playpittsburgh.com/event/weather-permitting-party/2015-06-14/
LOCATION:Shadyside Nursery\, 510 Maryland Ave\, Shadyside\, PA\, 15213\, United States
GEO:40.456264;-79.931201
X-APPLE-STRUCTURED-LOCATION;VALUE=URI;X-ADDRESS=Shadyside Nursery 510 Maryland Ave Shadyside PA 15213 United States;X-APPLE-RADIUS=500;X-TITLE=510 Maryland Ave:geo:-79.931201,40.456264
END:VEVENT
BEGIN:VEVENT
DTSTART;TZID=America/New_York:20150531T170000
DTEND;TZID=America/New_York:20150531T210000
DTSTAMP:20260422T054602
CREATED:20150529T185801Z
LAST-MODIFIED:20150529T185801Z
UID:8633-1433091600-1433106000@playpittsburgh.com
SUMMARY:Weather Permitting Opening Party
DESCRIPTION:Weather Permitting is a weekly outdoor concert series held at the Shadyside Nursery. Each Sunday\, the nursery transforms into a vibrant event space that features bands\, beer from local breweries\, food trucks and a farmer’s marketplace. We also have been known to have squirt gun battles and hula-hoop fun for kids of all ages. \nfeaturing:\nThe Hills and The Rivers\nSlim Forsythe\n(special guests) \nFood Trucks:\nMac and Gold\nSteer and Wheel\nOh My Grill \nBrews by :\nRock Bottom \n5pm-9pm \n$10 for adults\nkids free \nActivities for all ages\, hula hoops\, sandbox\, corn hole\, stump\, squirt guns\, painting wall and more. \nWHERE: 510 Maryland Ave (next door to Harris Grill) Shadyside
URL:https://playpittsburgh.com/event/weather-permitting-opening-party/
LOCATION:Shadyside Nursery\, 510 Maryland Ave\, Shadyside\, PA\, 15213\, United States
GEO:40.456264;-79.931201
X-APPLE-STRUCTURED-LOCATION;VALUE=URI;X-ADDRESS=Shadyside Nursery 510 Maryland Ave Shadyside PA 15213 United States;X-APPLE-RADIUS=500;X-TITLE=510 Maryland Ave:geo:-79.931201,40.456264
END:VEVENT
BEGIN:VEVENT
DTSTART;TZID=America/New_York:20140608T170000
DTEND;TZID=America/New_York:20140608T210000
DTSTAMP:20260422T054602
CREATED:20140528T013620Z
LAST-MODIFIED:20140620T053015Z
UID:1803-1402246800-1402261200@playpittsburgh.com
SUMMARY:Weather Permitting Party at Shadyside Nursery
DESCRIPTION:Now in its second year\, Weather Permitting is a promotional outdoor weekly concert series held at the Shadyside Nursery. Each Sunday\, the nursery transforms into a vibrant event space that features bands\, beer from local breweries\, food trucks and a farmer’s marketplace. They have also have been known to have squirt gun battles and hula-hoop fun for kids of all ages. More than just an event\, this collaboration of local folks was built with the intention of supporting and promoting small businesses. With a permit that allows for expansion\, this year Weather Permitting is growing and able to offer additional space for local farm stands and other vendors to promote and sell their goods on site.
URL:https://playpittsburgh.com/event/weather-permitting-party-at-shadyside-nursery/2014-06-08/
LOCATION:Shadyside Nursery\, 510 Maryland Ave\, Shadyside\, PA\, 15213\, United States
CATEGORIES:Festivals,Outdoor,Performing Arts
GEO:40.456264;-79.931201
X-APPLE-STRUCTURED-LOCATION;VALUE=URI;X-ADDRESS=Shadyside Nursery 510 Maryland Ave Shadyside PA 15213 United States;X-APPLE-RADIUS=500;X-TITLE=510 Maryland Ave:geo:-79.931201,40.456264
END:VEVENT
BEGIN:VEVENT
DTSTART;TZID=America/New_York:20140601T170000
DTEND;TZID=America/New_York:20140601T210000
DTSTAMP:20260422T054602
CREATED:20140528T013024Z
LAST-MODIFIED:20140528T013024Z
UID:1801-1401642000-1401656400@playpittsburgh.com
SUMMARY:Weather Permitting Opening Party at Shadyside Nursery
DESCRIPTION:Now in its second year\, Weather Permitting is a promotional outdoor weekly concert series held at the Shadyside Nursery. Each Sunday\, the nursery transforms into a vibrant event space that features bands\, beer from local breweries\, food trucks and a farmer’s marketplace. They have also have been known to have squirt gun battles and hula-hoop fun for kids of all ages. More than just an event\, this collaboration of local folks was built with the intention of supporting and promoting small businesses. With a permit that allows for expansion\, this year Weather Permitting is growing and able to offer additional space for local farm stands and other vendors to promote and sell their goods on site.
URL:https://playpittsburgh.com/event/weather-permitting-opening-party-at-shadyside-nursery/
LOCATION:Shadyside Nursery\, 510 Maryland Ave\, Shadyside\, PA\, 15213\, United States
CATEGORIES:Outdoor,Performing Arts
GEO:40.456264;-79.931201
X-APPLE-STRUCTURED-LOCATION;VALUE=URI;X-ADDRESS=Shadyside Nursery 510 Maryland Ave Shadyside PA 15213 United States;X-APPLE-RADIUS=500;X-TITLE=510 Maryland Ave:geo:-79.931201,40.456264
END:VEVENT
END:VCALENDAR