BEGIN:VCALENDAR
VERSION:2.0
PRODID:-//Play Pittsburgh - ECPv6.15.20//NONSGML v1.0//EN
CALSCALE:GREGORIAN
METHOD:PUBLISH
X-WR-CALNAME:Play Pittsburgh
X-ORIGINAL-URL:https://playpittsburgh.com
X-WR-CALDESC:Events for Play Pittsburgh
REFRESH-INTERVAL;VALUE=DURATION:PT1H
X-Robots-Tag:noindex
X-PUBLISHED-TTL:PT1H
BEGIN:VTIMEZONE
TZID:America/New_York
BEGIN:DAYLIGHT
TZOFFSETFROM:-0500
TZOFFSETTO:-0400
TZNAME:EDT
DTSTART:20140309T070000
END:DAYLIGHT
BEGIN:STANDARD
TZOFFSETFROM:-0400
TZOFFSETTO:-0500
TZNAME:EST
DTSTART:20141102T060000
END:STANDARD
BEGIN:DAYLIGHT
TZOFFSETFROM:-0500
TZOFFSETTO:-0400
TZNAME:EDT
DTSTART:20150308T070000
END:DAYLIGHT
BEGIN:STANDARD
TZOFFSETFROM:-0400
TZOFFSETTO:-0500
TZNAME:EST
DTSTART:20151101T060000
END:STANDARD
BEGIN:DAYLIGHT
TZOFFSETFROM:-0500
TZOFFSETTO:-0400
TZNAME:EDT
DTSTART:20160313T070000
END:DAYLIGHT
BEGIN:STANDARD
TZOFFSETFROM:-0400
TZOFFSETTO:-0500
TZNAME:EST
DTSTART:20161106T060000
END:STANDARD
END:VTIMEZONE
BEGIN:VEVENT
DTSTART;TZID=America/New_York:20150328T120000
DTEND;TZID=America/New_York:20150328T140000
DTSTAMP:20260422T074241
CREATED:20150325T134821Z
LAST-MODIFIED:20150325T134821Z
UID:5648-1427544000-1427551200@playpittsburgh.com
SUMMARY:Easter Eggstravaganza at Sewickley Valley YMCA
DESCRIPTION:The Sewickley Valley YMCA’s Large Pool will be filled with colorful Easter eggs for kids to collect on Saturday\, March 28. Collect eggs in the Large Pool and exchange them for fun prizes from 12-1 p.m. Then create a holiday craft the whole family can enjoy.\nFor your child’s safety\, children under 8 or non-swimmers must be accompanied by an adult in the water.\nLarge Pool: 2 hours\nSaturday\, March 28 12 p.m.\nMember $5\nNon-member $6
URL:https://playpittsburgh.com/event/easter-eggstravaganza-at-sewickley-valley-ymca/
LOCATION:Sewickley Valley YMCA\, 625 Blackburn Rd\, Sewickley\, PA\, 15143\, United States
GEO:40.544643;-80.1770559
X-APPLE-STRUCTURED-LOCATION;VALUE=URI;X-ADDRESS=Sewickley Valley YMCA 625 Blackburn Rd Sewickley PA 15143 United States;X-APPLE-RADIUS=500;X-TITLE=625 Blackburn Rd:geo:-80.1770559,40.544643
END:VEVENT
END:VCALENDAR