BEGIN:VCALENDAR
VERSION:2.0
PRODID:-//Play Pittsburgh - ECPv6.15.20//NONSGML v1.0//EN
CALSCALE:GREGORIAN
METHOD:PUBLISH
X-WR-CALNAME:Play Pittsburgh
X-ORIGINAL-URL:https://playpittsburgh.com
X-WR-CALDESC:Events for Play Pittsburgh
REFRESH-INTERVAL;VALUE=DURATION:PT1H
X-Robots-Tag:noindex
X-PUBLISHED-TTL:PT1H
BEGIN:VTIMEZONE
TZID:America/New_York
BEGIN:DAYLIGHT
TZOFFSETFROM:-0500
TZOFFSETTO:-0400
TZNAME:EDT
DTSTART:20150308T070000
END:DAYLIGHT
BEGIN:STANDARD
TZOFFSETFROM:-0400
TZOFFSETTO:-0500
TZNAME:EST
DTSTART:20151101T060000
END:STANDARD
BEGIN:DAYLIGHT
TZOFFSETFROM:-0500
TZOFFSETTO:-0400
TZNAME:EDT
DTSTART:20160313T070000
END:DAYLIGHT
BEGIN:STANDARD
TZOFFSETFROM:-0400
TZOFFSETTO:-0500
TZNAME:EST
DTSTART:20161106T060000
END:STANDARD
BEGIN:DAYLIGHT
TZOFFSETFROM:-0500
TZOFFSETTO:-0400
TZNAME:EDT
DTSTART:20170312T070000
END:DAYLIGHT
BEGIN:STANDARD
TZOFFSETFROM:-0400
TZOFFSETTO:-0500
TZNAME:EST
DTSTART:20171105T060000
END:STANDARD
END:VTIMEZONE
BEGIN:VEVENT
DTSTART;TZID=America/New_York:20160719T120000
DTEND;TZID=America/New_York:20160719T150000
DTSTAMP:20260421T223206
CREATED:20160712T183620Z
LAST-MODIFIED:20160712T183620Z
UID:9803-1468929600-1468940400@playpittsburgh.com
SUMMARY:Family Fun Day at Settlers Cabin Wave Pool
DESCRIPTION:Enjoy a free photo booth\, face painting\, magician and giveaways\, as well as a meet-and-greet with the Little Mermaid and Flounder! Activities from 12pm-3pm\nRegular pool admission fees apply. \nDaytime Admission Rates\nAdult: $6.00 Resident / $8.00 Non-Resident\nSenior citizen: $3.00 Resident / $4.00 Non-Resident\nJunior or youth: $5.00 Resident / $6.00 Non-Resident\nChildren: $1.00 Resident / $1.00 Non-Resident
URL:https://playpittsburgh.com/event/family-fun-day-settlers-cabin-wave-pool/
LOCATION:Settlers Cabin Wave Pool\, 635 Ridge Rd\, Pittsburgh\, PA\, 15205\, United States
GEO:40.4331048;-80.1494314
X-APPLE-STRUCTURED-LOCATION;VALUE=URI;X-ADDRESS=Settlers Cabin Wave Pool 635 Ridge Rd Pittsburgh PA 15205 United States;X-APPLE-RADIUS=500;X-TITLE=635 Ridge Rd:geo:-80.1494314,40.4331048
END:VEVENT
END:VCALENDAR