BEGIN:VCALENDAR
VERSION:2.0
PRODID:-//Play Pittsburgh - ECPv6.15.20//NONSGML v1.0//EN
CALSCALE:GREGORIAN
METHOD:PUBLISH
X-ORIGINAL-URL:https://playpittsburgh.com
X-WR-CALDESC:Events for Play Pittsburgh
REFRESH-INTERVAL;VALUE=DURATION:PT1H
X-Robots-Tag:noindex
X-PUBLISHED-TTL:PT1H
BEGIN:VTIMEZONE
TZID:America/New_York
BEGIN:DAYLIGHT
TZOFFSETFROM:-0500
TZOFFSETTO:-0400
TZNAME:EDT
DTSTART:20140309T070000
END:DAYLIGHT
BEGIN:STANDARD
TZOFFSETFROM:-0400
TZOFFSETTO:-0500
TZNAME:EST
DTSTART:20141102T060000
END:STANDARD
BEGIN:DAYLIGHT
TZOFFSETFROM:-0500
TZOFFSETTO:-0400
TZNAME:EDT
DTSTART:20150308T070000
END:DAYLIGHT
BEGIN:STANDARD
TZOFFSETFROM:-0400
TZOFFSETTO:-0500
TZNAME:EST
DTSTART:20151101T060000
END:STANDARD
BEGIN:DAYLIGHT
TZOFFSETFROM:-0500
TZOFFSETTO:-0400
TZNAME:EDT
DTSTART:20160313T070000
END:DAYLIGHT
BEGIN:STANDARD
TZOFFSETFROM:-0400
TZOFFSETTO:-0500
TZNAME:EST
DTSTART:20161106T060000
END:STANDARD
END:VTIMEZONE
BEGIN:VEVENT
DTSTART;TZID=America/New_York:20150617T110000
DTEND;TZID=America/New_York:20150617T120000
DTSTAMP:20260422T055833
CREATED:20150326T184829Z
LAST-MODIFIED:20150326T184829Z
UID:8504-1434538800-1434542400@playpittsburgh.com
SUMMARY:Weekly Playgroup at SeaBase Family Fun Center
DESCRIPTION:Join friends on Wednesday mornings at 11 for a weekly playgroup at SeaBase Family Fun Center! Ideal for ages 2-5. Includes a short story\, craft or activity and small snack. Free with admission.
URL:https://playpittsburgh.com/event/weekly-playgroup-at-seabase-family-fun-center/2015-06-17/
LOCATION:SeaBase Family Fun Center\, 770 E. Pittsburgh St\, Greensburg\, 15601
GEO:40.3013507;-79.5265785
X-APPLE-STRUCTURED-LOCATION;VALUE=URI;X-ADDRESS=SeaBase Family Fun Center 770 E. Pittsburgh St Greensburg 15601;X-APPLE-RADIUS=500;X-TITLE=770 E. Pittsburgh St:geo:-79.5265785,40.3013507
END:VEVENT
BEGIN:VEVENT
DTSTART;TZID=America/New_York:20150610T110000
DTEND;TZID=America/New_York:20150610T120000
DTSTAMP:20260422T055833
CREATED:20150326T184829Z
LAST-MODIFIED:20150326T184829Z
UID:8503-1433934000-1433937600@playpittsburgh.com
SUMMARY:Weekly Playgroup at SeaBase Family Fun Center
DESCRIPTION:Join friends on Wednesday mornings at 11 for a weekly playgroup at SeaBase Family Fun Center! Ideal for ages 2-5. Includes a short story\, craft or activity and small snack. Free with admission.
URL:https://playpittsburgh.com/event/weekly-playgroup-at-seabase-family-fun-center/2015-06-10/
LOCATION:SeaBase Family Fun Center\, 770 E. Pittsburgh St\, Greensburg\, 15601
GEO:40.3013507;-79.5265785
X-APPLE-STRUCTURED-LOCATION;VALUE=URI;X-ADDRESS=SeaBase Family Fun Center 770 E. Pittsburgh St Greensburg 15601;X-APPLE-RADIUS=500;X-TITLE=770 E. Pittsburgh St:geo:-79.5265785,40.3013507
END:VEVENT
BEGIN:VEVENT
DTSTART;TZID=America/New_York:20150603T110000
DTEND;TZID=America/New_York:20150603T120000
DTSTAMP:20260422T055833
CREATED:20150326T184829Z
LAST-MODIFIED:20150326T184829Z
UID:8502-1433329200-1433332800@playpittsburgh.com
SUMMARY:Weekly Playgroup at SeaBase Family Fun Center
DESCRIPTION:Join friends on Wednesday mornings at 11 for a weekly playgroup at SeaBase Family Fun Center! Ideal for ages 2-5. Includes a short story\, craft or activity and small snack. Free with admission.
URL:https://playpittsburgh.com/event/weekly-playgroup-at-seabase-family-fun-center/2015-06-03/
LOCATION:SeaBase Family Fun Center\, 770 E. Pittsburgh St\, Greensburg\, 15601
GEO:40.3013507;-79.5265785
X-APPLE-STRUCTURED-LOCATION;VALUE=URI;X-ADDRESS=SeaBase Family Fun Center 770 E. Pittsburgh St Greensburg 15601;X-APPLE-RADIUS=500;X-TITLE=770 E. Pittsburgh St:geo:-79.5265785,40.3013507
END:VEVENT
BEGIN:VEVENT
DTSTART;TZID=America/New_York:20150527T110000
DTEND;TZID=America/New_York:20150527T120000
DTSTAMP:20260422T055833
CREATED:20150326T184829Z
LAST-MODIFIED:20150326T184829Z
UID:8501-1432724400-1432728000@playpittsburgh.com
SUMMARY:Weekly Playgroup at SeaBase Family Fun Center
DESCRIPTION:Join friends on Wednesday mornings at 11 for a weekly playgroup at SeaBase Family Fun Center! Ideal for ages 2-5. Includes a short story\, craft or activity and small snack. Free with admission.
URL:https://playpittsburgh.com/event/weekly-playgroup-at-seabase-family-fun-center/2015-05-27/
LOCATION:SeaBase Family Fun Center\, 770 E. Pittsburgh St\, Greensburg\, 15601
GEO:40.3013507;-79.5265785
X-APPLE-STRUCTURED-LOCATION;VALUE=URI;X-ADDRESS=SeaBase Family Fun Center 770 E. Pittsburgh St Greensburg 15601;X-APPLE-RADIUS=500;X-TITLE=770 E. Pittsburgh St:geo:-79.5265785,40.3013507
END:VEVENT
BEGIN:VEVENT
DTSTART;TZID=America/New_York:20150520T110000
DTEND;TZID=America/New_York:20150520T120000
DTSTAMP:20260422T055833
CREATED:20150326T184829Z
LAST-MODIFIED:20150326T184829Z
UID:8500-1432119600-1432123200@playpittsburgh.com
SUMMARY:Weekly Playgroup at SeaBase Family Fun Center
DESCRIPTION:Join friends on Wednesday mornings at 11 for a weekly playgroup at SeaBase Family Fun Center! Ideal for ages 2-5. Includes a short story\, craft or activity and small snack. Free with admission.
URL:https://playpittsburgh.com/event/weekly-playgroup-at-seabase-family-fun-center/2015-05-20/
LOCATION:SeaBase Family Fun Center\, 770 E. Pittsburgh St\, Greensburg\, 15601
GEO:40.3013507;-79.5265785
X-APPLE-STRUCTURED-LOCATION;VALUE=URI;X-ADDRESS=SeaBase Family Fun Center 770 E. Pittsburgh St Greensburg 15601;X-APPLE-RADIUS=500;X-TITLE=770 E. Pittsburgh St:geo:-79.5265785,40.3013507
END:VEVENT
BEGIN:VEVENT
DTSTART;TZID=America/New_York:20150513T110000
DTEND;TZID=America/New_York:20150513T120000
DTSTAMP:20260422T055833
CREATED:20150326T184829Z
LAST-MODIFIED:20150326T184829Z
UID:8499-1431514800-1431518400@playpittsburgh.com
SUMMARY:Weekly Playgroup at SeaBase Family Fun Center
DESCRIPTION:Join friends on Wednesday mornings at 11 for a weekly playgroup at SeaBase Family Fun Center! Ideal for ages 2-5. Includes a short story\, craft or activity and small snack. Free with admission.
URL:https://playpittsburgh.com/event/weekly-playgroup-at-seabase-family-fun-center/2015-05-13/
LOCATION:SeaBase Family Fun Center\, 770 E. Pittsburgh St\, Greensburg\, 15601
GEO:40.3013507;-79.5265785
X-APPLE-STRUCTURED-LOCATION;VALUE=URI;X-ADDRESS=SeaBase Family Fun Center 770 E. Pittsburgh St Greensburg 15601;X-APPLE-RADIUS=500;X-TITLE=770 E. Pittsburgh St:geo:-79.5265785,40.3013507
END:VEVENT
BEGIN:VEVENT
DTSTART;TZID=America/New_York:20150506T110000
DTEND;TZID=America/New_York:20150506T120000
DTSTAMP:20260422T055833
CREATED:20150326T184829Z
LAST-MODIFIED:20150326T184829Z
UID:8498-1430910000-1430913600@playpittsburgh.com
SUMMARY:Weekly Playgroup at SeaBase Family Fun Center
DESCRIPTION:Join friends on Wednesday mornings at 11 for a weekly playgroup at SeaBase Family Fun Center! Ideal for ages 2-5. Includes a short story\, craft or activity and small snack. Free with admission.
URL:https://playpittsburgh.com/event/weekly-playgroup-at-seabase-family-fun-center/2015-05-06/
LOCATION:SeaBase Family Fun Center\, 770 E. Pittsburgh St\, Greensburg\, 15601
GEO:40.3013507;-79.5265785
X-APPLE-STRUCTURED-LOCATION;VALUE=URI;X-ADDRESS=SeaBase Family Fun Center 770 E. Pittsburgh St Greensburg 15601;X-APPLE-RADIUS=500;X-TITLE=770 E. Pittsburgh St:geo:-79.5265785,40.3013507
END:VEVENT
BEGIN:VEVENT
DTSTART;TZID=America/New_York:20150429T110000
DTEND;TZID=America/New_York:20150429T120000
DTSTAMP:20260422T055833
CREATED:20150326T184829Z
LAST-MODIFIED:20150326T184829Z
UID:8497-1430305200-1430308800@playpittsburgh.com
SUMMARY:Weekly Playgroup at SeaBase Family Fun Center
DESCRIPTION:Join friends on Wednesday mornings at 11 for a weekly playgroup at SeaBase Family Fun Center! Ideal for ages 2-5. Includes a short story\, craft or activity and small snack. Free with admission.
URL:https://playpittsburgh.com/event/weekly-playgroup-at-seabase-family-fun-center/2015-04-29/
LOCATION:SeaBase Family Fun Center\, 770 E. Pittsburgh St\, Greensburg\, 15601
GEO:40.3013507;-79.5265785
X-APPLE-STRUCTURED-LOCATION;VALUE=URI;X-ADDRESS=SeaBase Family Fun Center 770 E. Pittsburgh St Greensburg 15601;X-APPLE-RADIUS=500;X-TITLE=770 E. Pittsburgh St:geo:-79.5265785,40.3013507
END:VEVENT
BEGIN:VEVENT
DTSTART;TZID=America/New_York:20150422T110000
DTEND;TZID=America/New_York:20150422T120000
DTSTAMP:20260422T055833
CREATED:20150326T184829Z
LAST-MODIFIED:20150326T184829Z
UID:8496-1429700400-1429704000@playpittsburgh.com
SUMMARY:Weekly Playgroup at SeaBase Family Fun Center
DESCRIPTION:Join friends on Wednesday mornings at 11 for a weekly playgroup at SeaBase Family Fun Center! Ideal for ages 2-5. Includes a short story\, craft or activity and small snack. Free with admission.
URL:https://playpittsburgh.com/event/weekly-playgroup-at-seabase-family-fun-center/2015-04-22/
LOCATION:SeaBase Family Fun Center\, 770 E. Pittsburgh St\, Greensburg\, 15601
GEO:40.3013507;-79.5265785
X-APPLE-STRUCTURED-LOCATION;VALUE=URI;X-ADDRESS=SeaBase Family Fun Center 770 E. Pittsburgh St Greensburg 15601;X-APPLE-RADIUS=500;X-TITLE=770 E. Pittsburgh St:geo:-79.5265785,40.3013507
END:VEVENT
BEGIN:VEVENT
DTSTART;TZID=America/New_York:20150415T110000
DTEND;TZID=America/New_York:20150415T120000
DTSTAMP:20260422T055833
CREATED:20150326T184829Z
LAST-MODIFIED:20150326T184829Z
UID:8495-1429095600-1429099200@playpittsburgh.com
SUMMARY:Weekly Playgroup at SeaBase Family Fun Center
DESCRIPTION:Join friends on Wednesday mornings at 11 for a weekly playgroup at SeaBase Family Fun Center! Ideal for ages 2-5. Includes a short story\, craft or activity and small snack. Free with admission.
URL:https://playpittsburgh.com/event/weekly-playgroup-at-seabase-family-fun-center/2015-04-15/
LOCATION:SeaBase Family Fun Center\, 770 E. Pittsburgh St\, Greensburg\, 15601
GEO:40.3013507;-79.5265785
X-APPLE-STRUCTURED-LOCATION;VALUE=URI;X-ADDRESS=SeaBase Family Fun Center 770 E. Pittsburgh St Greensburg 15601;X-APPLE-RADIUS=500;X-TITLE=770 E. Pittsburgh St:geo:-79.5265785,40.3013507
END:VEVENT
BEGIN:VEVENT
DTSTART;TZID=America/New_York:20150408T110000
DTEND;TZID=America/New_York:20150408T120000
DTSTAMP:20260422T055833
CREATED:20150326T184829Z
LAST-MODIFIED:20150326T184829Z
UID:8494-1428490800-1428494400@playpittsburgh.com
SUMMARY:Weekly Playgroup at SeaBase Family Fun Center
DESCRIPTION:Join friends on Wednesday mornings at 11 for a weekly playgroup at SeaBase Family Fun Center! Ideal for ages 2-5. Includes a short story\, craft or activity and small snack. Free with admission.
URL:https://playpittsburgh.com/event/weekly-playgroup-at-seabase-family-fun-center/2015-04-08/
LOCATION:SeaBase Family Fun Center\, 770 E. Pittsburgh St\, Greensburg\, 15601
GEO:40.3013507;-79.5265785
X-APPLE-STRUCTURED-LOCATION;VALUE=URI;X-ADDRESS=SeaBase Family Fun Center 770 E. Pittsburgh St Greensburg 15601;X-APPLE-RADIUS=500;X-TITLE=770 E. Pittsburgh St:geo:-79.5265785,40.3013507
END:VEVENT
BEGIN:VEVENT
DTSTART;TZID=America/New_York:20150401T110000
DTEND;TZID=America/New_York:20150401T120000
DTSTAMP:20260422T055833
CREATED:20150326T184829Z
LAST-MODIFIED:20150326T184829Z
UID:5834-1427886000-1427889600@playpittsburgh.com
SUMMARY:Weekly Playgroup at SeaBase Family Fun Center
DESCRIPTION:Join friends on Wednesday mornings at 11 for a weekly playgroup at SeaBase Family Fun Center! Ideal for ages 2-5. Includes a short story\, craft or activity and small snack. Free with admission.
URL:https://playpittsburgh.com/event/weekly-playgroup-at-seabase-family-fun-center/2015-04-01/
LOCATION:SeaBase Family Fun Center\, 770 E. Pittsburgh St\, Greensburg\, 15601
GEO:40.3013507;-79.5265785
X-APPLE-STRUCTURED-LOCATION;VALUE=URI;X-ADDRESS=SeaBase Family Fun Center 770 E. Pittsburgh St Greensburg 15601;X-APPLE-RADIUS=500;X-TITLE=770 E. Pittsburgh St:geo:-79.5265785,40.3013507
END:VEVENT
END:VCALENDAR