BEGIN:VCALENDAR
VERSION:2.0
PRODID:-//Play Pittsburgh - ECPv6.15.20//NONSGML v1.0//EN
CALSCALE:GREGORIAN
METHOD:PUBLISH
X-ORIGINAL-URL:https://playpittsburgh.com
X-WR-CALDESC:Events for Play Pittsburgh
REFRESH-INTERVAL;VALUE=DURATION:PT1H
X-Robots-Tag:noindex
X-PUBLISHED-TTL:PT1H
BEGIN:VTIMEZONE
TZID:America/New_York
BEGIN:DAYLIGHT
TZOFFSETFROM:-0500
TZOFFSETTO:-0400
TZNAME:EDT
DTSTART:20130310T070000
END:DAYLIGHT
BEGIN:STANDARD
TZOFFSETFROM:-0400
TZOFFSETTO:-0500
TZNAME:EST
DTSTART:20131103T060000
END:STANDARD
BEGIN:DAYLIGHT
TZOFFSETFROM:-0500
TZOFFSETTO:-0400
TZNAME:EDT
DTSTART:20140309T070000
END:DAYLIGHT
BEGIN:STANDARD
TZOFFSETFROM:-0400
TZOFFSETTO:-0500
TZNAME:EST
DTSTART:20141102T060000
END:STANDARD
BEGIN:DAYLIGHT
TZOFFSETFROM:-0500
TZOFFSETTO:-0400
TZNAME:EDT
DTSTART:20150308T070000
END:DAYLIGHT
BEGIN:STANDARD
TZOFFSETFROM:-0400
TZOFFSETTO:-0500
TZNAME:EST
DTSTART:20151101T060000
END:STANDARD
BEGIN:DAYLIGHT
TZOFFSETFROM:-0500
TZOFFSETTO:-0400
TZNAME:EDT
DTSTART:20160313T070000
END:DAYLIGHT
BEGIN:STANDARD
TZOFFSETFROM:-0400
TZOFFSETTO:-0500
TZNAME:EST
DTSTART:20161106T060000
END:STANDARD
BEGIN:DAYLIGHT
TZOFFSETFROM:-0500
TZOFFSETTO:-0400
TZNAME:EDT
DTSTART:20170312T070000
END:DAYLIGHT
BEGIN:STANDARD
TZOFFSETFROM:-0400
TZOFFSETTO:-0500
TZNAME:EST
DTSTART:20171105T060000
END:STANDARD
END:VTIMEZONE
BEGIN:VEVENT
DTSTART;TZID=America/New_York:20160717T060000
DTEND;TZID=America/New_York:20160717T230000
DTSTAMP:20260421T182302
CREATED:20160704T151849Z
LAST-MODIFIED:20160717T155859Z
UID:9423-1468735200-1468796400@playpittsburgh.com
SUMMARY:Western PA Balloon Quest
DESCRIPTION:Festivities start with a “Balloon Glow” scheduled on Thursday night @ 9:00 pm. See balloon launches between 6-7am and 6-7pm scheduled for Friday evening\, Saturday morning and evening\, Sunday morning. \nStay for carnival rides\, entertainment\, demonstrations\, vendors and fireworks on Sunday night!
URL:https://playpittsburgh.com/event/western-pa-balloon-quest-2/2016-07-17/
LOCATION:Scotland Meadows Park\, 2106 Camden Avenue\, New Castle\, PA\, 16101\, United States
CATEGORIES:Festivals,Outdoor
GEO:41.000549;-80.384536
X-APPLE-STRUCTURED-LOCATION;VALUE=URI;X-ADDRESS=Scotland Meadows Park 2106 Camden Avenue New Castle PA 16101 United States;X-APPLE-RADIUS=500;X-TITLE=2106 Camden Avenue:geo:-80.384536,41.000549
END:VEVENT
BEGIN:VEVENT
DTSTART;TZID=America/New_York:20160716T060000
DTEND;TZID=America/New_York:20160716T230000
DTSTAMP:20260421T182302
CREATED:20160704T151849Z
LAST-MODIFIED:20160717T155858Z
UID:9422-1468648800-1468710000@playpittsburgh.com
SUMMARY:Western PA Balloon Quest
DESCRIPTION:Festivities start with a “Balloon Glow” scheduled on Thursday night @ 9:00 pm. See balloon launches between 6-7am and 6-7pm scheduled for Friday evening\, Saturday morning and evening\, Sunday morning. \nStay for carnival rides\, entertainment\, demonstrations\, vendors and fireworks on Sunday night!
URL:https://playpittsburgh.com/event/western-pa-balloon-quest-2/2016-07-16/
LOCATION:Scotland Meadows Park\, 2106 Camden Avenue\, New Castle\, PA\, 16101\, United States
CATEGORIES:Festivals,Outdoor
GEO:41.000549;-80.384536
X-APPLE-STRUCTURED-LOCATION;VALUE=URI;X-ADDRESS=Scotland Meadows Park 2106 Camden Avenue New Castle PA 16101 United States;X-APPLE-RADIUS=500;X-TITLE=2106 Camden Avenue:geo:-80.384536,41.000549
END:VEVENT
BEGIN:VEVENT
DTSTART;TZID=America/New_York:20160715T060000
DTEND;TZID=America/New_York:20160715T230000
DTSTAMP:20260421T182302
CREATED:20160704T151849Z
LAST-MODIFIED:20160717T155858Z
UID:9421-1468562400-1468623600@playpittsburgh.com
SUMMARY:Western PA Balloon Quest
DESCRIPTION:Festivities start with a “Balloon Glow” scheduled on Thursday night @ 9:00 pm. See balloon launches between 6-7am and 6-7pm scheduled for Friday evening\, Saturday morning and evening\, Sunday morning. \nStay for carnival rides\, entertainment\, demonstrations\, vendors and fireworks on Sunday night!
URL:https://playpittsburgh.com/event/western-pa-balloon-quest-2/2016-07-15/
LOCATION:Scotland Meadows Park\, 2106 Camden Avenue\, New Castle\, PA\, 16101\, United States
CATEGORIES:Festivals,Outdoor
GEO:41.000549;-80.384536
X-APPLE-STRUCTURED-LOCATION;VALUE=URI;X-ADDRESS=Scotland Meadows Park 2106 Camden Avenue New Castle PA 16101 United States;X-APPLE-RADIUS=500;X-TITLE=2106 Camden Avenue:geo:-80.384536,41.000549
END:VEVENT
BEGIN:VEVENT
DTSTART;TZID=America/New_York:20160714T060000
DTEND;TZID=America/New_York:20160714T230000
DTSTAMP:20260421T182302
CREATED:20160704T151849Z
LAST-MODIFIED:20160717T155855Z
UID:9419-1468476000-1468537200@playpittsburgh.com
SUMMARY:Western PA Balloon Quest
DESCRIPTION:Festivities start with a “Balloon Glow” scheduled on Thursday night @ 9:00 pm. See balloon launches between 6-7am and 6-7pm scheduled for Friday evening\, Saturday morning and evening\, Sunday morning. \nStay for carnival rides\, entertainment\, demonstrations\, vendors and fireworks on Sunday night!
URL:https://playpittsburgh.com/event/western-pa-balloon-quest-2/2016-07-14/
LOCATION:Scotland Meadows Park\, 2106 Camden Avenue\, New Castle\, PA\, 16101\, United States
CATEGORIES:Festivals,Outdoor
GEO:41.000549;-80.384536
X-APPLE-STRUCTURED-LOCATION;VALUE=URI;X-ADDRESS=Scotland Meadows Park 2106 Camden Avenue New Castle PA 16101 United States;X-APPLE-RADIUS=500;X-TITLE=2106 Camden Avenue:geo:-80.384536,41.000549
END:VEVENT
BEGIN:VEVENT
DTSTART;TZID=America/New_York:20140724T210000
DTEND;TZID=America/New_York:20140724T220000
DTSTAMP:20260421T182302
CREATED:20140626T072520Z
LAST-MODIFIED:20140626T072520Z
UID:2164-1406235600-1406239200@playpittsburgh.com
SUMMARY:Western PA Balloon Quest
DESCRIPTION:25 Hot Air Balloons with a “Balloon Glow” scheduled on Thursday night at 9PM. Balloon launches scheduled for Friday evening\, Saturday morning and evening\, Sunday morning. All launches are 6AM and 7PM.
URL:https://playpittsburgh.com/event/western-pa-balloon-quest/
LOCATION:Scotland Meadows Park\, 2106 Camden Avenue\, New Castle\, PA\, 16101\, United States
CATEGORIES:Free,Outdoor
GEO:41.000549;-80.384536
X-APPLE-STRUCTURED-LOCATION;VALUE=URI;X-ADDRESS=Scotland Meadows Park 2106 Camden Avenue New Castle PA 16101 United States;X-APPLE-RADIUS=500;X-TITLE=2106 Camden Avenue:geo:-80.384536,41.000549
END:VEVENT
END:VCALENDAR