BEGIN:VCALENDAR
VERSION:2.0
PRODID:-//Play Pittsburgh - ECPv6.15.20//NONSGML v1.0//EN
CALSCALE:GREGORIAN
METHOD:PUBLISH
X-ORIGINAL-URL:https://playpittsburgh.com
X-WR-CALDESC:Events for Play Pittsburgh
REFRESH-INTERVAL;VALUE=DURATION:PT1H
X-Robots-Tag:noindex
X-PUBLISHED-TTL:PT1H
BEGIN:VTIMEZONE
TZID:America/New_York
BEGIN:DAYLIGHT
TZOFFSETFROM:-0500
TZOFFSETTO:-0400
TZNAME:EDT
DTSTART:20130310T070000
END:DAYLIGHT
BEGIN:STANDARD
TZOFFSETFROM:-0400
TZOFFSETTO:-0500
TZNAME:EST
DTSTART:20131103T060000
END:STANDARD
BEGIN:DAYLIGHT
TZOFFSETFROM:-0500
TZOFFSETTO:-0400
TZNAME:EDT
DTSTART:20140309T070000
END:DAYLIGHT
BEGIN:STANDARD
TZOFFSETFROM:-0400
TZOFFSETTO:-0500
TZNAME:EST
DTSTART:20141102T060000
END:STANDARD
BEGIN:DAYLIGHT
TZOFFSETFROM:-0500
TZOFFSETTO:-0400
TZNAME:EDT
DTSTART:20150308T070000
END:DAYLIGHT
BEGIN:STANDARD
TZOFFSETFROM:-0400
TZOFFSETTO:-0500
TZNAME:EST
DTSTART:20151101T060000
END:STANDARD
END:VTIMEZONE
BEGIN:VEVENT
DTSTART;VALUE=DATE:20140927
DTEND;VALUE=DATE:20140928
DTSTAMP:20260421T201903
CREATED:20140901T195430Z
LAST-MODIFIED:20140901T195430Z
UID:3488-1411776000-1411862399@playpittsburgh.com
SUMMARY:Schramm's Fall Festival
DESCRIPTION:Starting the last weekend in September and running thru the end of October\, enjoy huge selection of pumpkins for your choosing and festive displays. There is something for the whole family to enjoy. Have fun in play hay\, two corn stalk mazes\, pony rides\, hay rides\, a corn box\, and much more.  \nCome hungry! There’s  a wide selection of refreshments including fresh cut French Fries made from our own potatoes\, apple cider slush\, and homemade candy and caramel apples! Cornstalks and straw for sale\, as well as gourds and ornamental corn.  \nActivity Schedule\nSaturdays 9am – 7pm\, Sundays 10am-6pm\, Weekdays 9am-8pm \n\nPick Your Own Pumpkin ($0.45 per LB)\nPlay Hay (free)\nSmall Maze (free\, open first weekend in October)\n\nSaturdays 11am-6pm\, Sundays Nonn-5pm\, Weekdays 4pm-Dusk \n\nHay Rides ($3)\nPony Rides ($3)\nGiant Living Maze ($5)\n\nSaturdays 11am-6pm\, Sundays Noon-5pm\, CLOSED Weekdays \n\nCorn Box ($3)\nPhoto w/ Tractor
URL:https://playpittsburgh.com/event/schramms-fall-festival/2014-09-27/
LOCATION:Schramm Farms\, 1002 Blank Road \, Jeannette \, PA\, United States
CATEGORIES:Festivals,Outdoor
GEO:40.3757791;-79.6390836
X-APPLE-STRUCTURED-LOCATION;VALUE=URI;X-ADDRESS=Schramm Farms 1002 Blank Road  Jeannette  PA United States;X-APPLE-RADIUS=500;X-TITLE=1002 Blank Road:geo:-79.6390836,40.3757791
END:VEVENT
BEGIN:VEVENT
DTSTART;VALUE=DATE:20140927
DTEND;VALUE=DATE:20140928
DTSTAMP:20260421T201903
CREATED:20140901T195430Z
LAST-MODIFIED:20140901T195430Z
UID:6639-1411776000-1411862399@playpittsburgh.com
SUMMARY:Schramm's Fall Festival
DESCRIPTION:Starting the last weekend in September and running thru the end of October\, enjoy huge selection of pumpkins for your choosing and festive displays. There is something for the whole family to enjoy. Have fun in play hay\, two corn stalk mazes\, pony rides\, hay rides\, a corn box\, and much more.  \nCome hungry! There’s  a wide selection of refreshments including fresh cut French Fries made from our own potatoes\, apple cider slush\, and homemade candy and caramel apples! Cornstalks and straw for sale\, as well as gourds and ornamental corn.  \nActivity Schedule\nSaturdays 9am – 7pm\, Sundays 10am-6pm\, Weekdays 9am-8pm \n\nPick Your Own Pumpkin ($0.45 per LB)\nPlay Hay (free)\nSmall Maze (free\, open first weekend in October)\n\nSaturdays 11am-6pm\, Sundays Nonn-5pm\, Weekdays 4pm-Dusk \n\nHay Rides ($3)\nPony Rides ($3)\nGiant Living Maze ($5)\n\nSaturdays 11am-6pm\, Sundays Noon-5pm\, CLOSED Weekdays \n\nCorn Box ($3)\nPhoto w/ Tractor
URL:https://playpittsburgh.com/event/schramms-fall-festival-2/2014-09-27/
LOCATION:Schramm Farms\, 1002 Blank Road \, Jeannette \, PA\, United States
CATEGORIES:Festivals,Outdoor
GEO:40.3757791;-79.6390836
X-APPLE-STRUCTURED-LOCATION;VALUE=URI;X-ADDRESS=Schramm Farms 1002 Blank Road  Jeannette  PA United States;X-APPLE-RADIUS=500;X-TITLE=1002 Blank Road:geo:-79.6390836,40.3757791
END:VEVENT
BEGIN:VEVENT
DTSTART;TZID=America/New_York:20140726T110000
DTEND;TZID=America/New_York:20140726T160000
DTSTAMP:20260421T201903
CREATED:20140527T232727Z
LAST-MODIFIED:20140527T232727Z
UID:1793-1406372400-1406390400@playpittsburgh.com
SUMMARY:Corn Cook-out & Car Cruise at Schramm Farms
DESCRIPTION:  \n  \n  \n  \n  \n2nd Annual Corn Cook-Out & Car Cruise that will be tons of fun for the whole family. There will be a children’s area with a blow-up slide\, pony rides and more!
URL:https://playpittsburgh.com/event/corn-cook-out-car-cruise-at-schramm-farms/
LOCATION:Schramm Farms\, 1002 Blank Road \, Jeannette \, PA\, United States
CATEGORIES:Festivals,Outdoor
GEO:40.3757791;-79.6390836
X-APPLE-STRUCTURED-LOCATION;VALUE=URI;X-ADDRESS=Schramm Farms 1002 Blank Road  Jeannette  PA United States;X-APPLE-RADIUS=500;X-TITLE=1002 Blank Road:geo:-79.6390836,40.3757791
END:VEVENT
BEGIN:VEVENT
DTSTART;TZID=America/New_York:20140726T110000
DTEND;TZID=America/New_York:20140726T160000
DTSTAMP:20260421T201903
CREATED:20140527T232727Z
LAST-MODIFIED:20140527T232727Z
UID:6244-1406372400-1406390400@playpittsburgh.com
SUMMARY:Corn Cook-out & Car Cruise at Schramm Farms
DESCRIPTION:  \n  \n  \n  \n  \n2nd Annual Corn Cook-Out & Car Cruise that will be tons of fun for the whole family. There will be a children’s area with a blow-up slide\, pony rides and more!
URL:https://playpittsburgh.com/event/corn-cook-out-car-cruise-at-schramm-farms-2/
LOCATION:Schramm Farms\, 1002 Blank Road \, Jeannette \, PA\, United States
CATEGORIES:Festivals,Outdoor
GEO:40.3757791;-79.6390836
X-APPLE-STRUCTURED-LOCATION;VALUE=URI;X-ADDRESS=Schramm Farms 1002 Blank Road  Jeannette  PA United States;X-APPLE-RADIUS=500;X-TITLE=1002 Blank Road:geo:-79.6390836,40.3757791
END:VEVENT
BEGIN:VEVENT
DTSTART;TZID=America/New_York:20140510T100000
DTEND;TZID=America/New_York:20140510T150000
DTSTAMP:20260421T201903
CREATED:20140507T153822Z
LAST-MODIFIED:20140507T153822Z
UID:1183-1399716000-1399734000@playpittsburgh.com
SUMMARY:Schramm Farms Spring Festival
DESCRIPTION:The entire family can join in the fun at Schramm Farms Spring Festival. \nChildren’s Activities \n\n11am – 3pm: Kids Crafts available to make for $2\n11am – 3pm: Decorate a cook with Grandma’s Country Oven Bake Shoppe $1\n\nFamily Fun \n\n10am\, Noon & 2pm: Hayrides through the apple orchard $5\n\nPlus TONS of fun activities adults and gardeners will enjoy\, too!
URL:https://playpittsburgh.com/event/schramm-farms-spring-festival/
LOCATION:Schramm Farms\, 1002 Blank Road \, Jeannette \, PA\, United States
CATEGORIES:Festivals,Outdoor
GEO:40.3757791;-79.6390836
X-APPLE-STRUCTURED-LOCATION;VALUE=URI;X-ADDRESS=Schramm Farms 1002 Blank Road  Jeannette  PA United States;X-APPLE-RADIUS=500;X-TITLE=1002 Blank Road:geo:-79.6390836,40.3757791
END:VEVENT
END:VCALENDAR