BEGIN:VCALENDAR
VERSION:2.0
PRODID:-//Play Pittsburgh - ECPv6.15.20//NONSGML v1.0//EN
CALSCALE:GREGORIAN
METHOD:PUBLISH
X-WR-CALNAME:Play Pittsburgh
X-ORIGINAL-URL:https://playpittsburgh.com
X-WR-CALDESC:Events for Play Pittsburgh
REFRESH-INTERVAL;VALUE=DURATION:PT1H
X-Robots-Tag:noindex
X-PUBLISHED-TTL:PT1H
BEGIN:VTIMEZONE
TZID:America/New_York
BEGIN:DAYLIGHT
TZOFFSETFROM:-0500
TZOFFSETTO:-0400
TZNAME:EDT
DTSTART:20130310T070000
END:DAYLIGHT
BEGIN:STANDARD
TZOFFSETFROM:-0400
TZOFFSETTO:-0500
TZNAME:EST
DTSTART:20131103T060000
END:STANDARD
BEGIN:DAYLIGHT
TZOFFSETFROM:-0500
TZOFFSETTO:-0400
TZNAME:EDT
DTSTART:20140309T070000
END:DAYLIGHT
BEGIN:STANDARD
TZOFFSETFROM:-0400
TZOFFSETTO:-0500
TZNAME:EST
DTSTART:20141102T060000
END:STANDARD
BEGIN:DAYLIGHT
TZOFFSETFROM:-0500
TZOFFSETTO:-0400
TZNAME:EDT
DTSTART:20150308T070000
END:DAYLIGHT
BEGIN:STANDARD
TZOFFSETFROM:-0400
TZOFFSETTO:-0500
TZNAME:EST
DTSTART:20151101T060000
END:STANDARD
BEGIN:DAYLIGHT
TZOFFSETFROM:-0500
TZOFFSETTO:-0400
TZNAME:EDT
DTSTART:20160313T070000
END:DAYLIGHT
BEGIN:STANDARD
TZOFFSETFROM:-0400
TZOFFSETTO:-0500
TZNAME:EST
DTSTART:20161106T060000
END:STANDARD
BEGIN:DAYLIGHT
TZOFFSETFROM:-0500
TZOFFSETTO:-0400
TZNAME:EDT
DTSTART:20170312T070000
END:DAYLIGHT
BEGIN:STANDARD
TZOFFSETFROM:-0400
TZOFFSETTO:-0500
TZNAME:EST
DTSTART:20171105T060000
END:STANDARD
END:VTIMEZONE
BEGIN:VEVENT
DTSTART;TZID=America/New_York:20160724T202000
DTEND;TZID=America/New_York:20160724T220000
DTSTAMP:20260424T063409
CREATED:20160704T155644Z
LAST-MODIFIED:20160704T155644Z
UID:9491-1469391600-1469397600@playpittsburgh.com
SUMMARY:Giant Pillow Fight at Schenley Park
DESCRIPTION:Pittsburgh Cacaphony Societies 10th Pillow Fight!!! then Free Movie “The SpongeBob Movie: Sponge Out of Water (PG)” \nPillow Fight is going on Rain or Shine. Mystery Signal is 8:20pm! \nBYOP!(BRING YOUR OWN PILLOW!) \nWE NEED HELP SPREADING THE WORD ABOUT THIS… tell friends! \nFREE FUN! Wonderful! Silly! Kid-friendly and Adult-friendly Event! \nDETAILS: SHOW UP AT 8PM then at 8:20pm SHARP! (the movie starts close to 9pm at Dusk) there will be a mystery signal and a GIANT PILLOW FIGHT WILL BREAK OUT! Kid Friendly\, Bring your own Pillow! (BYOP!) Only allowed to attack others that have pillows! Amazing Fun! Last year we had 120+ people in the Rain do this! 10th year doing this! \nDAY: Sunday\, July 24\nFREE MOVIE AFTERWARDS: The SpongeBob Movie: Sponge Out of Water (PG)\nTIME: SHOW UP AT 8pm! then at 8:20pm SHARP! MYSTERY SIGNAL! Then the Pillow War Begins 😉\nWhere: Schenley Park Flagstaff Hill\nAddress: Corner of Schenley Drive and Frew Street then up the Hill by where they are showing the movie on the right hand side as you go up the HILL!\nCOST: FREE just bring a pillow! BYOP!\nThis only lasts for 10 or 15 mins cause it’s hot and exhausting\, plus people want to see the movie.\nSAFETY: Please just have fun\, please just aim for the body and have fun. If you see someone hitting people too hard with the pillows\, then grab the pillow and say “take it easy.” IF YOUR PILLOW RIPS\, YOU CLEAN IT UP! Personal responsibility and FUN!  \nCrazy video of previous pillow fight: http://www.wpxi.com/videos/entertainment/raw-video-hundreds-pillow-fight-in-schenley-park/vDBFZ/ \nYOU WILL SEE SOMEONE WITH A ORANGE BICYCLE FLAG on a Stick to gather around! \nQuick description of Event: This is the 10th annual giant pillow fight. Show up in Pajamas or in cool comfortable clothes. \nADVICE: SHOW UP EARLY at 8:00 pm\, BRING A PILLOW! At 8:20pm SHARP! a MYSTERY SIGNAL will sound and then ATTACK anyone with a pillow! (NO ATTACKING UNARMED CIVILIANS!) Have fun! be silly don’t hurt people. \nPS. Watch out for Lil Kids! They are Dangerous Lil Buggers! Be Safe! Soft Pillows Preferred! (see safety above)! \nSPECIAL NOTE: If anyone DROPS their Pillow you cannot attack them! Also BE CAREFUL with hitting peoples heads with Pillows! This is Exhaustingly FUN! We will be done a lil bit before the movie. 10 to 15 minutes of PILLOW FIGHTING and then the movie or whatever you want to do! \nAfterwards either watch the FREE MOVIE in the PARK which is “Spongebob.”
URL:https://playpittsburgh.com/event/giant-pillow-fight-schenley-park/
LOCATION:Schenley Park Flagstaff Hill\, 4500 Schenley Dr.\, Pittsburgh\, PA\, United States
CATEGORIES:Free,Outdoor
GEO:40.4417138;-79.949985
X-APPLE-STRUCTURED-LOCATION;VALUE=URI;X-ADDRESS=Schenley Park Flagstaff Hill 4500 Schenley Dr. Pittsburgh PA United States;X-APPLE-RADIUS=500;X-TITLE=4500 Schenley Dr.:geo:-79.949985,40.4417138
END:VEVENT
BEGIN:VEVENT
DTSTART;TZID=America/New_York:20160710T210000
DTEND;TZID=America/New_York:20160710T230000
DTSTAMP:20260424T063409
CREATED:20160710T131023Z
LAST-MODIFIED:20160710T131023Z
UID:9683-1468184400-1468191600@playpittsburgh.com
SUMMARY:Movies in Schenley Park
DESCRIPTION:Outdoor movies begin at dusk. Bring a blanket or a lawn chair.  \nSelect Wednesdays\, come early to enjoy mid-week musical performances before the movie begins. Bands perform on Flagstaff Hill Wednesdays from approximately 7:00 p.m. – 8:00 p.m. \nJuly 10 * Life of Pi (PG) \nJuly 13 * Brooklyn (PG-13) / CONCERT:  L’Lamint \nJuly 17 Inside Out (PG) \nJuly 20 The Hunger Games: Mockingjay – Part 2 (PG-13) / CONCERT:  GumBand \nJuly 24 The SpongeBob Movie: Sponge Out of Water (PG) \nJuly 27 * My Big Fat Greek Wedding (PG) / CONCERT: The Squirrel Hillbillies \nJuly 31 Miracle (PG) \nAugust 3 * Race (PG-13) / CONCERT: Kea Michaels \nAugust 7 Cinderella (PG) \nAugust 10 Me and Earl and the Dying Girl (PG-13) / CONCERT: Anjroy \nAugust 14 Heavyweights (PG) \nAugust 17 Abduction (PG-13) / CONCERT: Shinizyn \nAugust 21 The Peanuts Movie (G) \nAugust 24 Pitch Perfect 2 (PG-13) / CONCERT: Seventh Nova \nAugust 28 Rent (PG-13) \nAugust 31 Star Wars: Episode VII – The Force Awakens (PG-13) / CONCERT: The John Trumaine Show \n* The Spark! Film Series returns in 2016 with a vibrant lineup of films that feature stories from diverse cultures to bring together Pittsburghers of all backgrounds and spark engaging cultural dialogue.
URL:https://playpittsburgh.com/event/movies-schenley-park/2016-07-10/
LOCATION:Schenley Park Flagstaff Hill\, 4500 Schenley Dr.\, Pittsburgh\, PA\, United States
GEO:40.4417138;-79.949985
X-APPLE-STRUCTURED-LOCATION;VALUE=URI;X-ADDRESS=Schenley Park Flagstaff Hill 4500 Schenley Dr. Pittsburgh PA United States;X-APPLE-RADIUS=500;X-TITLE=4500 Schenley Dr.:geo:-79.949985,40.4417138
END:VEVENT
BEGIN:VEVENT
DTSTART;TZID=America/New_York:20150610T190000
DTEND;TZID=America/New_York:20150610T230000
DTSTAMP:20260424T063409
CREATED:20150529T224739Z
LAST-MODIFIED:20150529T224739Z
UID:8698-1433962800-1433977200@playpittsburgh.com
SUMMARY:Cinema & Concert in the Park - Schenley Park
DESCRIPTION:Bring a blanket\, some lawn chairs and the family to enjoy Cinema in the Park on Flagstaff Hill in Schenley Park! Movies start at dusk (around 9pm). Every Wednesday and Sunday through August 30th. \nCome early to Wednesday movies and enjoy free concert performances from 7-8pm. \nDATE/ MOVIE \n\nJune 7 The Sandlot (PG)\nJune 10 Million Dollar Arm (PG)\, CONCERT: Shinizyn\nJune 14 Maleficent (PG)\nJune 17 The Refugees of Shangri-La (NR)\, CONCERT: Ferla-Marcinizyn Guitar Duo\nJune 21 The Hundred-Foot Journey\nJune 24 The Hobbit: The Battle of the Five Armies\, CONCERT: Bobby Short Band\nJune 28 The Boxtrolls (PG)\nJuly 1 The Fault in Our Stars (PG-13)\, CONCERT: Gypsy Jazz Trio\nJuly 5 Cantinflas (PG)\nJuly 8 Cesar Chavez (PG)\, CONCERT: L’Lamint\nJuly 12 The Lego Movie (PG)\nJuly 15 X-Men: Days of Future Past (PG-13)\, CONCERT: Muddy Kreek Blues Band\nJuly 19 The Wizard of Oz (NR)\nJuly 22 Godzilla (PG-13)\, CONCERT: Center Stage Band\nJuly 26 Big Hero 6 (PG)\nJuly 29 The Hunger Games: Mockingjay – Part 1 (PG-13)\, CONCERT: Justin Fabus Band\nAugust 2 Earth to Echo (PG)\nAugust 5 Interstellar(PG-13)\, CONCERT: Bridgetter Perdue\nAugust 9 When the Game Stands Tall (PG)\nAugust 12 Selma (PG-13)\, CONCERT: Maria Wilson Music\nAugust 16 The Princess and the Frog (G)\nAugust 19 Captain America: The Winter Soldier (PG-13)\, CONCERT: The Grid\nAugust 23 McFarland\, USA (PG)\nAugust 26 Guardians of the Galaxy (PG-13)\, CONCERT: GumBand\nAugust 30 DisneyNature’s Bears (NR)
URL:https://playpittsburgh.com/event/cinema-concert-in-the-park-schenley-park/2015-06-10/
LOCATION:Schenley Park Flagstaff Hill\, 4500 Schenley Dr.\, Pittsburgh\, PA\, United States
GEO:40.4417138;-79.949985
X-APPLE-STRUCTURED-LOCATION;VALUE=URI;X-ADDRESS=Schenley Park Flagstaff Hill 4500 Schenley Dr. Pittsburgh PA United States;X-APPLE-RADIUS=500;X-TITLE=4500 Schenley Dr.:geo:-79.949985,40.4417138
END:VEVENT
BEGIN:VEVENT
DTSTART;TZID=America/New_York:20150607T210000
DTEND;TZID=America/New_York:20150607T230000
DTSTAMP:20260424T063409
CREATED:20150529T224615Z
LAST-MODIFIED:20150529T224615Z
UID:8685-1433710800-1433718000@playpittsburgh.com
SUMMARY:Cinema in the Park - Schenley Park
DESCRIPTION:Bring a blanket\, some lawn chairs and the family to enjoy Cinema in the Park on Flagstaff Hill in Schenley Park! Movies start at dusk (around 9pm). Every Wednesday and Sunday through August 30th. \nCome early to Wednesday movies and enjoy free concert performances from 7-8pm. \nDATE/ MOVIE \n\nJune 7 The Sandlot (PG)\nJune 10 Million Dollar Arm (PG)\, CONCERT: Shinizyn\nJune 14 Maleficent (PG)\nJune 17 The Refugees of Shangri-La (NR)\, CONCERT: Ferla-Marcinizyn Guitar Duo\nJune 21 The Hundred-Foot Journey\nJune 24 The Hobbit: The Battle of the Five Armies\, CONCERT: Bobby Short Band\nJune 28 The Boxtrolls (PG)\nJuly 1 The Fault in Our Stars (PG-13)\, CONCERT: Gypsy Jazz Trio\nJuly 5 Cantinflas (PG)\nJuly 8 Cesar Chavez (PG)\, CONCERT: L’Lamint\nJuly 12 The Lego Movie (PG)\nJuly 15 X-Men: Days of Future Past (PG-13)\, CONCERT: Muddy Kreek Blues Band\nJuly 19 The Wizard of Oz (NR)\nJuly 22 Godzilla (PG-13)\, CONCERT: Center Stage Band\nJuly 26 Big Hero 6 (PG)\nJuly 29 The Hunger Games: Mockingjay – Part 1 (PG-13)\, CONCERT: Justin Fabus Band\nAugust 2 Earth to Echo (PG)\nAugust 5 Interstellar(PG-13)\, CONCERT: Bridgetter Perdue\nAugust 9 When the Game Stands Tall (PG)\nAugust 12 Selma (PG-13)\, CONCERT: Maria Wilson Music\nAugust 16 The Princess and the Frog (G)\nAugust 19 Captain America: The Winter Soldier (PG-13)\, CONCERT: The Grid\nAugust 23 McFarland\, USA (PG)\nAugust 26 Guardians of the Galaxy (PG-13)\, CONCERT: GumBand\nAugust 30 DisneyNature’s Bears (NR)
URL:https://playpittsburgh.com/event/cinema-in-the-park-schenley-park/2015-06-07/
LOCATION:Schenley Park Flagstaff Hill\, 4500 Schenley Dr.\, Pittsburgh\, PA\, United States
GEO:40.4417138;-79.949985
X-APPLE-STRUCTURED-LOCATION;VALUE=URI;X-ADDRESS=Schenley Park Flagstaff Hill 4500 Schenley Dr. Pittsburgh PA United States;X-APPLE-RADIUS=500;X-TITLE=4500 Schenley Dr.:geo:-79.949985,40.4417138
END:VEVENT
BEGIN:VEVENT
DTSTART;TZID=America/New_York:20140803T202000
DTEND;TZID=America/New_York:20140803T220000
DTSTAMP:20260424T063409
CREATED:20140729T224208Z
LAST-MODIFIED:20140729T224208Z
UID:2913-1407097200-1407103200@playpittsburgh.com
SUMMARY:Giant Pillow Fight in Schenley Park! + Frozen Movie!
DESCRIPTION:FREE FUN! Wonderful! Silly! Kid-friendly Event! Show up in Pajamas or in cool comfortable clothes. \nGiant Pillow Fight at Schenley Park 8th Annual then Free Movie “Frozen” \nAt 8:20pm SHARP! (the movie starts close to 9pm at Dusk) there will be a mystery signal and a GIANT PILLOW FIGHT WILL BREAK OUT! Kid Friendly\, Bring your own Pillow! (BYOP!) Only allowed to attack others that have pillows! Amazing Fun! Last year we had 150+ people do this! 8th year doing this! \nHere’s a crazy video of the pillow fight from a couple of years before:  http://www.wpxi.com/videos/entertainment/raw-video-hundreds-pillow-fight-in-schenley-park/vDBFZ/ \nWhere: Schenley Park Flagstaff Hill \nAddress: Corner of Schenley Drive and Frew Street then up the Hill by where they are showing the movie on the right hand side as you go up the HILL! \nTime: 8:20pm MYSTERY SIGNAL at 8:30pm SHARP! Then the Pillow War Begins 😉 \nCOST: FREE just bring a pillow! BYOP! \nA Cacophony Society Event! (you may already be a member!) \nKID AND ADULT FRIENDLY! \n 
URL:https://playpittsburgh.com/event/giant-pillow-fight-in-schenley-park-frozen-movie/
LOCATION:Schenley Park Flagstaff Hill\, 4500 Schenley Dr.\, Pittsburgh\, PA\, United States
GEO:40.4417138;-79.949985
X-APPLE-STRUCTURED-LOCATION;VALUE=URI;X-ADDRESS=Schenley Park Flagstaff Hill 4500 Schenley Dr. Pittsburgh PA United States;X-APPLE-RADIUS=500;X-TITLE=4500 Schenley Dr.:geo:-79.949985,40.4417138
END:VEVENT
END:VCALENDAR