BEGIN:VCALENDAR
VERSION:2.0
PRODID:-//Play Pittsburgh - ECPv6.15.20//NONSGML v1.0//EN
CALSCALE:GREGORIAN
METHOD:PUBLISH
X-WR-CALNAME:Play Pittsburgh
X-ORIGINAL-URL:https://playpittsburgh.com
X-WR-CALDESC:Events for Play Pittsburgh
REFRESH-INTERVAL;VALUE=DURATION:PT1H
X-Robots-Tag:noindex
X-PUBLISHED-TTL:PT1H
BEGIN:VTIMEZONE
TZID:America/New_York
BEGIN:DAYLIGHT
TZOFFSETFROM:-0500
TZOFFSETTO:-0400
TZNAME:EDT
DTSTART:20130310T070000
END:DAYLIGHT
BEGIN:STANDARD
TZOFFSETFROM:-0400
TZOFFSETTO:-0500
TZNAME:EST
DTSTART:20131103T060000
END:STANDARD
BEGIN:DAYLIGHT
TZOFFSETFROM:-0500
TZOFFSETTO:-0400
TZNAME:EDT
DTSTART:20140309T070000
END:DAYLIGHT
BEGIN:STANDARD
TZOFFSETFROM:-0400
TZOFFSETTO:-0500
TZNAME:EST
DTSTART:20141102T060000
END:STANDARD
BEGIN:DAYLIGHT
TZOFFSETFROM:-0500
TZOFFSETTO:-0400
TZNAME:EDT
DTSTART:20150308T070000
END:DAYLIGHT
BEGIN:STANDARD
TZOFFSETFROM:-0400
TZOFFSETTO:-0500
TZNAME:EST
DTSTART:20151101T060000
END:STANDARD
BEGIN:DAYLIGHT
TZOFFSETFROM:-0500
TZOFFSETTO:-0400
TZNAME:EDT
DTSTART:20160313T070000
END:DAYLIGHT
BEGIN:STANDARD
TZOFFSETFROM:-0400
TZOFFSETTO:-0500
TZNAME:EST
DTSTART:20161106T060000
END:STANDARD
END:VTIMEZONE
BEGIN:VEVENT
DTSTART;TZID=America/New_York:20150509T110000
DTEND;TZID=America/New_York:20150509T140000
DTSTAMP:20260421T204641
CREATED:20150508T201254Z
LAST-MODIFIED:20150508T201254Z
UID:6034-1431169200-1431180000@playpittsburgh.com
SUMMARY:Down on the Farm Day at Round Hill Park Exhibition Farm
DESCRIPTION:Free & open to the public. Join us for a fun-filled day down on the farm! The day’s activities include: \n\n11:00 a.m. Explore the farm & meet the animals\n12:00 noon Watch the annual sheep shearing\n1:00 p.m. Sing along with Old MacDonald & Friends
URL:https://playpittsburgh.com/event/down-on-the-farm-day-at-round-hill-park-exhibition-farm/
LOCATION:Round Hill Park and Exhibit Farm\, 651 Round Hill Road\, Elizabeth\, PA\, 15037\, United States
GEO:40.2406579;-79.858582
X-APPLE-STRUCTURED-LOCATION;VALUE=URI;X-ADDRESS=Round Hill Park and Exhibit Farm 651 Round Hill Road Elizabeth PA 15037 United States;X-APPLE-RADIUS=500;X-TITLE=651 Round Hill Road:geo:-79.858582,40.2406579
END:VEVENT
BEGIN:VEVENT
DTSTART;TZID=America/New_York:20141207T140000
DTEND;TZID=America/New_York:20141207T150000
DTSTAMP:20260421T204641
CREATED:20141204T011228Z
LAST-MODIFIED:20141204T011228Z
UID:5075-1417960800-1417964400@playpittsburgh.com
SUMMARY:Blessing of the Animals
DESCRIPTION:Blessing of the Animals at Round Hill Farm. Large and small animals welcome! Meet at the Upper Barn.\nRefreshments available at the Visitors’ Center afterwards. Sponsored by White Oak Animal Safe Haven. Read more about our visit to Round Hill Farm here.
URL:https://playpittsburgh.com/event/blessing-of-the-animals/
LOCATION:Round Hill Park and Exhibit Farm\, 651 Round Hill Road\, Elizabeth\, PA\, 15037\, United States
GEO:40.2406579;-79.858582
X-APPLE-STRUCTURED-LOCATION;VALUE=URI;X-ADDRESS=Round Hill Park and Exhibit Farm 651 Round Hill Road Elizabeth PA 15037 United States;X-APPLE-RADIUS=500;X-TITLE=651 Round Hill Road:geo:-79.858582,40.2406579
END:VEVENT
BEGIN:VEVENT
DTSTART;TZID=America/New_York:20141206T100000
DTEND;TZID=America/New_York:20141206T110000
DTSTAMP:20260421T204641
CREATED:20141204T011057Z
LAST-MODIFIED:20141204T011057Z
UID:5074-1417860000-1417863600@playpittsburgh.com
SUMMARY:Make Edible Ornaments at Round Hills Farm
DESCRIPTION:Create tasty decorations sure to please the critters that visit your yard. Read more about Round Hill Farm here.
URL:https://playpittsburgh.com/event/make-edible-ornaments-at-round-hills-farm/
LOCATION:Round Hill Park and Exhibit Farm\, 651 Round Hill Road\, Elizabeth\, PA\, 15037\, United States
GEO:40.2406579;-79.858582
X-APPLE-STRUCTURED-LOCATION;VALUE=URI;X-ADDRESS=Round Hill Park and Exhibit Farm 651 Round Hill Road Elizabeth PA 15037 United States;X-APPLE-RADIUS=500;X-TITLE=651 Round Hill Road:geo:-79.858582,40.2406579
END:VEVENT
BEGIN:VEVENT
DTSTART;TZID=America/New_York:20140510T110000
DTEND;TZID=America/New_York:20140510T140000
DTSTAMP:20260421T204641
CREATED:20140507T171506Z
LAST-MODIFIED:20140507T171506Z
UID:1207-1399719600-1399730400@playpittsburgh.com
SUMMARY:Down on the Farm Day
DESCRIPTION:Round Hills Farm and park presents “Down on the Farm Day.” Round Hill Farm is a exhibit farm with fun things to do and see for kids of all ages. \n\n11am – 12pm: Explore the Farm and meet the animals\n12am – 1pm: Annual Sheep Shearing\n1pm – 2pm: Sing Along with Old McDonald and Friends\n\n 
URL:https://playpittsburgh.com/event/down-on-the-farm-day/
LOCATION:Round Hill Park and Exhibit Farm\, 651 Round Hill Road\, Elizabeth\, PA\, 15037\, United States
CATEGORIES:Animal Attractions,Free,Outdoor
GEO:40.2406579;-79.858582
X-APPLE-STRUCTURED-LOCATION;VALUE=URI;X-ADDRESS=Round Hill Park and Exhibit Farm 651 Round Hill Road Elizabeth PA 15037 United States;X-APPLE-RADIUS=500;X-TITLE=651 Round Hill Road:geo:-79.858582,40.2406579
END:VEVENT
END:VCALENDAR