BEGIN:VCALENDAR
VERSION:2.0
PRODID:-//Play Pittsburgh - ECPv6.15.20//NONSGML v1.0//EN
CALSCALE:GREGORIAN
METHOD:PUBLISH
X-WR-CALNAME:Play Pittsburgh
X-ORIGINAL-URL:https://playpittsburgh.com
X-WR-CALDESC:Events for Play Pittsburgh
REFRESH-INTERVAL;VALUE=DURATION:PT1H
X-Robots-Tag:noindex
X-PUBLISHED-TTL:PT1H
BEGIN:VTIMEZONE
TZID:America/New_York
BEGIN:DAYLIGHT
TZOFFSETFROM:-0500
TZOFFSETTO:-0400
TZNAME:EDT
DTSTART:20130310T070000
END:DAYLIGHT
BEGIN:STANDARD
TZOFFSETFROM:-0400
TZOFFSETTO:-0500
TZNAME:EST
DTSTART:20131103T060000
END:STANDARD
BEGIN:DAYLIGHT
TZOFFSETFROM:-0500
TZOFFSETTO:-0400
TZNAME:EDT
DTSTART:20140309T070000
END:DAYLIGHT
BEGIN:STANDARD
TZOFFSETFROM:-0400
TZOFFSETTO:-0500
TZNAME:EST
DTSTART:20141102T060000
END:STANDARD
BEGIN:DAYLIGHT
TZOFFSETFROM:-0500
TZOFFSETTO:-0400
TZNAME:EDT
DTSTART:20150308T070000
END:DAYLIGHT
BEGIN:STANDARD
TZOFFSETFROM:-0400
TZOFFSETTO:-0500
TZNAME:EST
DTSTART:20151101T060000
END:STANDARD
END:VTIMEZONE
BEGIN:VEVENT
DTSTART;TZID=America/New_York:20140812T210000
DTEND;TZID=America/New_York:20140812T223000
DTSTAMP:20260422T023612
CREATED:20140729T231944Z
LAST-MODIFIED:20140729T231944Z
UID:2927-1407877200-1407882600@playpittsburgh.com
SUMMARY:Family Movie Night @ Cranberry Community Park
DESCRIPTION:Watch the LEGO Movie FREE at Cranberry Community Park at Rotary Amphitheater. Movie begins at 9pm. Bring a blanket and/or lawn chair!
URL:https://playpittsburgh.com/event/family-movie-night-cranberry-community-park/
LOCATION:Rotary Amphitheater\, Ernie Mashuda Dr\, Cranberry \, PA\, 16066\, United States
CATEGORIES:Free,Outdoor
GEO:40.7116007;-80.1079608
X-APPLE-STRUCTURED-LOCATION;VALUE=URI;X-ADDRESS=Rotary Amphitheater Ernie Mashuda Dr Cranberry  PA 16066 United States;X-APPLE-RADIUS=500;X-TITLE=Ernie Mashuda Dr:geo:-80.1079608,40.7116007
END:VEVENT
END:VCALENDAR