BEGIN:VCALENDAR
VERSION:2.0
PRODID:-//Play Pittsburgh - ECPv6.15.20//NONSGML v1.0//EN
CALSCALE:GREGORIAN
METHOD:PUBLISH
X-WR-CALNAME:Play Pittsburgh
X-ORIGINAL-URL:https://playpittsburgh.com
X-WR-CALDESC:Events for Play Pittsburgh
REFRESH-INTERVAL;VALUE=DURATION:PT1H
X-Robots-Tag:noindex
X-PUBLISHED-TTL:PT1H
BEGIN:VTIMEZONE
TZID:America/New_York
BEGIN:DAYLIGHT
TZOFFSETFROM:-0500
TZOFFSETTO:-0400
TZNAME:EDT
DTSTART:20140309T070000
END:DAYLIGHT
BEGIN:STANDARD
TZOFFSETFROM:-0400
TZOFFSETTO:-0500
TZNAME:EST
DTSTART:20141102T060000
END:STANDARD
BEGIN:DAYLIGHT
TZOFFSETFROM:-0500
TZOFFSETTO:-0400
TZNAME:EDT
DTSTART:20150308T070000
END:DAYLIGHT
BEGIN:STANDARD
TZOFFSETFROM:-0400
TZOFFSETTO:-0500
TZNAME:EST
DTSTART:20151101T060000
END:STANDARD
BEGIN:DAYLIGHT
TZOFFSETFROM:-0500
TZOFFSETTO:-0400
TZNAME:EDT
DTSTART:20160313T070000
END:DAYLIGHT
BEGIN:STANDARD
TZOFFSETFROM:-0400
TZOFFSETTO:-0500
TZNAME:EST
DTSTART:20161106T060000
END:STANDARD
END:VTIMEZONE
BEGIN:VEVENT
DTSTART;TZID=America/New_York:20150825T130000
DTEND;TZID=America/New_York:20150825T150000
DTSTAMP:20260422T051154
CREATED:20150326T045439Z
LAST-MODIFIED:20150326T045439Z
UID:8423-1440507600-1440514800@playpittsburgh.com
SUMMARY:Tiny Tots at Romp n’ Roll Skating Rink
DESCRIPTION:Tot Tuesday at Romp n’Roll: a skate session open just for children 9 and under and their parents. Runs from 1pm – 3 pm and the $5.00 covers entry\, roller skate rental\, a slice of pizza and a drink. \nIf the supervising adult just wants to walk on the rink next to the children\, they don’t have to pay admission. A slice of pizza and a soda will cost $2.00.
URL:https://playpittsburgh.com/event/tiny-tots-at-romp-n-roll-skating-rink/2015-08-25/
LOCATION:Romp N’ Roll\, 1661 East Sutter Road\,  Glenshaw\, 15116
GEO:40.5367968;-79.9663603
X-APPLE-STRUCTURED-LOCATION;VALUE=URI;X-ADDRESS=Romp N’ Roll 1661 East Sutter Road  Glenshaw 15116;X-APPLE-RADIUS=500;X-TITLE=1661 East Sutter Road:geo:-79.9663603,40.5367968
END:VEVENT
BEGIN:VEVENT
DTSTART;TZID=America/New_York:20150818T130000
DTEND;TZID=America/New_York:20150818T150000
DTSTAMP:20260422T051154
CREATED:20150326T045439Z
LAST-MODIFIED:20150326T045439Z
UID:8422-1439902800-1439910000@playpittsburgh.com
SUMMARY:Tiny Tots at Romp n’ Roll Skating Rink
DESCRIPTION:Tot Tuesday at Romp n’Roll: a skate session open just for children 9 and under and their parents. Runs from 1pm – 3 pm and the $5.00 covers entry\, roller skate rental\, a slice of pizza and a drink. \nIf the supervising adult just wants to walk on the rink next to the children\, they don’t have to pay admission. A slice of pizza and a soda will cost $2.00.
URL:https://playpittsburgh.com/event/tiny-tots-at-romp-n-roll-skating-rink/2015-08-18/
LOCATION:Romp N’ Roll\, 1661 East Sutter Road\,  Glenshaw\, 15116
GEO:40.5367968;-79.9663603
X-APPLE-STRUCTURED-LOCATION;VALUE=URI;X-ADDRESS=Romp N’ Roll 1661 East Sutter Road  Glenshaw 15116;X-APPLE-RADIUS=500;X-TITLE=1661 East Sutter Road:geo:-79.9663603,40.5367968
END:VEVENT
BEGIN:VEVENT
DTSTART;TZID=America/New_York:20150811T130000
DTEND;TZID=America/New_York:20150811T150000
DTSTAMP:20260422T051154
CREATED:20150326T045439Z
LAST-MODIFIED:20150326T045439Z
UID:8421-1439298000-1439305200@playpittsburgh.com
SUMMARY:Tiny Tots at Romp n’ Roll Skating Rink
DESCRIPTION:Tot Tuesday at Romp n’Roll: a skate session open just for children 9 and under and their parents. Runs from 1pm – 3 pm and the $5.00 covers entry\, roller skate rental\, a slice of pizza and a drink. \nIf the supervising adult just wants to walk on the rink next to the children\, they don’t have to pay admission. A slice of pizza and a soda will cost $2.00.
URL:https://playpittsburgh.com/event/tiny-tots-at-romp-n-roll-skating-rink/2015-08-11/
LOCATION:Romp N’ Roll\, 1661 East Sutter Road\,  Glenshaw\, 15116
GEO:40.5367968;-79.9663603
X-APPLE-STRUCTURED-LOCATION;VALUE=URI;X-ADDRESS=Romp N’ Roll 1661 East Sutter Road  Glenshaw 15116;X-APPLE-RADIUS=500;X-TITLE=1661 East Sutter Road:geo:-79.9663603,40.5367968
END:VEVENT
BEGIN:VEVENT
DTSTART;TZID=America/New_York:20150804T130000
DTEND;TZID=America/New_York:20150804T150000
DTSTAMP:20260422T051154
CREATED:20150326T045439Z
LAST-MODIFIED:20150326T045439Z
UID:8420-1438693200-1438700400@playpittsburgh.com
SUMMARY:Tiny Tots at Romp n’ Roll Skating Rink
DESCRIPTION:Tot Tuesday at Romp n’Roll: a skate session open just for children 9 and under and their parents. Runs from 1pm – 3 pm and the $5.00 covers entry\, roller skate rental\, a slice of pizza and a drink. \nIf the supervising adult just wants to walk on the rink next to the children\, they don’t have to pay admission. A slice of pizza and a soda will cost $2.00.
URL:https://playpittsburgh.com/event/tiny-tots-at-romp-n-roll-skating-rink/2015-08-04/
LOCATION:Romp N’ Roll\, 1661 East Sutter Road\,  Glenshaw\, 15116
GEO:40.5367968;-79.9663603
X-APPLE-STRUCTURED-LOCATION;VALUE=URI;X-ADDRESS=Romp N’ Roll 1661 East Sutter Road  Glenshaw 15116;X-APPLE-RADIUS=500;X-TITLE=1661 East Sutter Road:geo:-79.9663603,40.5367968
END:VEVENT
BEGIN:VEVENT
DTSTART;TZID=America/New_York:20150728T130000
DTEND;TZID=America/New_York:20150728T150000
DTSTAMP:20260422T051154
CREATED:20150326T045439Z
LAST-MODIFIED:20150326T045439Z
UID:8419-1438088400-1438095600@playpittsburgh.com
SUMMARY:Tiny Tots at Romp n’ Roll Skating Rink
DESCRIPTION:Tot Tuesday at Romp n’Roll: a skate session open just for children 9 and under and their parents. Runs from 1pm – 3 pm and the $5.00 covers entry\, roller skate rental\, a slice of pizza and a drink. \nIf the supervising adult just wants to walk on the rink next to the children\, they don’t have to pay admission. A slice of pizza and a soda will cost $2.00.
URL:https://playpittsburgh.com/event/tiny-tots-at-romp-n-roll-skating-rink/2015-07-28/
LOCATION:Romp N’ Roll\, 1661 East Sutter Road\,  Glenshaw\, 15116
GEO:40.5367968;-79.9663603
X-APPLE-STRUCTURED-LOCATION;VALUE=URI;X-ADDRESS=Romp N’ Roll 1661 East Sutter Road  Glenshaw 15116;X-APPLE-RADIUS=500;X-TITLE=1661 East Sutter Road:geo:-79.9663603,40.5367968
END:VEVENT
BEGIN:VEVENT
DTSTART;TZID=America/New_York:20150721T130000
DTEND;TZID=America/New_York:20150721T150000
DTSTAMP:20260422T051154
CREATED:20150326T045439Z
LAST-MODIFIED:20150326T045439Z
UID:8418-1437483600-1437490800@playpittsburgh.com
SUMMARY:Tiny Tots at Romp n’ Roll Skating Rink
DESCRIPTION:Tot Tuesday at Romp n’Roll: a skate session open just for children 9 and under and their parents. Runs from 1pm – 3 pm and the $5.00 covers entry\, roller skate rental\, a slice of pizza and a drink. \nIf the supervising adult just wants to walk on the rink next to the children\, they don’t have to pay admission. A slice of pizza and a soda will cost $2.00.
URL:https://playpittsburgh.com/event/tiny-tots-at-romp-n-roll-skating-rink/2015-07-21/
LOCATION:Romp N’ Roll\, 1661 East Sutter Road\,  Glenshaw\, 15116
GEO:40.5367968;-79.9663603
X-APPLE-STRUCTURED-LOCATION;VALUE=URI;X-ADDRESS=Romp N’ Roll 1661 East Sutter Road  Glenshaw 15116;X-APPLE-RADIUS=500;X-TITLE=1661 East Sutter Road:geo:-79.9663603,40.5367968
END:VEVENT
BEGIN:VEVENT
DTSTART;TZID=America/New_York:20150714T130000
DTEND;TZID=America/New_York:20150714T150000
DTSTAMP:20260422T051154
CREATED:20150326T045439Z
LAST-MODIFIED:20150326T045439Z
UID:8417-1436878800-1436886000@playpittsburgh.com
SUMMARY:Tiny Tots at Romp n’ Roll Skating Rink
DESCRIPTION:Tot Tuesday at Romp n’Roll: a skate session open just for children 9 and under and their parents. Runs from 1pm – 3 pm and the $5.00 covers entry\, roller skate rental\, a slice of pizza and a drink. \nIf the supervising adult just wants to walk on the rink next to the children\, they don’t have to pay admission. A slice of pizza and a soda will cost $2.00.
URL:https://playpittsburgh.com/event/tiny-tots-at-romp-n-roll-skating-rink/2015-07-14/
LOCATION:Romp N’ Roll\, 1661 East Sutter Road\,  Glenshaw\, 15116
GEO:40.5367968;-79.9663603
X-APPLE-STRUCTURED-LOCATION;VALUE=URI;X-ADDRESS=Romp N’ Roll 1661 East Sutter Road  Glenshaw 15116;X-APPLE-RADIUS=500;X-TITLE=1661 East Sutter Road:geo:-79.9663603,40.5367968
END:VEVENT
BEGIN:VEVENT
DTSTART;TZID=America/New_York:20150707T130000
DTEND;TZID=America/New_York:20150707T150000
DTSTAMP:20260422T051154
CREATED:20150326T045439Z
LAST-MODIFIED:20150326T045439Z
UID:8416-1436274000-1436281200@playpittsburgh.com
SUMMARY:Tiny Tots at Romp n’ Roll Skating Rink
DESCRIPTION:Tot Tuesday at Romp n’Roll: a skate session open just for children 9 and under and their parents. Runs from 1pm – 3 pm and the $5.00 covers entry\, roller skate rental\, a slice of pizza and a drink. \nIf the supervising adult just wants to walk on the rink next to the children\, they don’t have to pay admission. A slice of pizza and a soda will cost $2.00.
URL:https://playpittsburgh.com/event/tiny-tots-at-romp-n-roll-skating-rink/2015-07-07/
LOCATION:Romp N’ Roll\, 1661 East Sutter Road\,  Glenshaw\, 15116
GEO:40.5367968;-79.9663603
X-APPLE-STRUCTURED-LOCATION;VALUE=URI;X-ADDRESS=Romp N’ Roll 1661 East Sutter Road  Glenshaw 15116;X-APPLE-RADIUS=500;X-TITLE=1661 East Sutter Road:geo:-79.9663603,40.5367968
END:VEVENT
BEGIN:VEVENT
DTSTART;TZID=America/New_York:20150630T130000
DTEND;TZID=America/New_York:20150630T150000
DTSTAMP:20260422T051154
CREATED:20150326T045439Z
LAST-MODIFIED:20150326T045439Z
UID:8415-1435669200-1435676400@playpittsburgh.com
SUMMARY:Tiny Tots at Romp n’ Roll Skating Rink
DESCRIPTION:Tot Tuesday at Romp n’Roll: a skate session open just for children 9 and under and their parents. Runs from 1pm – 3 pm and the $5.00 covers entry\, roller skate rental\, a slice of pizza and a drink. \nIf the supervising adult just wants to walk on the rink next to the children\, they don’t have to pay admission. A slice of pizza and a soda will cost $2.00.
URL:https://playpittsburgh.com/event/tiny-tots-at-romp-n-roll-skating-rink/2015-06-30/
LOCATION:Romp N’ Roll\, 1661 East Sutter Road\,  Glenshaw\, 15116
GEO:40.5367968;-79.9663603
X-APPLE-STRUCTURED-LOCATION;VALUE=URI;X-ADDRESS=Romp N’ Roll 1661 East Sutter Road  Glenshaw 15116;X-APPLE-RADIUS=500;X-TITLE=1661 East Sutter Road:geo:-79.9663603,40.5367968
END:VEVENT
BEGIN:VEVENT
DTSTART;TZID=America/New_York:20150623T130000
DTEND;TZID=America/New_York:20150623T150000
DTSTAMP:20260422T051154
CREATED:20150326T045439Z
LAST-MODIFIED:20150326T045439Z
UID:8406-1435064400-1435071600@playpittsburgh.com
SUMMARY:Tiny Tots at Romp n’ Roll Skating Rink
DESCRIPTION:Tot Tuesday at Romp n’Roll: a skate session open just for children 9 and under and their parents. Runs from 1pm – 3 pm and the $5.00 covers entry\, roller skate rental\, a slice of pizza and a drink. \nIf the supervising adult just wants to walk on the rink next to the children\, they don’t have to pay admission. A slice of pizza and a soda will cost $2.00.
URL:https://playpittsburgh.com/event/tiny-tots-at-romp-n-roll-skating-rink/2015-06-23/
LOCATION:Romp N’ Roll\, 1661 East Sutter Road\,  Glenshaw\, 15116
GEO:40.5367968;-79.9663603
X-APPLE-STRUCTURED-LOCATION;VALUE=URI;X-ADDRESS=Romp N’ Roll 1661 East Sutter Road  Glenshaw 15116;X-APPLE-RADIUS=500;X-TITLE=1661 East Sutter Road:geo:-79.9663603,40.5367968
END:VEVENT
BEGIN:VEVENT
DTSTART;TZID=America/New_York:20150616T130000
DTEND;TZID=America/New_York:20150616T150000
DTSTAMP:20260422T051154
CREATED:20150326T045439Z
LAST-MODIFIED:20150326T045439Z
UID:8405-1434459600-1434466800@playpittsburgh.com
SUMMARY:Tiny Tots at Romp n’ Roll Skating Rink
DESCRIPTION:Tot Tuesday at Romp n’Roll: a skate session open just for children 9 and under and their parents. Runs from 1pm – 3 pm and the $5.00 covers entry\, roller skate rental\, a slice of pizza and a drink. \nIf the supervising adult just wants to walk on the rink next to the children\, they don’t have to pay admission. A slice of pizza and a soda will cost $2.00.
URL:https://playpittsburgh.com/event/tiny-tots-at-romp-n-roll-skating-rink/2015-06-16/
LOCATION:Romp N’ Roll\, 1661 East Sutter Road\,  Glenshaw\, 15116
GEO:40.5367968;-79.9663603
X-APPLE-STRUCTURED-LOCATION;VALUE=URI;X-ADDRESS=Romp N’ Roll 1661 East Sutter Road  Glenshaw 15116;X-APPLE-RADIUS=500;X-TITLE=1661 East Sutter Road:geo:-79.9663603,40.5367968
END:VEVENT
BEGIN:VEVENT
DTSTART;TZID=America/New_York:20150609T130000
DTEND;TZID=America/New_York:20150609T150000
DTSTAMP:20260422T051154
CREATED:20150326T045439Z
LAST-MODIFIED:20150326T045439Z
UID:8404-1433854800-1433862000@playpittsburgh.com
SUMMARY:Tiny Tots at Romp n’ Roll Skating Rink
DESCRIPTION:Tot Tuesday at Romp n’Roll: a skate session open just for children 9 and under and their parents. Runs from 1pm – 3 pm and the $5.00 covers entry\, roller skate rental\, a slice of pizza and a drink. \nIf the supervising adult just wants to walk on the rink next to the children\, they don’t have to pay admission. A slice of pizza and a soda will cost $2.00.
URL:https://playpittsburgh.com/event/tiny-tots-at-romp-n-roll-skating-rink/2015-06-09/
LOCATION:Romp N’ Roll\, 1661 East Sutter Road\,  Glenshaw\, 15116
GEO:40.5367968;-79.9663603
X-APPLE-STRUCTURED-LOCATION;VALUE=URI;X-ADDRESS=Romp N’ Roll 1661 East Sutter Road  Glenshaw 15116;X-APPLE-RADIUS=500;X-TITLE=1661 East Sutter Road:geo:-79.9663603,40.5367968
END:VEVENT
BEGIN:VEVENT
DTSTART;TZID=America/New_York:20150602T130000
DTEND;TZID=America/New_York:20150602T150000
DTSTAMP:20260422T051154
CREATED:20150326T045439Z
LAST-MODIFIED:20150326T045439Z
UID:8403-1433250000-1433257200@playpittsburgh.com
SUMMARY:Tiny Tots at Romp n’ Roll Skating Rink
DESCRIPTION:Tot Tuesday at Romp n’Roll: a skate session open just for children 9 and under and their parents. Runs from 1pm – 3 pm and the $5.00 covers entry\, roller skate rental\, a slice of pizza and a drink. \nIf the supervising adult just wants to walk on the rink next to the children\, they don’t have to pay admission. A slice of pizza and a soda will cost $2.00.
URL:https://playpittsburgh.com/event/tiny-tots-at-romp-n-roll-skating-rink/2015-06-02/
LOCATION:Romp N’ Roll\, 1661 East Sutter Road\,  Glenshaw\, 15116
GEO:40.5367968;-79.9663603
X-APPLE-STRUCTURED-LOCATION;VALUE=URI;X-ADDRESS=Romp N’ Roll 1661 East Sutter Road  Glenshaw 15116;X-APPLE-RADIUS=500;X-TITLE=1661 East Sutter Road:geo:-79.9663603,40.5367968
END:VEVENT
BEGIN:VEVENT
DTSTART;TZID=America/New_York:20150526T130000
DTEND;TZID=America/New_York:20150526T150000
DTSTAMP:20260422T051154
CREATED:20150326T045439Z
LAST-MODIFIED:20150326T045439Z
UID:8396-1432645200-1432652400@playpittsburgh.com
SUMMARY:Tiny Tots at Romp n’ Roll Skating Rink
DESCRIPTION:Tot Tuesday at Romp n’Roll: a skate session open just for children 9 and under and their parents. Runs from 1pm – 3 pm and the $5.00 covers entry\, roller skate rental\, a slice of pizza and a drink. \nIf the supervising adult just wants to walk on the rink next to the children\, they don’t have to pay admission. A slice of pizza and a soda will cost $2.00.
URL:https://playpittsburgh.com/event/tiny-tots-at-romp-n-roll-skating-rink/2015-05-26/
LOCATION:Romp N’ Roll\, 1661 East Sutter Road\,  Glenshaw\, 15116
GEO:40.5367968;-79.9663603
X-APPLE-STRUCTURED-LOCATION;VALUE=URI;X-ADDRESS=Romp N’ Roll 1661 East Sutter Road  Glenshaw 15116;X-APPLE-RADIUS=500;X-TITLE=1661 East Sutter Road:geo:-79.9663603,40.5367968
END:VEVENT
BEGIN:VEVENT
DTSTART;TZID=America/New_York:20150519T130000
DTEND;TZID=America/New_York:20150519T150000
DTSTAMP:20260422T051154
CREATED:20150326T045439Z
LAST-MODIFIED:20150326T045439Z
UID:8395-1432040400-1432047600@playpittsburgh.com
SUMMARY:Tiny Tots at Romp n’ Roll Skating Rink
DESCRIPTION:Tot Tuesday at Romp n’Roll: a skate session open just for children 9 and under and their parents. Runs from 1pm – 3 pm and the $5.00 covers entry\, roller skate rental\, a slice of pizza and a drink. \nIf the supervising adult just wants to walk on the rink next to the children\, they don’t have to pay admission. A slice of pizza and a soda will cost $2.00.
URL:https://playpittsburgh.com/event/tiny-tots-at-romp-n-roll-skating-rink/2015-05-19/
LOCATION:Romp N’ Roll\, 1661 East Sutter Road\,  Glenshaw\, 15116
GEO:40.5367968;-79.9663603
X-APPLE-STRUCTURED-LOCATION;VALUE=URI;X-ADDRESS=Romp N’ Roll 1661 East Sutter Road  Glenshaw 15116;X-APPLE-RADIUS=500;X-TITLE=1661 East Sutter Road:geo:-79.9663603,40.5367968
END:VEVENT
BEGIN:VEVENT
DTSTART;TZID=America/New_York:20150512T130000
DTEND;TZID=America/New_York:20150512T150000
DTSTAMP:20260422T051154
CREATED:20150326T045439Z
LAST-MODIFIED:20150326T045439Z
UID:8394-1431435600-1431442800@playpittsburgh.com
SUMMARY:Tiny Tots at Romp n’ Roll Skating Rink
DESCRIPTION:Tot Tuesday at Romp n’Roll: a skate session open just for children 9 and under and their parents. Runs from 1pm – 3 pm and the $5.00 covers entry\, roller skate rental\, a slice of pizza and a drink. \nIf the supervising adult just wants to walk on the rink next to the children\, they don’t have to pay admission. A slice of pizza and a soda will cost $2.00.
URL:https://playpittsburgh.com/event/tiny-tots-at-romp-n-roll-skating-rink/2015-05-12/
LOCATION:Romp N’ Roll\, 1661 East Sutter Road\,  Glenshaw\, 15116
GEO:40.5367968;-79.9663603
X-APPLE-STRUCTURED-LOCATION;VALUE=URI;X-ADDRESS=Romp N’ Roll 1661 East Sutter Road  Glenshaw 15116;X-APPLE-RADIUS=500;X-TITLE=1661 East Sutter Road:geo:-79.9663603,40.5367968
END:VEVENT
BEGIN:VEVENT
DTSTART;TZID=America/New_York:20150505T130000
DTEND;TZID=America/New_York:20150505T150000
DTSTAMP:20260422T051154
CREATED:20150326T045439Z
LAST-MODIFIED:20150326T045439Z
UID:8393-1430830800-1430838000@playpittsburgh.com
SUMMARY:Tiny Tots at Romp n’ Roll Skating Rink
DESCRIPTION:Tot Tuesday at Romp n’Roll: a skate session open just for children 9 and under and their parents. Runs from 1pm – 3 pm and the $5.00 covers entry\, roller skate rental\, a slice of pizza and a drink. \nIf the supervising adult just wants to walk on the rink next to the children\, they don’t have to pay admission. A slice of pizza and a soda will cost $2.00.
URL:https://playpittsburgh.com/event/tiny-tots-at-romp-n-roll-skating-rink/2015-05-05/
LOCATION:Romp N’ Roll\, 1661 East Sutter Road\,  Glenshaw\, 15116
GEO:40.5367968;-79.9663603
X-APPLE-STRUCTURED-LOCATION;VALUE=URI;X-ADDRESS=Romp N’ Roll 1661 East Sutter Road  Glenshaw 15116;X-APPLE-RADIUS=500;X-TITLE=1661 East Sutter Road:geo:-79.9663603,40.5367968
END:VEVENT
BEGIN:VEVENT
DTSTART;TZID=America/New_York:20150428T130000
DTEND;TZID=America/New_York:20150428T150000
DTSTAMP:20260422T051154
CREATED:20150326T045439Z
LAST-MODIFIED:20150326T045439Z
UID:8392-1430226000-1430233200@playpittsburgh.com
SUMMARY:Tiny Tots at Romp n’ Roll Skating Rink
DESCRIPTION:Tot Tuesday at Romp n’Roll: a skate session open just for children 9 and under and their parents. Runs from 1pm – 3 pm and the $5.00 covers entry\, roller skate rental\, a slice of pizza and a drink. \nIf the supervising adult just wants to walk on the rink next to the children\, they don’t have to pay admission. A slice of pizza and a soda will cost $2.00.
URL:https://playpittsburgh.com/event/tiny-tots-at-romp-n-roll-skating-rink/2015-04-28/
LOCATION:Romp N’ Roll\, 1661 East Sutter Road\,  Glenshaw\, 15116
GEO:40.5367968;-79.9663603
X-APPLE-STRUCTURED-LOCATION;VALUE=URI;X-ADDRESS=Romp N’ Roll 1661 East Sutter Road  Glenshaw 15116;X-APPLE-RADIUS=500;X-TITLE=1661 East Sutter Road:geo:-79.9663603,40.5367968
END:VEVENT
BEGIN:VEVENT
DTSTART;TZID=America/New_York:20150421T130000
DTEND;TZID=America/New_York:20150421T150000
DTSTAMP:20260422T051154
CREATED:20150326T045439Z
LAST-MODIFIED:20150326T045439Z
UID:8391-1429621200-1429628400@playpittsburgh.com
SUMMARY:Tiny Tots at Romp n’ Roll Skating Rink
DESCRIPTION:Tot Tuesday at Romp n’Roll: a skate session open just for children 9 and under and their parents. Runs from 1pm – 3 pm and the $5.00 covers entry\, roller skate rental\, a slice of pizza and a drink. \nIf the supervising adult just wants to walk on the rink next to the children\, they don’t have to pay admission. A slice of pizza and a soda will cost $2.00.
URL:https://playpittsburgh.com/event/tiny-tots-at-romp-n-roll-skating-rink/2015-04-21/
LOCATION:Romp N’ Roll\, 1661 East Sutter Road\,  Glenshaw\, 15116
GEO:40.5367968;-79.9663603
X-APPLE-STRUCTURED-LOCATION;VALUE=URI;X-ADDRESS=Romp N’ Roll 1661 East Sutter Road  Glenshaw 15116;X-APPLE-RADIUS=500;X-TITLE=1661 East Sutter Road:geo:-79.9663603,40.5367968
END:VEVENT
BEGIN:VEVENT
DTSTART;TZID=America/New_York:20150414T130000
DTEND;TZID=America/New_York:20150414T150000
DTSTAMP:20260422T051154
CREATED:20150326T045439Z
LAST-MODIFIED:20150326T045439Z
UID:8390-1429016400-1429023600@playpittsburgh.com
SUMMARY:Tiny Tots at Romp n’ Roll Skating Rink
DESCRIPTION:Tot Tuesday at Romp n’Roll: a skate session open just for children 9 and under and their parents. Runs from 1pm – 3 pm and the $5.00 covers entry\, roller skate rental\, a slice of pizza and a drink. \nIf the supervising adult just wants to walk on the rink next to the children\, they don’t have to pay admission. A slice of pizza and a soda will cost $2.00.
URL:https://playpittsburgh.com/event/tiny-tots-at-romp-n-roll-skating-rink/2015-04-14/
LOCATION:Romp N’ Roll\, 1661 East Sutter Road\,  Glenshaw\, 15116
GEO:40.5367968;-79.9663603
X-APPLE-STRUCTURED-LOCATION;VALUE=URI;X-ADDRESS=Romp N’ Roll 1661 East Sutter Road  Glenshaw 15116;X-APPLE-RADIUS=500;X-TITLE=1661 East Sutter Road:geo:-79.9663603,40.5367968
END:VEVENT
BEGIN:VEVENT
DTSTART;TZID=America/New_York:20150407T130000
DTEND;TZID=America/New_York:20150407T150000
DTSTAMP:20260422T051154
CREATED:20150326T045439Z
LAST-MODIFIED:20150326T045439Z
UID:8389-1428411600-1428418800@playpittsburgh.com
SUMMARY:Tiny Tots at Romp n’ Roll Skating Rink
DESCRIPTION:Tot Tuesday at Romp n’Roll: a skate session open just for children 9 and under and their parents. Runs from 1pm – 3 pm and the $5.00 covers entry\, roller skate rental\, a slice of pizza and a drink. \nIf the supervising adult just wants to walk on the rink next to the children\, they don’t have to pay admission. A slice of pizza and a soda will cost $2.00.
URL:https://playpittsburgh.com/event/tiny-tots-at-romp-n-roll-skating-rink/2015-04-07/
LOCATION:Romp N’ Roll\, 1661 East Sutter Road\,  Glenshaw\, 15116
GEO:40.5367968;-79.9663603
X-APPLE-STRUCTURED-LOCATION;VALUE=URI;X-ADDRESS=Romp N’ Roll 1661 East Sutter Road  Glenshaw 15116;X-APPLE-RADIUS=500;X-TITLE=1661 East Sutter Road:geo:-79.9663603,40.5367968
END:VEVENT
BEGIN:VEVENT
DTSTART;TZID=America/New_York:20150331T130000
DTEND;TZID=America/New_York:20150331T150000
DTSTAMP:20260422T051154
CREATED:20150326T045439Z
LAST-MODIFIED:20150326T045439Z
UID:5735-1427806800-1427814000@playpittsburgh.com
SUMMARY:Tiny Tots at Romp n’ Roll Skating Rink
DESCRIPTION:Tot Tuesday at Romp n’Roll: a skate session open just for children 9 and under and their parents. Runs from 1pm – 3 pm and the $5.00 covers entry\, roller skate rental\, a slice of pizza and a drink. \nIf the supervising adult just wants to walk on the rink next to the children\, they don’t have to pay admission. A slice of pizza and a soda will cost $2.00.
URL:https://playpittsburgh.com/event/tiny-tots-at-romp-n-roll-skating-rink/2015-03-31/
LOCATION:Romp N’ Roll\, 1661 East Sutter Road\,  Glenshaw\, 15116
GEO:40.5367968;-79.9663603
X-APPLE-STRUCTURED-LOCATION;VALUE=URI;X-ADDRESS=Romp N’ Roll 1661 East Sutter Road  Glenshaw 15116;X-APPLE-RADIUS=500;X-TITLE=1661 East Sutter Road:geo:-79.9663603,40.5367968
END:VEVENT
END:VCALENDAR