BEGIN:VCALENDAR
VERSION:2.0
PRODID:-//Play Pittsburgh - ECPv6.15.20//NONSGML v1.0//EN
CALSCALE:GREGORIAN
METHOD:PUBLISH
X-WR-CALNAME:Play Pittsburgh
X-ORIGINAL-URL:https://playpittsburgh.com
X-WR-CALDESC:Events for Play Pittsburgh
REFRESH-INTERVAL;VALUE=DURATION:PT1H
X-Robots-Tag:noindex
X-PUBLISHED-TTL:PT1H
BEGIN:VTIMEZONE
TZID:America/New_York
BEGIN:DAYLIGHT
TZOFFSETFROM:-0500
TZOFFSETTO:-0400
TZNAME:EDT
DTSTART:20130310T070000
END:DAYLIGHT
BEGIN:STANDARD
TZOFFSETFROM:-0400
TZOFFSETTO:-0500
TZNAME:EST
DTSTART:20131103T060000
END:STANDARD
BEGIN:DAYLIGHT
TZOFFSETFROM:-0500
TZOFFSETTO:-0400
TZNAME:EDT
DTSTART:20140309T070000
END:DAYLIGHT
BEGIN:STANDARD
TZOFFSETFROM:-0400
TZOFFSETTO:-0500
TZNAME:EST
DTSTART:20141102T060000
END:STANDARD
BEGIN:DAYLIGHT
TZOFFSETFROM:-0500
TZOFFSETTO:-0400
TZNAME:EDT
DTSTART:20150308T070000
END:DAYLIGHT
BEGIN:STANDARD
TZOFFSETFROM:-0400
TZOFFSETTO:-0500
TZNAME:EST
DTSTART:20151101T060000
END:STANDARD
END:VTIMEZONE
BEGIN:VEVENT
DTSTART;VALUE=DATE:20140731
DTEND;VALUE=DATE:20140804
DTSTAMP:20260422T132241
CREATED:20140729T220229Z
LAST-MODIFIED:20140729T220229Z
UID:2909-1406764800-1407110399@playpittsburgh.com
SUMMARY:Armstrong Folk Festival
DESCRIPTION:An annual festival held along the banks of the beautiful Allegheny River in Kittanning. This Festival exists to honor and celebrate our rich history and heritage in Armstrong County. Featuring a handcrafted artist market with exhibitors in period dress\, musical entertainment on two stages\, historical entertainment and demonstrations throughout\, including heritage arts & crafts\, vehicle displays\, delicious festival food\, and much more! Each year\, the Festival begins on Thursday and ends on the first Sunday in August. \nThursday\, 31st July \n\n\nAll Day: Horse & Carriage Rides\nAll Day: Music\, Historic Displays\, Food\, Activities\nAll Day: Spinning Demonstration\nAll Day: Blacksmith Demonstration\n5:00 pm: Muscle Car Display\n6:00 pm: Jackie Brocious: Solo Vocalist\n6:00 pm: Opening Ceremonies\n6:30 pm: Kittanning Fireman’s Band\n7:00 pm: Ava Bosco: Solo Vocalist\n7:30 pm: Festividol Competition\n8:00 pm: Madison Starr Kunst & T.O.G.:Acoustic\n\n\n Friday\, 1st August \n\n\nAll Day: Music\, Historic Displays\, Food\, Activities\nAll Day: Blacksmith Demonstration\nAll Day: Horse & Carriage Rides\nAll Day: Spinning Demonstration\n5:00 pm: Convertible Display\n6:00 pm: Dulcimer & Harp\n6:00 pm: Summit Academy Percussion Group\n6:00 pm: Madison Starr Kunst & T.O.G.: Acoustic\n6:30 pm: Summit Academy Percussion Group\n7:00 pm: Frailey Scaife: Solo Vocalist\n8:00 pm: Charee White Band\n8:00 pm: Michaela Dalessio: Solo Vocalist\n9:00 pm: Jackie Brocious: Solo Vocalist\n\n\n Saturday\, 2nd August \n\n\nAll Day: Blacksmith Demonstration\nAll Day: Spinning Demonstration\nAll Day: Horse & Carriage Rides\nAll Day: Music\, Historic Displays\, Food\, Activities\n6:30 am: Raise The Roof 5K Race\n12:00 pm: Compact Car Display\n1:00 pm: Armstrong County Theater Group\n1:00 pm: Claire Osborne Music Students\n2:00 pm: Fiddle Contest\n3:30 pm: Virgil Harden & the Appalachian Countdown\n5:00 pm: Kim Thomas & Diamonds in the Rough\n7:00 pm: Frailey Scaife: Solo Vocalist\n8:00 pm: The Jentz Band\n9:00 pm: Jackie Brocious\n10:00 pm: Fireworks\nSunday\, 3rd August\nAll Day: Blacksmith Demonstration\nAll Day: Spinning Demonstration\nAll Day: Music\, Historic Displays\, Food\, Activities\nAll Day: Horse & Carriage Rides\n1:00 pm: Pittsburgh Balmoral Pipes and Drums\n2:00 pm: Dulcimer & Harp\n2:00 pm: All God’s Creatures\n2:00 pm: Big Fat Jazz Band\n2:45 pm: Buffo the World’s Strongest Clown\n4:00 pm: Pine Creek Community Band\n4:00 pm: All God’s Creatures\n4:45 pm: Buffo the World’s Strongest Clown\n6:00 pm: Ava Bosco\n7:00 pm: Madison Starr Kunst and T.O.G\n7:00 pm: The Vogues\n8:00 pm: Frailey Scaife
URL:https://playpittsburgh.com/event/armstrong-folk-festival/
LOCATION:Riverfront Park\, Market St. and North Water St.\, Kittanning\, PA\, 16201\, United States
CATEGORIES:Festivals,Outdoor,Performing Arts
GEO:40.8134878;-79.5209529
X-APPLE-STRUCTURED-LOCATION;VALUE=URI;X-ADDRESS=Riverfront Park Market St. and North Water St. Kittanning PA 16201 United States;X-APPLE-RADIUS=500;X-TITLE=Market St. and North Water St.:geo:-79.5209529,40.8134878
END:VEVENT
END:VCALENDAR